BEGIN:VCALENDAR
VERSION:2.0
PRODID:-//Pécs-Baranyai Kereskedelmi és Iparkamara - ECPv6.15.20//NONSGML v1.0//EN
CALSCALE:GREGORIAN
METHOD:PUBLISH
X-WR-CALNAME:Pécs-Baranyai Kereskedelmi és Iparkamara
X-ORIGINAL-URL:https://pbkik.hu
X-WR-CALDESC:Események Pécs-Baranyai Kereskedelmi és Iparkamara
REFRESH-INTERVAL;VALUE=DURATION:PT1H
X-Robots-Tag:noindex
X-PUBLISHED-TTL:PT1H
BEGIN:VTIMEZONE
TZID:Europe/Budapest
BEGIN:DAYLIGHT
TZOFFSETFROM:+0100
TZOFFSETTO:+0200
TZNAME:CEST
DTSTART:20220327T010000
END:DAYLIGHT
BEGIN:STANDARD
TZOFFSETFROM:+0200
TZOFFSETTO:+0100
TZNAME:CET
DTSTART:20221030T010000
END:STANDARD
BEGIN:DAYLIGHT
TZOFFSETFROM:+0100
TZOFFSETTO:+0200
TZNAME:CEST
DTSTART:20230326T010000
END:DAYLIGHT
BEGIN:STANDARD
TZOFFSETFROM:+0200
TZOFFSETTO:+0100
TZNAME:CET
DTSTART:20231029T010000
END:STANDARD
BEGIN:DAYLIGHT
TZOFFSETFROM:+0100
TZOFFSETTO:+0200
TZNAME:CEST
DTSTART:20240331T010000
END:DAYLIGHT
BEGIN:STANDARD
TZOFFSETFROM:+0200
TZOFFSETTO:+0100
TZNAME:CET
DTSTART:20241027T010000
END:STANDARD
END:VTIMEZONE
BEGIN:VEVENT
DTSTART;TZID=Europe/Budapest:20230912T140000
DTEND;TZID=Europe/Budapest:20230912T160000
DTSTAMP:20260420T045157
CREATED:20230818T090822Z
LAST-MODIFIED:20230818T091808Z
UID:10002832-1694527200-1694534400@pbkik.hu
SUMMARY:Knowledge to Money klubnap
DESCRIPTION:A HEPA Enterprise Europe Network társ-szervezésében Knowledge to Money Club napra kerül sor 2023. szeptember 12-én. \n\n\nA hazai üzleti coach-okkal közösen szervezett rendezvény segítséget nyújt a KKV-k innovatív fejlesztéseit finanszírozó Horizont Európa program keretében meghirdetett EIC Accelerator felhívásra szóló pályázat elkészítéséhez. Szó lesz az egyéb közvetlen brüsszeli pályázati forrásokról\, valamint az EIT pályázatokról is. \nHelyszín: HEPA Magyar Exportfejlesztési Ügynökség\, 1027 Budapest\, Kacsa utca 15-23\, földszint \nIdőpont: 2023. szeptember 12. 14.00 \nREGISZTRÁCIÓ  \n14.00 – 14:05 Megnyitó – Pesti István\, Dervalics Ákos – K2M Club alapítók \n14:05 – 14:15 HEPA Enterprise Europe Network szolgáltatásai kiemelten az EIC Accelerator program kapcsán – Holly Sára\, HEPA Enterprise Europe Network \n14:15 – 14:35 Az European Innovation Council (EIC Accelerator) program aktualitásai – Mészáros Gergely\, Nemzeti Kutatási\, Fejlesztési és Innovációs Hivatal\, \n14:35 – 14:55 NbyN – The New Generation Needle by Needle Knitting Machine – Nyertes EIC Accelerator projekt tapasztalatai 2023-ban a szakértő szemével – Hetyei Gábor\, CERC \n14.55 – 15.10 Szünet\, networking \n15:10 – 15:30 A gondolkodásmód\, ami sikerre vezet EIT pályázatokban – Dr. Lőrincz András\, Green Brother \n15.30 – 15.40 Hazai kkv-k lehetőségei a közvetlen brüsszeli EU alapokból elnyerhető forrásoknál – Dászkál János\, Magyar Fejlesztésösztönző Iroda Nonprofit Kft. \n15:40 – 16:00 A Nemzeti Innovációs Ügynökség szerepe EU pályázatokban – Dr. Rodek Nóra\, Nemzeti Innovációs Ügynökség \nA klubnap társszervezői: a HEPA Magyar Exportfejlesztési Ügynökség Nonprofit Zrt\, Enterprise Europe Network\, Nemzeti Kutatási\, Fejlesztési és Innovációs Hivatal. \nA Pécs-Baranyai Kereskedelmi és Iparkamara az Enterprise Europe Network dél-dunántúli irodájának működtetője.
URL:https://pbkik.hu/esemeny/knowledge-to-money-klubnap-4/
LOCATION:HEPA Magyar Exportfejlesztési Ügynökség székháza\, 1027 Budapest\, Kacsa utca 15.\, Budapest\, 1027
END:VEVENT
BEGIN:VEVENT
DTSTART;TZID=Europe/Budapest:20230926T100000
DTEND;TZID=Europe/Budapest:20230926T110000
DTSTAMP:20260420T045157
CREATED:20230904T115126Z
LAST-MODIFIED:20230904T120049Z
UID:10002369-1695722400-1695726000@pbkik.hu
SUMMARY:Hasznosítás és üzleti tervezés a könnyűsúlyú anyagok területén
DESCRIPTION:A könnyűsúlyú termékek és a kapcsolódó technológiák sikeres piacra lépése nagymértékben függ a fejlesztés korai szakaszától kezdve a jó és megalapozott üzleti tervezéstől. Ezen a webináriumon a hasznosítás legfontosabb szempontjait tekintjük át\, amelyeket már a koncepcióalkotás kezdetétől figyelembe kell venni\, beleértve a piacra jutási stratégia megtervezését\, amely lehetővé teszi a könnyűszerkezetes piacra való belépést és a növekedés felgyorsítását. \n \nA webinárium az AMULET projekt keretében valósul meg. Az AMULET projekt célja\, hogy jelentősen hozzájáruljon a CO2-kibocsátás csökkentéséhez az EU-ban a kkv-k szerepének megerősítésével\, amelyek innovációit várhatóan a klaszterek fogják elősegíteni és támogatni. Az AMULET feladata az új értékláncok létrehozása a korszerű könnyűsúlyú anyagok elterjedésének segítésével a különböző területeken\, a régiók és ágazatok közötti tudástranszfer révén. \n  \nEz a webinárium a könnyűsúlyú termékek és technológiák hasznosításában érdekelt valamennyi érdekelt félnek szól a különböző ágazatokban\, a kutatóközpontoktól és egyetemektől kezdve a hatóságokig és vállalatokig\, különösen a kkv-kig. \n  \nA webináriumon való részvétel ingyenes! \n  \nElőzetes regisztráció szükséges a következő linken: https://amulet-h2020.eu/webinar-business-planning/ \nIsmerje meg a projektet\, és a további programokat\, lehetőségeket is. \n\n 
URL:https://pbkik.hu/esemeny/hasznositas-es-uzleti-tervezes-a-konnyusulyu-anyagok-teruleten/
LOCATION:Online
END:VEVENT
END:VCALENDAR