BEGIN:VCALENDAR
VERSION:2.0
PRODID:-//Pécs-Baranyai Kereskedelmi és Iparkamara - ECPv6.15.20//NONSGML v1.0//EN
CALSCALE:GREGORIAN
METHOD:PUBLISH
X-WR-CALNAME:Pécs-Baranyai Kereskedelmi és Iparkamara
X-ORIGINAL-URL:https://pbkik.hu
X-WR-CALDESC:Események Pécs-Baranyai Kereskedelmi és Iparkamara
REFRESH-INTERVAL;VALUE=DURATION:PT1H
X-Robots-Tag:noindex
X-PUBLISHED-TTL:PT1H
BEGIN:VTIMEZONE
TZID:Europe/Budapest
BEGIN:DAYLIGHT
TZOFFSETFROM:+0100
TZOFFSETTO:+0200
TZNAME:CEST
DTSTART:20230326T010000
END:DAYLIGHT
BEGIN:STANDARD
TZOFFSETFROM:+0200
TZOFFSETTO:+0100
TZNAME:CET
DTSTART:20231029T010000
END:STANDARD
BEGIN:DAYLIGHT
TZOFFSETFROM:+0100
TZOFFSETTO:+0200
TZNAME:CEST
DTSTART:20240331T010000
END:DAYLIGHT
BEGIN:STANDARD
TZOFFSETFROM:+0200
TZOFFSETTO:+0100
TZNAME:CET
DTSTART:20241027T010000
END:STANDARD
BEGIN:DAYLIGHT
TZOFFSETFROM:+0100
TZOFFSETTO:+0200
TZNAME:CEST
DTSTART:20250330T010000
END:DAYLIGHT
BEGIN:STANDARD
TZOFFSETFROM:+0200
TZOFFSETTO:+0100
TZNAME:CET
DTSTART:20251026T010000
END:STANDARD
BEGIN:DAYLIGHT
TZOFFSETFROM:+0100
TZOFFSETTO:+0200
TZNAME:CEST
DTSTART:20260329T010000
END:DAYLIGHT
BEGIN:STANDARD
TZOFFSETFROM:+0200
TZOFFSETTO:+0100
TZNAME:CET
DTSTART:20261025T010000
END:STANDARD
BEGIN:DAYLIGHT
TZOFFSETFROM:+0100
TZOFFSETTO:+0200
TZNAME:CEST
DTSTART:20270328T010000
END:DAYLIGHT
BEGIN:STANDARD
TZOFFSETFROM:+0200
TZOFFSETTO:+0100
TZNAME:CET
DTSTART:20271031T010000
END:STANDARD
END:VTIMEZONE
BEGIN:VEVENT
DTSTART;TZID=Europe/Budapest:20260318T140000
DTEND;TZID=Europe/Budapest:20260318T153000
DTSTAMP:20260423T225336
CREATED:20260219T083916Z
LAST-MODIFIED:20260219T140357Z
UID:10003293-1773842400-1773847800@pbkik.hu
SUMMARY:Ismerje meg a Kamarát – Ismerjük meg egymást!
DESCRIPTION:A Pécs-Baranyai Kereskedelmi és Iparkamara örömmel várja az idei évben regisztrált vállalkozásokat egy kötetlen tájékoztatóra\, hogy részletesen megismerhessék az igénybe vehető kamarai szolgáltatásokat és együtt megtaláljuk azokat a területeket\, ahol kölcsönösen egymás segítségére lehetünk! \n \nRendezvényünkön való részvétel díjmentes\, de előzetes online regisztrációhoz kötött\, melyet a jelentkezés sorrendjében tudunk fogadni maximum 50 főig. Túljelentkezés esetén későbbi időpontot fogunk megadni egy következő rendezvényre válasz e-mailben. \nKérjük\, ha már regisztrált\, de mégsem tudna részt venni a programon\, jelezze felénk 2026. március 13-ig a pancel.alexandra@pbkik.hu címen\, így túljelentkezés esetén a várólistáról tudjuk még másoknak biztosítani a részvételt. \nIdőpont: 2026. március 18. (szerda) 14.00-15.30 \nHelyszín: Pécsi Kereskedelmi Központ (7625 Pécs\, Majorossy I.u.36.) \nAmennyiben nem tud eljönni rendezvényeinkre\, de nem szeretne lemaradni vállalkozását érintő tudnivalókról\, iratkozzon fel hírlevelünkre! \n\n\n\n\nRegisztráció 2024 - Ismerje meg a Kamarát\n\n\n\n\n\n\n\n\nJelentkező adatai\n\n\n			\n\n    Jelentkező személy neve\n        \n    \n    \n    \n    \n\n\n    Vállalkozás neve\n        \n    \n    \n    \n    \n\n\n    Vállalkozás adószáma\n        \n    \n    \n    \n    \n\n\n    Email címe\n        *\n    \n    \n    \n    \n\n\n    Telefonszáma\n        \n    \n    \n    \n    \n\n\n    Kérjük írja le egy mondatban\, mivel foglalkozik vállalkozása!\n        *\n    \n    \n    \n    \n\n\n    Vállalkozását most indította\, mivel Ön: \n        *\n    \n    					\n					 pályakezdő.\n					\n					 "újra"kezdő (új karrier\, foglalkozás).\n					\n					 csak egyéni vállalkozóként tudják foglalkoztatni.\n					\n					 innovatív/kreatív ötletét szeretné megvalósítani.\n					\n					 vállalkozóként képzelte el a jövőjét.\n					\n					 nyugdíjas.\n					\n					 egyéb.\n\n    \n    \n\n\n    Adjon meg 3 az Ön vállalkozását érintő témát\, konkrét kérdést\, melyekre szeretne választ kapni! (pl.: külpiacra lépés\, okmányhitelesítés\, mit kell elintéznem külföldi munkavállaláshoz\, foglalkoztatáshoz\, milyen hatóságot kell/lehet felkeresnem\, ha … stb.)\n        \n    \n    \n    \n    \n\n\n	plus1\n	\n\n Újabb résztvevő hozzáadása\n\n	minus1\n	\n\n Résztvevő eltávolítása \n\n\n\n    Adatkezelési tájékoztató \n        *\n    \n    					\n			 A rendezvény adatkezelési tájékoztatóját megismertem\, annak tartalmát elfogadom.\n\n    Adatkezelési tájékoztató\n    \n\n\n	\n\nBeküldés
URL:https://pbkik.hu/esemeny/ismerje-meg-a-kamarat-ismerjuk-meg-egymast-8/
LOCATION:Pécsi Kereskedelmi Központ
CATEGORIES:Ajánló
ATTACH;FMTTYPE=image/png:https://pbkik.hu/wp-content/uploads/2017/07/cropped-cropped-pbkik.png
GEO:46.081487;18.2347915
END:VEVENT
BEGIN:VEVENT
DTSTART;TZID=Europe/Budapest:20241105T140000
DTEND;TZID=Europe/Budapest:20241105T153000
DTSTAMP:20260423T225336
CREATED:20241007T103350Z
LAST-MODIFIED:20241007T103350Z
UID:10002983-1730815200-1730820600@pbkik.hu
SUMMARY:Ismerje meg a Kamarát – Ismerjük meg egymást!
DESCRIPTION:A Pécs-Baranyai Kereskedelmi és Iparkamara örömmel várja az idei évben regisztrált vállalkozásokat egy kötetlen tájékoztatóra\, hogy részletesen megismerhessék az igénybe vehető kamarai szolgáltatásokat és együtt megtaláljuk azokat a területeket\, ahol kölcsönösen egymás segítségére lehetünk! \n \nRendezvényünkön való részvétel díjmentes\, de előzetes online regisztrációhoz kötött\, melyet a jelentkezés sorrendjében tudunk fogadni maximum 50 főig. Túljelentkezés esetén későbbi időpontot fogunk megadni egy következő rendezvényre válasz e-mailben. \nKérjük\, ha már regisztrált\, de mégsem tudna részt venni a programon\, jelezze felénk 2024. november 04-ig a pancel.alexandra@pbkik.hu címen\, így túljelentkezés esetén a várólistáról tudjuk még másoknak biztosítani a részvételt. \nIdőpont: 2024. november 05. (kedd) 14.00 \nHelyszín: Pécsi Kereskedelmi Központ (7625 Pécs\, Majorossy I.u.36.) \nAmennyiben nem tud eljönni rendezvényeinkre\, de nem szeretne lemaradni vállalkozását érintő tudnivalókról\, iratkozzon fel hírlevelünkre! \n\n\n\n\nRegisztráció 2024 - Ismerje meg a Kamarát\n\n\n\n\n\n\n\n\nJelentkező adatai\n\n\n			\n\n    Jelentkező személy neve\n        \n    \n    \n    \n    \n\n\n    Vállalkozás neve\n        \n    \n    \n    \n    \n\n\n    Vállalkozás adószáma\n        \n    \n    \n    \n    \n\n\n    Email címe\n        *\n    \n    \n    \n    \n\n\n    Telefonszáma\n        \n    \n    \n    \n    \n\n\n    Kérjük írja le egy mondatban\, mivel foglalkozik vállalkozása!\n        *\n    \n    \n    \n    \n\n\n    Vállalkozását most indította\, mivel Ön: \n        *\n    \n    					\n					 pályakezdő.\n					\n					 "újra"kezdő (új karrier\, foglalkozás).\n					\n					 csak egyéni vállalkozóként tudják foglalkoztatni.\n					\n					 innovatív/kreatív ötletét szeretné megvalósítani.\n					\n					 vállalkozóként képzelte el a jövőjét.\n					\n					 nyugdíjas.\n					\n					 egyéb.\n\n    \n    \n\n\n    Adjon meg 3 az Ön vállalkozását érintő témát\, konkrét kérdést\, melyekre szeretne választ kapni! (pl.: külpiacra lépés\, okmányhitelesítés\, mit kell elintéznem külföldi munkavállaláshoz\, foglalkoztatáshoz\, milyen hatóságot kell/lehet felkeresnem\, ha … stb.)\n        \n    \n    \n    \n    \n\n\n	plus1\n	\n\n Újabb résztvevő hozzáadása\n\n	minus1\n	\n\n Résztvevő eltávolítása \n\n\n\n    Adatkezelési tájékoztató \n        *\n    \n    					\n			 A rendezvény adatkezelési tájékoztatóját megismertem\, annak tartalmát elfogadom.\n\n    Adatkezelési tájékoztató\n    \n\n\n	\n\nBeküldés
URL:https://pbkik.hu/esemeny/ismerje-meg-a-kamarat-ismerjuk-meg-egymast-7/
LOCATION:Pécsi Kereskedelmi Központ
ATTACH;FMTTYPE=image/png:https://pbkik.hu/wp-content/uploads/2017/07/cropped-cropped-pbkik.png
GEO:46.081487;18.2347915
END:VEVENT
BEGIN:VEVENT
DTSTART;TZID=Europe/Budapest:20241025T093000
DTEND;TZID=Europe/Budapest:20241025T130000
DTSTAMP:20260423T225336
CREATED:20241009T110424Z
LAST-MODIFIED:20250317T113618Z
UID:10002984-1729848600-1729861200@pbkik.hu
SUMMARY:"Innováció a KKV szektorban" tájékoztató fórum
DESCRIPTION:A Magyar Kereskedelmi és Iparkamara a Kulturális és Innovációs Minisztérium valamint a Nemzetgazdasági Minisztérium közreműködésével tájékoztatót szervez a dél-dunántúli vállalkozások részére a kutatás-fejlesztés és innováció (KFI) területén elérhető forrásokról\, jó gyakorlatokról. \n \nAz esemény időpontja: 2024. október 25. (péntek) 10.00 óra \nAz esemény helyszíne: Pécs-Baranyai Kereskedelmi és Iparkamara székháza – 7625 Pécs\, Majorossy I. u. 36. \nREGISZTRÁCIÓ! \nPROGRAM*\n09:30  Érkezés\, regisztráció \n10:00  Köszöntő \nHerbály István elnök\, MKIK Kutatásfejlesztési és Innovációs Kollégium\, PBKIK innovációs alelnök \n10:10  KFI helyzetkép Magyarországon \nSzmollár Katalin főosztályvezető\, Kulturális és Innovációs Minisztérium\, Innovációért Felelős Helyettes Államtitkárság \n10:35  GINOP Plusz KFI pályázati felhívások \nGreinstetter Balázs gazdaságfejlesztési programok végrehajtásáért felelős főigazgató\, Nemzeti Fejlesztési Központ \n11:00  A Nemzeti Innovációs Ügynökség KKV és startup szolgáltatásai \nOláh István vállalati szolgáltatásokért felelős igazgató\, Nemzeti Innovációs Ügynökség \n11:25  Kávészünet \n11:45  A MISZ regionális hálózat bemutatása\, Területi Innovációs Platform szolgáltatások \nDr. Kristóf Péter alelnök\, Magyar Innovációs Szövetség \n12:10  KKV innováció a gyakorlatban \nHerbály István elnök\, MKIK Kutatásfejlesztési és Innovációs Kollégium \n12:35  Kérdések\, válaszok – networking \n*A programváltoztatás jogát a szervezők fenntartják. \n  \nA részvétel díjmentes\, de előzetes regisztrációhoz kötött! \nA jelentkezés lezárult. \nA jelentkezéseket a beérkezések sorrendjében tudjuk elfogadni október 24-én 12:00-ig. \nParkolás a környező utcákban lehetséges. Tájékoztató a parkolásról – kérjük\, kattintson ide! \nTovábbi információ:\nSzigeti Rudolf: szigeti.rudolf@pbkik.hu\nCsászár Gergely: csaszar.gergely@pbkik.hu \nA rendezvény Magyarország Kormánya és a Magyar Kereskedelmi és Iparkamara „Szövetségben a Vállalkozókkal” című megállapodásához kapcsolódóan\, a Vállalkozásfejlesztési Projekt keretében valósul meg.
URL:https://pbkik.hu/esemeny/innovacio-a-kkv-szektorban-tajekoztato/
LOCATION:Pécsi Kereskedelmi Központ
ATTACH;FMTTYPE=image/png:https://pbkik.hu/wp-content/uploads/2024/10/MKIK_logo_2023-HU-RGB_hl.png
GEO:46.081487;18.2347915
END:VEVENT
BEGIN:VEVENT
DTSTART;TZID=Europe/Budapest:20240417T090000
DTEND;TZID=Europe/Budapest:20240417T163000
DTSTAMP:20260423T225336
CREATED:20240320T095637Z
LAST-MODIFIED:20240422T091120Z
UID:10002917-1713344400-1713371400@pbkik.hu
SUMMARY:Fenntarthatóság - Költség vagy sikerkritérium az exportban?
DESCRIPTION:A HEPA Magyar Exportfejlesztési Ügynökség kétnapos képzést szervez 2024. április 11-én és április 17-én\, melynek témája a „Fenntarthatóság – Költség vagy sikerkritérium az exportban?” \n \nA vállalati fenntarthatóság\, az ESG egy üzleti megközelítés\, ami növeli a vállalat értékét azáltal\, hogy kiaknázza a lehetőségeket és csökkenti a kockázatokat mind a gazdasági\, környezeti és társadalmi fejlődés terén. Már nem csak PR-üzenet\, hanem nemzetközi vevők beszállítói értékelésében kritérium\, banki finanszírozásban átvilágítási alap és EU-s pályázatok esetén alapfeltétel. \nPiacvédés vagy piacépítés az ESG-vel? \nA képzés célja megismertetni a résztvevőket a vállalati fenntarthatóság alapjain túl azon módszerekkel\, eszközökkel\, nemzetközi és hazai gyakorlatokkal\, amelyek elengedhetetlenek a következő pár évben a versenyképesség megtartásához és a nemzetközi vevőkkel való együttműködéshez. \nKétnapos képzés kerekasztal-beszélgetéssel és több órányi e-learning tananyaggal \nA vállalati fenntarthatóság nagyon komplex\, a teljes vállalati struktúrát érintő stratégiai és működési folyamat. Nem lehet egyik napról a másikra megvalósítani\, de amennyiben a szándék valós\, akkor apró lépésekkel\, kitartó munkával hosszútávú értékeket teremthet a cégnek és az egész társadalomnak. \nA gyakorlatorientált tréningen lehetőséget kapnak a résztvevők\, hogy saját iparágukra\, vállalatukra\, termékükre\, kereskedelmi értékláncukra és vezetői szemléletükre testre szabva is értelmezzék az elméletet és adaptálhassák a tanultakat. \nKerekasztal-beszélgetés az első nap végén: \n\nArató Gábor\, ügyvezető igazgató\, Manupackaging Magyarország Kft.\nDr. Botos Barbara\, PhD Klímaügyekért és Klímadiplomáciáért Felelős Utazó Nagykövet\nLászló Judit\, exportfejlesztési tanácsadó\nJuhász Szilárd\, fenntartható beszerzés vezető\, Knorr-Bremse Vállalatcsoport\n\nModerátor: Fertetics Mandy ügyvezető\, Alternate Tanácsadó Kft.; fenntarthatósági vezető\, MVÜK \n\nKiknek ajánljuk a képzést? \nA képzés célcsoportját jelenti minden olyan exportáló vagy exportálni kívánó KKV munkatársa\, aki a képzési programmal elérhető ismeretek\, készségek és kompetenciák megszerzését tűzte ki célként maga elé. \nA képzés különösen ajánlott: \n\nexportáló kkv-k munkatársainak\nexporttevékenység megkezdése előtt álló\, exportképes termékkel vagy szolgáltatással rendelkező kkv-k vezetőinek\, szakértőinek\nfejlődő és fejlődni vágyó kis- és középvállalkozásoknak\, startupoknak\n\n\nRészvételi feltételek \nA program állami támogatás mellett valósul meg\, a részvétel regisztrációhoz kötött.\nKedvezményes részvételi díj: 16.900 Ft (ÁFA mentes) \nA jelentkezéseket beérkezési sorrendben tudják fogadni\, korlátozott számban. A regisztrációs díj visszaigazolásunk után átutalással fizetendő. A regisztráció elfogadásáról a jelentkezéskor megadott e-mail címen tájékoztatjuk. \nFelnőttképzési engedélyezés hatálya alatt folytatott képzés\, ezért a részvétel feltétele felnőttképzési szerződés megkötése. \n  \nTovábbi információ: \nBorosán Anita – képzésszervező\n+36 (30) 991-0670\nborosan.anita@hepa.hu \n  \nJELENTKEZÉS A KÉPZÉSRE
URL:https://pbkik.hu/esemeny/fenntarthatosag-koltseg-vagy-sikerkriterium-az-exportban/2024-04-17/
LOCATION:HEPA Magyar Exportfejlesztési Ügynökség székháza\, 1027 Budapest\, Kacsa utca 15.\, Budapest\, 1027
ATTACH;FMTTYPE=image/jpeg:https://pbkik.hu/wp-content/uploads/2019/02/HEPA.jpg
END:VEVENT
BEGIN:VEVENT
DTSTART;TZID=Europe/Budapest:20240411T090000
DTEND;TZID=Europe/Budapest:20240411T163000
DTSTAMP:20260423T225336
CREATED:20240320T095637Z
LAST-MODIFIED:20240422T091120Z
UID:10002916-1712826000-1712853000@pbkik.hu
SUMMARY:Fenntarthatóság - Költség vagy sikerkritérium az exportban?
DESCRIPTION:A HEPA Magyar Exportfejlesztési Ügynökség kétnapos képzést szervez 2024. április 11-én és április 17-én\, melynek témája a „Fenntarthatóság – Költség vagy sikerkritérium az exportban?” \n \nA vállalati fenntarthatóság\, az ESG egy üzleti megközelítés\, ami növeli a vállalat értékét azáltal\, hogy kiaknázza a lehetőségeket és csökkenti a kockázatokat mind a gazdasági\, környezeti és társadalmi fejlődés terén. Már nem csak PR-üzenet\, hanem nemzetközi vevők beszállítói értékelésében kritérium\, banki finanszírozásban átvilágítási alap és EU-s pályázatok esetén alapfeltétel. \nPiacvédés vagy piacépítés az ESG-vel? \nA képzés célja megismertetni a résztvevőket a vállalati fenntarthatóság alapjain túl azon módszerekkel\, eszközökkel\, nemzetközi és hazai gyakorlatokkal\, amelyek elengedhetetlenek a következő pár évben a versenyképesség megtartásához és a nemzetközi vevőkkel való együttműködéshez. \nKétnapos képzés kerekasztal-beszélgetéssel és több órányi e-learning tananyaggal \nA vállalati fenntarthatóság nagyon komplex\, a teljes vállalati struktúrát érintő stratégiai és működési folyamat. Nem lehet egyik napról a másikra megvalósítani\, de amennyiben a szándék valós\, akkor apró lépésekkel\, kitartó munkával hosszútávú értékeket teremthet a cégnek és az egész társadalomnak. \nA gyakorlatorientált tréningen lehetőséget kapnak a résztvevők\, hogy saját iparágukra\, vállalatukra\, termékükre\, kereskedelmi értékláncukra és vezetői szemléletükre testre szabva is értelmezzék az elméletet és adaptálhassák a tanultakat. \nKerekasztal-beszélgetés az első nap végén: \n\nArató Gábor\, ügyvezető igazgató\, Manupackaging Magyarország Kft.\nDr. Botos Barbara\, PhD Klímaügyekért és Klímadiplomáciáért Felelős Utazó Nagykövet\nLászló Judit\, exportfejlesztési tanácsadó\nJuhász Szilárd\, fenntartható beszerzés vezető\, Knorr-Bremse Vállalatcsoport\n\nModerátor: Fertetics Mandy ügyvezető\, Alternate Tanácsadó Kft.; fenntarthatósági vezető\, MVÜK \n\nKiknek ajánljuk a képzést? \nA képzés célcsoportját jelenti minden olyan exportáló vagy exportálni kívánó KKV munkatársa\, aki a képzési programmal elérhető ismeretek\, készségek és kompetenciák megszerzését tűzte ki célként maga elé. \nA képzés különösen ajánlott: \n\nexportáló kkv-k munkatársainak\nexporttevékenység megkezdése előtt álló\, exportképes termékkel vagy szolgáltatással rendelkező kkv-k vezetőinek\, szakértőinek\nfejlődő és fejlődni vágyó kis- és középvállalkozásoknak\, startupoknak\n\n\nRészvételi feltételek \nA program állami támogatás mellett valósul meg\, a részvétel regisztrációhoz kötött.\nKedvezményes részvételi díj: 16.900 Ft (ÁFA mentes) \nA jelentkezéseket beérkezési sorrendben tudják fogadni\, korlátozott számban. A regisztrációs díj visszaigazolásunk után átutalással fizetendő. A regisztráció elfogadásáról a jelentkezéskor megadott e-mail címen tájékoztatjuk. \nFelnőttképzési engedélyezés hatálya alatt folytatott képzés\, ezért a részvétel feltétele felnőttképzési szerződés megkötése. \n  \nTovábbi információ: \nBorosán Anita – képzésszervező\n+36 (30) 991-0670\nborosan.anita@hepa.hu \n  \nJELENTKEZÉS A KÉPZÉSRE
URL:https://pbkik.hu/esemeny/fenntarthatosag-koltseg-vagy-sikerkriterium-az-exportban/2024-04-11/
LOCATION:HEPA Magyar Exportfejlesztési Ügynökség székháza\, 1027 Budapest\, Kacsa utca 15.\, Budapest\, 1027
ATTACH;FMTTYPE=image/jpeg:https://pbkik.hu/wp-content/uploads/2019/02/HEPA.jpg
END:VEVENT
END:VCALENDAR