BEGIN:VCALENDAR
VERSION:2.0
PRODID:-//Pécs-Baranyai Kereskedelmi és Iparkamara - ECPv6.15.20//NONSGML v1.0//EN
CALSCALE:GREGORIAN
METHOD:PUBLISH
X-WR-CALNAME:Pécs-Baranyai Kereskedelmi és Iparkamara
X-ORIGINAL-URL:https://pbkik.hu
X-WR-CALDESC:Események Pécs-Baranyai Kereskedelmi és Iparkamara
REFRESH-INTERVAL;VALUE=DURATION:PT1H
X-Robots-Tag:noindex
X-PUBLISHED-TTL:PT1H
BEGIN:VTIMEZONE
TZID:Europe/Helsinki
BEGIN:DAYLIGHT
TZOFFSETFROM:+0200
TZOFFSETTO:+0300
TZNAME:EEST
DTSTART:20200329T010000
END:DAYLIGHT
BEGIN:STANDARD
TZOFFSETFROM:+0300
TZOFFSETTO:+0200
TZNAME:EET
DTSTART:20201025T010000
END:STANDARD
BEGIN:DAYLIGHT
TZOFFSETFROM:+0200
TZOFFSETTO:+0300
TZNAME:EEST
DTSTART:20210328T010000
END:DAYLIGHT
BEGIN:STANDARD
TZOFFSETFROM:+0300
TZOFFSETTO:+0200
TZNAME:EET
DTSTART:20211031T010000
END:STANDARD
BEGIN:DAYLIGHT
TZOFFSETFROM:+0200
TZOFFSETTO:+0300
TZNAME:EEST
DTSTART:20220327T010000
END:DAYLIGHT
BEGIN:STANDARD
TZOFFSETFROM:+0300
TZOFFSETTO:+0200
TZNAME:EET
DTSTART:20221030T010000
END:STANDARD
END:VTIMEZONE
BEGIN:VEVENT
DTSTART;TZID=Europe/Helsinki:20210907T140000
DTEND;TZID=Europe/Helsinki:20210907T150000
DTSTAMP:20260426T050808
CREATED:20210819T114519Z
LAST-MODIFIED:20210819T115727Z
UID:10002450-1631023200-1631026800@pbkik.hu
SUMMARY:A svájci gazdaság kilátásai - Swisscham online konferencia
DESCRIPTION:A Svájci-Magyar Kereskedelmi Kamara „A svájci gazdaság kilátásai” címmel szervez online webináriumot 2021. szeptember 7-én. Az eseményen Svájc különböző intézményeiből érkező előadók mutatják be a svájci piaci trendeket\, kihívásokat és beszélnek az üzleti lehetőségekről. \nAz eseményt ajánljuk azoknak a vállalkozásoknak akiket érdekel a svájci gazdaság\, vagy próbálnak belépni a svájci piacra. \nA rendezvény nyelve angol. \nProgram \nModerátor: Dreher-Hajnal Katalin \n\n\n\n14.00-14.05\nKöszöntő – Jean-François Paroz\, Svájc magyarországi nagykövete\n\n\n14.05-14.20\nSvájci gazdaság 2021 második félévében\, tények & adatok – Catia\, Capaul\, Nemzetközi kapcsolatok tudományos munkatársa\, economiesuisse\n\n\n14.20 -14.35\nA svájci elektronikai ipar 2021 második félévében\,trendek & kihívások – Doris Anthenien\, Osztályvezető\, ügyvéd\, Swissmem\n\n\n14.35-14.45\nA svájci export 2021 második félévében\, trendek\, fenyegetések + lehetőségek – Dreher-Hajnal Katalin\, Senior tanácsadó Közép-Kelet-Európa\, Switzerland Global Enterprise\n\n\n14.45-14.50\nZárszó\, összesítés – Raoul Keller\, Az igazgatóság tagja\, SEC Svájci Kereskedelmi Kamara – Közép-Kelet-Európa\n\n\n14.50-15.00\nKérdések és válaszok\n\n\n\nRészvétel: Az eseményen való részvétel  ingyenes\, de előzetes regisztrációhoz kötött. \nJelentkezési határidő: 2021. szeptember 6. \nHelyszín: Microsoft Teams online platform (A csatlakozáshoz szükséges linket a regisztrációt követően küldik el a megadott e-mail címre.) \nREGISZTRÁCIÓ
URL:https://pbkik.hu/esemeny/a-svajci-gazdasag-kilatasai-swisscham-online-konferencia/
LOCATION:online
END:VEVENT
BEGIN:VEVENT
DTSTART;TZID=Europe/Helsinki:20210916T083000
DTEND;TZID=Europe/Helsinki:20210916T110000
DTSTAMP:20260426T050808
CREATED:20210721T125331Z
LAST-MODIFIED:20210721T130829Z
UID:10001992-1631781000-1631790000@pbkik.hu
SUMMARY:Magyar-Kínai (Shanghai) Üzleti Fórum - webinárium és üzletember találkozó
DESCRIPTION:A Magyar Kereskedelmi és Iparkamara Magyar-Kínai Tagozata és a Sail Shanghai közösen szervez online B2B-találkozókkal egybekötött webináriumot. Az esemény kiváló lehetőséget biztosít az érdeklődő cégek számára\, hogy a pandémia okozta utazási nehézségek ellenére bővítsék kínai üzleti kapcsolataikat. A B2B-találkozókon megközelítőleg 15 kínai cég vesz részt a következő témakörökben: \n\nLED-kijelzők/világítástechnika\nélelmiszeripar\nIT/ICT\nkörnyezetvédelmi technológiák\nsmart city.\n\nA rendezvény angol nyelvű leírása\, valamint a B2B-találkozón résztvevő kínai cégek listája csatoltan található. A kínai cégeken kívül több sanghaji üzleti szövetség is képviselteti magát a webináriumon: \n\nSanghaji Kommunikációs Ipari Szövetség\nSanghaj LED Ipari és Technológiai Szövetség\nSanghaji Élelmiszeripari Szövetség\negyéb sanghaji ipari szervezetek\n\nA konferencia angol nyelven zajlik\, a kínai nyelvű előadásához a kínai partnerek angol nyelvű tolmácsolást biztosítanak! \nPROGRAMTERV\n\n\n\n8.30-8:35\nMegnyitó beszéd\nMs. Beilei Wang\, a Sail Shanghai főtitkára\n\n\n8.35-8:40\nA Magyar Kereskedelmi és Iparkamara képviselőjének beszéde\nNádasi Tamás\, az MKIK Magyar-Kínai Tagozatának elnöke\n\n\n8.40-8.50\nA magyar-kínai gazdasági és politikai kapcsolatok helyzete\nA Sanghaji Főkonzulátus képviselője (felkérés alatt)\n\n\n8.50-8.55\nA Shanghai Federation of Economic Organizations képviselőjének köszöntője\nA Shanghai Federation of Economic Organizations képviselője (felkérés alatt)\n\n\n8.55-9.00\nEgyüttműködési megállapodás aláírása az MKIK Magyar-Kínai Tagozata és a Sail Shanghai között\n\n\n9.00-9.10\nA kiállított kínai- és magyar termékek megtekintése online\n\n\n9.10-11.00\nMagyar és kínai cégek bemutatkozása\, B2B-találkozók\n\n\n\nJelentkezési határidő: 2021. szeptember 14.\, kedd\, 12:00 óra \nA férőhelyek száma korlátozott\, ezért a jelentkezéseket azok beérkezésének sorrendjében fogadják el. A rendezvényen való részvétel ingyenes\, de előzetes online regisztrációhoz kötött. \nLetölthető dokumentumok \n\nA rendezvény angol nyelvű leírása\nB2B-találkozón résztvevő kínai cégek listája\n\nREGISZTRÁCIÓ
URL:https://pbkik.hu/esemeny/magyar-kinai-shanghai-uzleti-forum-webinarium-es-uzletember-talalkozo/
LOCATION:online
END:VEVENT
END:VCALENDAR