BEGIN:VCALENDAR
VERSION:2.0
PRODID:-//Pécs-Baranyai Kereskedelmi és Iparkamara - ECPv6.15.20//NONSGML v1.0//EN
CALSCALE:GREGORIAN
METHOD:PUBLISH
X-WR-CALNAME:Pécs-Baranyai Kereskedelmi és Iparkamara
X-ORIGINAL-URL:https://pbkik.hu
X-WR-CALDESC:Események Pécs-Baranyai Kereskedelmi és Iparkamara
REFRESH-INTERVAL;VALUE=DURATION:PT1H
X-Robots-Tag:noindex
X-PUBLISHED-TTL:PT1H
BEGIN:VTIMEZONE
TZID:Europe/Helsinki
BEGIN:DAYLIGHT
TZOFFSETFROM:+0200
TZOFFSETTO:+0300
TZNAME:EEST
DTSTART:20210328T010000
END:DAYLIGHT
BEGIN:STANDARD
TZOFFSETFROM:+0300
TZOFFSETTO:+0200
TZNAME:EET
DTSTART:20211031T010000
END:STANDARD
BEGIN:DAYLIGHT
TZOFFSETFROM:+0200
TZOFFSETTO:+0300
TZNAME:EEST
DTSTART:20220327T010000
END:DAYLIGHT
BEGIN:STANDARD
TZOFFSETFROM:+0300
TZOFFSETTO:+0200
TZNAME:EET
DTSTART:20221030T010000
END:STANDARD
BEGIN:DAYLIGHT
TZOFFSETFROM:+0200
TZOFFSETTO:+0300
TZNAME:EEST
DTSTART:20230326T010000
END:DAYLIGHT
BEGIN:STANDARD
TZOFFSETFROM:+0300
TZOFFSETTO:+0200
TZNAME:EET
DTSTART:20231029T010000
END:STANDARD
END:VTIMEZONE
BEGIN:VTIMEZONE
TZID:Europe/Budapest
BEGIN:DAYLIGHT
TZOFFSETFROM:+0100
TZOFFSETTO:+0200
TZNAME:CEST
DTSTART:20240331T010000
END:DAYLIGHT
BEGIN:STANDARD
TZOFFSETFROM:+0200
TZOFFSETTO:+0100
TZNAME:CET
DTSTART:20241027T010000
END:STANDARD
BEGIN:DAYLIGHT
TZOFFSETFROM:+0100
TZOFFSETTO:+0200
TZNAME:CEST
DTSTART:20250330T010000
END:DAYLIGHT
BEGIN:STANDARD
TZOFFSETFROM:+0200
TZOFFSETTO:+0100
TZNAME:CET
DTSTART:20251026T010000
END:STANDARD
BEGIN:DAYLIGHT
TZOFFSETFROM:+0100
TZOFFSETTO:+0200
TZNAME:CEST
DTSTART:20260329T010000
END:DAYLIGHT
BEGIN:STANDARD
TZOFFSETFROM:+0200
TZOFFSETTO:+0100
TZNAME:CET
DTSTART:20261025T010000
END:STANDARD
END:VTIMEZONE
BEGIN:VEVENT
DTSTART;TZID=Europe/Helsinki:20220520T110000
DTEND;TZID=Europe/Helsinki:20220520T133000
DTSTAMP:20260423T074522
CREATED:20220511T110159Z
LAST-MODIFIED:20220511T112024Z
UID:10002203-1653044400-1653053400@pbkik.hu
SUMMARY:A fókuszban Ghána - magyar-afrikai üzleti webinárium
DESCRIPTION:A Magyar Kereskedelmi és Iparkamara Afrika Tagozata \,\,A fókuszban Ghána – magyar-afrikai üzleti webinárium” címmel online eseményt rendez 2022. május 20-án 11 órakor. A rendezvény nyelve az angol lesz. \nAz esemény célja\, hogy tájékoztassa a hazai kis- és középvállalkozásokat az afrikai üzleti környezetről\, a magyar vállalkozások számára kínálkozó exportfinanszírozási lehetőségekről a térségben. A webináriumon részt vesznek Magyarország ghánai nagykövete\, az EXIM\, a HEPA\, illetve ghánai részről a Ghana Investment Promotion Centre és a Ghana Free Zones Authority képviselői is\, valamint sikeres\, az afrikai piacra már exportáló magyar vállalkozások osztják meg a régióban szerzett tapasztalataikat. \nPROGRAM \n\n\n\n11.20 – 11.30\nRegistration\n\n\n11.30 – 11.40\nWelcome speeches\nMr. Károly Kovács\, Chairman of the African Committee of the Hungarian Chamber of Commerce and Industry\nMr. Kofi Asmah\, Chairman of the Ghanian-Hungarian Business Council\n\n\n11.40 – 11.55\nThe role of West Africa in Hungary’s foreign economic strategy\nH. E. Tamás Fehér\, Ambassador of Hungary to the Republic of Ghana\n\n\n11.55 – 12.05\nHEPA good practices for investing in Africa\nMr. Kristóf Szabó\, CEO\, HEPA\n\n\n12.05 – 12.15\nEXIM financing products for trade development\nMr. Viktor Berki\, Head of Export Finance and Export Credit Insurance\, EXIM\n\n\n12.15 – 12.35\nCase studies of Hungarian companies in the region\nMr. Bálint Horváth\, CEO\, Pureco Kft.\nMr. Richárd Vattay\, CEO\, Water & Soil Kft.\n\n\n12.35 – 12.45\nInvestment opportunities in Ghana\nMr. R. Yofi Grant\, CEO\, Ghana Investment Promotion Centre\n\n\n12.45 – 12.55\nInvestment environment in the Free Zones of Ghana\nMr. Michael A. Quaye\, Jnr\, CEO\, Ghana Free Zones Authority\n\n\n12.55 – 13.05\nCase study of the Jospong Group of Companies\nMr. Joseph Siaw Agyepong\, Founder/Executive Chairman\, Jospong Group of Companies\n\n\n13.05 – 13.15\nSigning ceremony of the Memorandum of Understanding between the African Committee of the Hungarian Chamber of Commerce and Industry and the Ghanian-Hungarian Business Council\n\n\n13.15 – 13.30\nQ & A session with the presenters\n\n\n\nJelentkezési határidő: 2022. május 17.\, kedd\, 16.00 óra \nA rendezvényen való részvétel ingyenes\, de előzetes online regisztrációhoz kötött. A csatlakozáshoz szükséges linket és információkat 2022. május 19-én\, csütörtök délután küldik meg e-mailen a jelentkezőknek. \nREGISZTRÁCIÓ
URL:https://pbkik.hu/esemeny/a-fokuszban-ghana-magyar-afrikai-uzleti-webinarium/
LOCATION:Majorossy Imre utca 36.\, Pécs\, 7625\, Magyarország
ATTACH;FMTTYPE=image/jpeg:https://pbkik.hu/wp-content/uploads/2021/08/mkik_logo_1.jpg
END:VEVENT
BEGIN:VEVENT
DTSTART;TZID=Europe/Helsinki:20220602T110000
DTEND;TZID=Europe/Helsinki:20220602T130000
DTSTAMP:20260423T074522
CREATED:20220524T073218Z
LAST-MODIFIED:20220524T075037Z
UID:10002671-1654167600-1654174800@pbkik.hu
SUMMARY:Az orosz-ukrán háború hatásai a magyar vállalkozásokra - webinárium
DESCRIPTION:A Magyar Kereskedelmi és Iparkamara Magyar-Orosz Tagozat 2022. június 2-án webináriumot szervez\, melynek célja a hazai kis- és középvállalkozások tájékoztatása az orosz\, illetve az ukrán üzleti környezetről\, a háborús tevékenységek\, illetve az európai uniós és orosz szankciók miatti korlátozások adta keretekről és kilátásokról. \nPROGRAM\n\n\n\n10.40 – 11.00\nRegisztráció\n\n\n11.00 – 11.10\nKöszöntő és az MKIK MOT szerepe\, aktivitása az orosz-ukrán háború körülményei között\nSzekeres István\, a Magyar-Orosz Tagozat elnöke\n\n\n11.10 – 11.25\nLehetőségek és nehézségek a magyar-orosz gazdasági kapcsolatokban\nKonkoly Norbert\, Magyarország rendkívüli és meghatalmazott nagykövete\, Moszkva\n\n\n11.25 – 11.40\nA jelenlegi helyzet kezelése és a magyar-ukrán gazdasági együttműködés jövője\nÍjgyártó István\, Magyarország rendkívüli és meghatalmazott nagykövete\, Kijev\n\n\n11.40 – 11.55\nA magyar-belarusz gazdasági együttműködés jelene és jövője\nCsutora Zsolt\, Magyarország rendkívüli és meghatalmazott nagykövete\, Minszk\n\n\n11.55 – 12.15\nA Külgazdasági és Külügyminisztérium támogató és koordináló szerepe a háború okozta nehézségek leküzdésében\nDr. Szép-Tüske Rita\, a KKM Exportfejlesztési Koordinációs Főosztályának vezetője\n\n\n12.15 – 12.30\nAz európai uniós szankciók magyarországi alkalmazásának aktuális kérdései\nTorda Csaba\, pénzügyőr dandártábornok\, a NAV Központi Irányítás Vám Főosztály vezetője\n\n\n12.30 – 12.40\nAz európai uniós szankciók hatása az oroszországi tevékenységekre\nFarkas József\, ügyvezető igazgató\, Sanatmetal Kft.\n\n\n12.40 – 12.50\nA magyar tulajdonú oroszországi gyártóüzemekben és a kereskedelemben jelentkező nehézségek és azok kezelése\nCsitkovics Tibor\, ügyvezető igazgató\, Agrofeed Kft.\n\n\n12.50 – 13.00\nZárszó – összefoglaló\nSzekeres István\, a Magyar-Orosz Tagozat elnöke\n\n\n\nA részvétel feltételei \nJelentkezési határidő: 2022. május 31.\, kedd\, 16.00 óra \nA rendezvényen való részvétel ingyenes\, de előzetes online regisztrációhoz kötött. A csatlakozáshoz szükséges linket és információkat 2022. június 1-jén\, szerda délután küldik meg e-mailen a jelentkezőknek. \nREGISZTRÁCIÓ
URL:https://pbkik.hu/esemeny/az-orosz-ukran-haboru-hatasai-a-magyar-vallalkozasokra-webinarium/
LOCATION:online
ATTACH;FMTTYPE=image/jpeg:https://pbkik.hu/wp-content/uploads/2021/08/mkik_logo_1.jpg
END:VEVENT
BEGIN:VEVENT
DTSTART;TZID=Europe/Helsinki:20220609T100000
DTEND;TZID=Europe/Helsinki:20220609T120000
DTSTAMP:20260423T074522
CREATED:20220527T072401Z
LAST-MODIFIED:20220527T082122Z
UID:10002674-1654768800-1654776000@pbkik.hu
SUMMARY:A magyar Közép-Ázsia gazdaságpolitika irányai - webinárium
DESCRIPTION:A közép-ázsiai régió jelentősebb országaira vonatkozó\, magyar gazdaságpolitikai elképzelésekről szóló tájékoztató rendezvényt szervez 2022. június 9-én\, a Magyar Kereskedelmi és Iparkamara Közép-Ázsia Tagozata. \nAz esemény a Kazahsztán\, Kirgizisztán\, Üzbegisztán\, illetve Tádzsikisztán iránt érdeklődő vállalkozások számára nyújt tájékoztatást \n\na régió országainak általános helyzetéről és gazdasági környezetéről;\naz egyes országokkal való kereskedelmi kapcsolatokról;\na Közép-ázsiai Tagozat programjairól és 2022. évi terveiről.\n\nA rendezvény keretében szervezik meg a Tagozat tisztújító közgyűlését is. \nAz előadások után a résztvevőknek lehetőségük nyílik kérdések feltevésére a platform chat-falán keresztül. \nPROGRAM\n\n\n\n9.40 – 10.00\nRegisztráció\n\n\n10.00 – 10.05\nKöszöntő\nBácsi-Nagy András\, a Közép-ázsiai Tagozat elnöke\n\n\n10.05 – 10.20\nA magyar Közép-Ázsia gazdaságpolitika irányai\nDr. Baranyi András\, a keleti kapcsolatok fejlesztéséért felelős helyettes államtitkár\, Külgazdasági és Külügyminisztérium\n\n\n10.20 – 10.30\nKérdések és válaszok\n\n\n10.30 – 11.00\nA Közép-ázsiai Tagozat tisztújító közgyűlése\nTájékoztató a 2021. évi tagozati programokról\, 2022. évi tervekről\, az új elnökségi tagok megválasztása\, a módosított tagozati ügyrend elfogadása\n\n\n11.30 – 12.00\nA Közép-ázsiai Tagozat megismételt tisztújító közgyűlése (opcionális)\nTájékoztató a 2021. évi tagozati programokról\, 2022. évi tervekről\, az új elnökségi tagok megválasztása\, a módosított tagozati ügyrend elfogadása\n\n\n\nJelentkezési határidő: 2022. június 7.\, kedd\, 16.00 óra \nA rendezvényen való részvétel ingyenes\, de előzetes online regisztrációhoz kötött. A csatlakozáshoz szükséges linket és információkat 2022. június 8-án\, szerda délután küldik meg e-mailen a jelentkezőknek. \nREGISZTRÁCIÓ
URL:https://pbkik.hu/esemeny/a-magyar-kozep-azsia-gazdasagpolitika-iranyai-webinarium/
LOCATION:online
ATTACH;FMTTYPE=image/jpeg:https://pbkik.hu/wp-content/uploads/2021/08/mkik_logo_1.jpg
END:VEVENT
BEGIN:VEVENT
DTSTART;TZID=Europe/Helsinki:20220614T093000
DTEND;TZID=Europe/Helsinki:20220614T110000
DTSTAMP:20260423T074522
CREATED:20220603T122559Z
LAST-MODIFIED:20220603T124343Z
UID:10002680-1655199000-1655204400@pbkik.hu
SUMMARY:Innovációs Ökoszisztéma Webinárium
DESCRIPTION:A PRIMOM Szabolcs-Szatmár-Bereg Megyei Vállalkozásélénkítő Alapítvány\, a HCE Magyarország konzorcium partnereként\, együttműködve a Nyíregyházi Egyetemmel innovációs és K+F szakmai webináriumot szervez. Dátum és időpont: 2022. június 14. (kedd) 9.30 óra.\n\nProgram:\n9.15-9.30 Csatlakozás a webináriumhoz\n9.30-.9.50 K+F lehetőségek a Nyíregyházi Egyetemen – Veress Emil\, Vállalati kapcsolatokért és innovációért felelős főigazgató\n9.50-10.10 Területi Innovációs Platform – Az innovációs ökoszisztéma versenyképességének megerősítése – Dr. Vigóczki Dóra\, TIP referens\n10.10-10.30 LEGO® kocka\, mint csapatépítő eszköz – Szabó József Mihály\, LEGO® Education Innovation Studio szakmai vezető\n10.30-10.50 Vállalati innováció Magyarországon – Rabb Szabolcs főtitkár\, innovációs szakértő Pécs-Baranyai Kereskedelmi és Iparkamara\, Enterprise Europe Network\n10.50- Kérdések és válaszok\, konzultáció \nA webináriumon való részvétel térítésmentes\, de előzetes regisztrációhoz kötött\, melyet követően a regisztráció részleteit a szervező közvetlenül küldi meg a regisztráció során megadott e-mail címre. \nKérjük\, kiemelten figyeljen az e-mail cím pontosságára! Felhívjuk szíves figyelmét\, hogy a résztvevők száma korlátozott. Amennyiben a résztvevők száma meghaladja a rendelkezésre álló keretszámot\, a programot egy újabb időpontban\, változatlan tartalommal ismételten megszervezik. \nRészvételi szándékát kérjük 2022. június 10. szíveskedjen jelezni\, az alábbi regisztrációs lap kitöltésével! \nRegisztrációs link: REGISZTRÁLOK \nTovábbi információ: +36 42 799 150
URL:https://pbkik.hu/esemeny/innovacios-okoszisztema-webinarium/
LOCATION:Online
END:VEVENT
BEGIN:VEVENT
DTSTART;TZID=Europe/Helsinki:20220614T100000
DTEND;TZID=Europe/Helsinki:20220614T123000
DTSTAMP:20260423T074522
CREATED:20220525T114946Z
LAST-MODIFIED:20221122T092519Z
UID:10002673-1655200800-1655209800@pbkik.hu
SUMMARY:Fókuszban a kereskedelmi és vendéglátóegységek fogyasztóvédelmi ellenőrzése - webinárium
DESCRIPTION:Mikor és hogyan bírságolhat a fogyasztóvédelmi hatóság? Merül fel a kérdés a hatósági ellenőrzéssel érintett vezetőkben. Fontos tudni\, hogy mely esetekben jár már az első alkalommal is mindenképpen bírság és\, hogy melyek azok a kritériumok\, amelyeket a Fogyasztóvédelmi Felügyelőség az ellenőrzés során vizsgál. 2022-ben is kiemelt figyelmet fordítanak az árfeltüntetés és árcsökkentés szabályaira\, a kellékszavatossági igények teljesítésére\, a panaszok kezelésére és a címkézésre\, tájékoztatásra. \nA Menedzser Praxis online szakmai napján\, Dr. Kiss Benedek Damarisz fogyasztóvédelmi szakjogász azokat a legjellemzőbb hibákat ismerteti\, amelyek bírságolásra adnak okot. A szakmai nap nem az elvárásokra\, hanem a tapasztalatokra\, a hogyanra koncentrál\, a tényszerű feladatokra és természetesen annak megoldására. \nMiről lesz szó? \n\nvásárlók könyve és minőségi kifogás jegyzőkönyv\nbékéltető testülettel történő együttműködéssel kapcsolatos bírság\nárfeltüntetéssel kapcsolatos bírság\nkirakati árfeltüntetés szabályai\nkellékszavatossági igényekre vonatkozó szabályok\ncímkézéssel\, tájékoztatással kapcsolatos bírság\npanaszokra és kifogásokra adott válaszok\negységárak feltüntetésének módja\n\nJelentkezzen most és használja ki az egyedi konzultációs lehetőséget a szakértővel! \nA rendezvényre a regisztráció lezárult. \nA videót utólag visszanézheti ezen a linken: vendeglatas.menedzserakademia.hu
URL:https://pbkik.hu/esemeny/fokuszban-a-kereskedelmi-es-vendeglatoegysegek-fogyasztovedelmi-ellenorzese-webinarium/
LOCATION:online
END:VEVENT
BEGIN:VEVENT
DTSTART;TZID=Europe/Helsinki:20220614T150000
DTEND;TZID=Europe/Helsinki:20220614T160000
DTSTAMP:20260423T074522
CREATED:20220601T075908Z
LAST-MODIFIED:20220601T081321Z
UID:10002678-1655218800-1655222400@pbkik.hu
SUMMARY:Fókuszban az USA - webinárium
DESCRIPTION:A Magyar Kereskedelmi és Iparkamara Fókuszban az USA címmel webináriumot szervez 2022. június 14-én. Az esemény az érdeklődő vállalkozások számára nyújt tájékoztatást az Amerikai Egyesült Államok üzleti környezetéről és lehetőségeiről – a piacra lépéssel\, cégalapítással\, könyveléssel és bankszámlanyitással kapcsolatban. \nAz előadások után a résztvevők kérdéseket tehetnek fel az előadóknak a platform chatfalán keresztül. \nPROGRAMTERV\n\n\n\n15.00 – 15.05\nKöszöntő\nRév András – általános alelnök\, MKIK Nemzetközi Kollégium\n\n\n15.05 – 15.20\nAlapvető tudnivalók az USA üzleti környezetéről\, helyi tapasztalatok és jó tanácsok az USA-ban tevékenykedő külgazdasági attaséktól\nBakó János – külgazdasági attasé\, New York\nKubatov Anikó – külgazdasági attasé\, Miami\nDorogi Éva – külgazdasági attasé\, Los Angeles\n\n\n15.20 – 15.50\nSzakértői tanácsok\nIgaz Krisztina – ügyvéd cégalapítási tanácsai (Igaz Consulting)\nBorsányi Imre – könyvelő könyvelési tapasztalatai (Imre Borsanyi CPA)\nSzigeti Judit – bankár a bankszámlanyitásról (KBC Bank)\n\n\n15.50 – 16.00\nKérdések & válaszok\n\n\n\nRészvétel feltételei: \nJelentkezési határidő: 2022. június 13.\, hétfő\, 12.00 óra (CET) \nA rendezvényen való részvétel ingyenes\, de előzetes online regisztrációhoz kötött. A csatlakozáshoz szükséges linket és információkat 2022. június 13-án\, hétfő délután küldik meg e-mailen a jelentkezőknek. \nREGISZTRÁCIÓ
URL:https://pbkik.hu/esemeny/fokuszban-az-usa-webinarium/
LOCATION:online
ATTACH;FMTTYPE=image/jpeg:https://pbkik.hu/wp-content/uploads/2021/08/mkik_logo_1.jpg
END:VEVENT
BEGIN:VEVENT
DTSTART;TZID=Europe/Helsinki:20220630T140000
DTEND;TZID=Europe/Helsinki:20220630T150000
DTSTAMP:20260423T074522
CREATED:20220607T084415Z
LAST-MODIFIED:20220609T074501Z
UID:10002681-1656597600-1656601200@pbkik.hu
SUMMARY:Útvonaltervezés földön és vízen - webinárium
DESCRIPTION:A veszteséges fuvarok ellen optimalizálással is küzdhet. Ha kellően alapos kalkuláció alapján készít árajánlatot és a sofőrök biztosan a megtervezett útvonalon haladnak\, akkor sok plusz költségtől megkímélheti magát. Hogy mindez hogyan lehetséges? Önkéntes kamarai tagunk\, az Innomedio Kft. webináriumán megtudhatja! \n \n2022. június 30-án 14:00-tól az Innomedio Kft. megtartja következő webinárját\, ahol bemutatják a fuvarozóknak és szállítmányozóknak szánt innoTMS rendszer legújabb térképintegrációs funkcióit. Ezen funkciók segítik a pontos útvonaltervezést és annak lekövetését\, a kapacitások maximális kihasználását\, támogatják a még hatékonyabb munkavégzést\, fuvarszervezést és járatirányítást\, emellett lehetővé teszi\, hogy a cégek egy alapos előkalkuláció után olyan ajánlatot tudjanak küldeni a megbízóknak\, amely a jelenlegi költségstruktúrájuk alapján vélhetően nyereséges lesz! \nFelejtse el a veszteséges fuvarokat! Jelentkezzen az Útvonaltervezés földön és vízen című ingyenes webinárra és ismerjen meg hatékony megoldásokat! \nJelentkezni ITT lehet.
URL:https://pbkik.hu/esemeny/utvonaltervezes-foldon-es-vizen-webinarium/
LOCATION:Online
END:VEVENT
BEGIN:VEVENT
DTSTART;TZID=Europe/Budapest:20250121T180000
DTEND;TZID=Europe/Budapest:20250121T190000
DTSTAMP:20260423T074522
CREATED:20250110T112310Z
LAST-MODIFIED:20250207T201330Z
UID:10003022-1737482400-1737486000@pbkik.hu
SUMMARY:Üzleti tervezés KKV-knak
DESCRIPTION:Üzleti tervezés webináriumot szervez önkéntes kamarai tagunk\, az iFinance: \n❓Tudta ön\, hogy pénzügyi üzleti terv nélkül működtetni egy céget olyan\, mintha ködben repülnénk?\n💡Adhatunk önnek egy radart\, amely segít ezt elkerülni!\n🚀Ha kíváncsi rá\, hogyan szárnyalhat a cége tudatosan\, hogy kitűzött pénzügyi célját elérje (vagy akár többet is)\, várjuk a webináriumonkon! \n \nVálasztható időpontok:\n\n2025. Január 21. 18 óra\n2025. Január 22. 9 óra\n\n🆓A részvétel díjmentes\, de regisztrációhoz kötött. \nRegisztráció:\nhttps://form.jotform.com/250073350033341
URL:https://pbkik.hu/esemeny/uzleti-tervezes-kkv-knak/
LOCATION:Online
ATTACH;FMTTYPE=image/png:https://pbkik.hu/wp-content/uploads/2025/01/IFinance_logo.png
END:VEVENT
BEGIN:VEVENT
DTSTART;TZID=Europe/Budapest:20250204T160000
DTEND;TZID=Europe/Budapest:20250204T173000
DTSTAMP:20260423T074522
CREATED:20250130T130029Z
LAST-MODIFIED:20250130T132302Z
UID:10003033-1738684800-1738690200@pbkik.hu
SUMMARY:Miben\, hogyan csomagoljunk a jövőben?
DESCRIPTION:Számos jogszabályi változás van folyamatban a csomagolás tekintetében\,  ezek megismeréséhez nyújt segítséget a CIRCSYST (Horizon Europe)  és a CIREVALC (Interreg Central Europe) projektek keretében megvalósuló webinárium. \n \nA résztvevőknek lehetősége lesz megismerni a csomagolásról és a csomagolási hulladékról szóló PPWR rendelet\, az ökodizájn (EDPR) rendelet csomagolásra vonatkozó\, valamint a környezetbarát jellegre vonatkozó állításokról szóló irányelv (Green Claims Directive) főbb előírásait\, melyek alapvetően határozzák majd meg a csomagolási gyakorlatot és az arról való kommunikációt. \nDr. Konstantin Kata szakpolitikai szakértő előadását követően pedig lehetőség lesz a témában felmerült kérdéseket feltenni. \n A részvétel díjmentes\, de előzetes regisztrációhoz kötött (ennek határideje 02.04. 16:00): REGISZTRÁCIÓ \n  \n 
URL:https://pbkik.hu/esemeny/miben-hogyan-csomagoljunk-a-jovoben/
LOCATION:Online
END:VEVENT
END:VCALENDAR