BEGIN:VCALENDAR
VERSION:2.0
PRODID:-//Pécs-Baranyai Kereskedelmi és Iparkamara - ECPv6.15.20//NONSGML v1.0//EN
CALSCALE:GREGORIAN
METHOD:PUBLISH
X-WR-CALNAME:Pécs-Baranyai Kereskedelmi és Iparkamara
X-ORIGINAL-URL:https://pbkik.hu
X-WR-CALDESC:Események Pécs-Baranyai Kereskedelmi és Iparkamara
REFRESH-INTERVAL;VALUE=DURATION:PT1H
X-Robots-Tag:noindex
X-PUBLISHED-TTL:PT1H
BEGIN:VTIMEZONE
TZID:Europe/Helsinki
BEGIN:DAYLIGHT
TZOFFSETFROM:+0200
TZOFFSETTO:+0300
TZNAME:EEST
DTSTART:20210328T010000
END:DAYLIGHT
BEGIN:STANDARD
TZOFFSETFROM:+0300
TZOFFSETTO:+0200
TZNAME:EET
DTSTART:20211031T010000
END:STANDARD
BEGIN:DAYLIGHT
TZOFFSETFROM:+0200
TZOFFSETTO:+0300
TZNAME:EEST
DTSTART:20220327T010000
END:DAYLIGHT
BEGIN:STANDARD
TZOFFSETFROM:+0300
TZOFFSETTO:+0200
TZNAME:EET
DTSTART:20221030T010000
END:STANDARD
BEGIN:DAYLIGHT
TZOFFSETFROM:+0200
TZOFFSETTO:+0300
TZNAME:EEST
DTSTART:20230326T010000
END:DAYLIGHT
BEGIN:STANDARD
TZOFFSETFROM:+0300
TZOFFSETTO:+0200
TZNAME:EET
DTSTART:20231029T010000
END:STANDARD
END:VTIMEZONE
BEGIN:VEVENT
DTSTART;TZID=Europe/Helsinki:20220314T080000
DTEND;TZID=Europe/Helsinki:20220318T170000
DTSTAMP:20260420T103823
CREATED:20220218T125700Z
LAST-MODIFIED:20220218T135407Z
UID:10002621-1647244800-1647622800@pbkik.hu
SUMMARY:EU-Japan Green Transition Matchmaking Platform
DESCRIPTION:Az EU-Japan Centre for Industrial Cooperation (Enterprise Europe Network Japan) által szervezett virtuális B2B esemény lehetőséget nyújt\, hogy a japán és európai vállalatok\, kutatóintézetek találkozzanak és olyan üzleti partnerségeket alakítsanak ki\, amelyek hozzájárulnak a szén-dioxid-kibocsátás csökkentéséhez. \nA regisztrált résztvevők egymás ajánlatait\, igényeit böngészhetik\, és kulcsszavak és kategóriák alapján kereshetnek potenciális partnereket. Lehetőség van üzenetek küldésére vagy találkozók kérésére\, amelyek videohívás formájában zajlanak. Az előre egyeztetett online találkozók első körére a március 16-18. között megrendezésre kerülő World Smart Energy Week Japan előtt\, közben és után kerül sor. \nFő témakörök \n\nMegújuló energia\nIntelligens energetikai infrastruktúra\nEnergia- és erőforrás-hatékonyság\nBioanyagok\nEgyéb dekarbonizációs technológiák\n\nMiért érdemes részt venni? \n\nVásárlóként – hatékony személyes találkozók során találhat képzett beszállítókat.\nPiaci/értékesítési menedzserként – új vevőket találhat.\nTermékfejlesztőként – találjon partnereket az új technológiák és innovatív megoldások megvitatásához.\n\nHogyan profitálhat ebből a platformból? \n\nTegye közzé és mutassa be termékeit\, projektjeit\, szolgáltatásait vagy üzleti igényeit a többi résztvevőnek\nGyűjtsön információt a legújabb technológiákról és üzleti trendekről\nKezdeményezzen és szervezzen ígéretes\, előre tervezett 1:1-es találkozókat.\n\nA részvétel díjmentes. \nTovábbi információ elérhető és regisztrálni lehet az alábbi linken: \nREGISZTRÁCIÓ
URL:https://pbkik.hu/esemeny/eu-japan-green-transition-matchmaking-platform/
LOCATION:online
ATTACH;FMTTYPE=image/png:https://pbkik.hu/wp-content/uploads/2022/02/EU-Japan-Green-Transition.png
END:VEVENT
END:VCALENDAR