BEGIN:VCALENDAR
VERSION:2.0
PRODID:-//Pécs-Baranyai Kereskedelmi és Iparkamara - ECPv6.15.20//NONSGML v1.0//EN
CALSCALE:GREGORIAN
METHOD:PUBLISH
X-WR-CALNAME:Pécs-Baranyai Kereskedelmi és Iparkamara
X-ORIGINAL-URL:https://pbkik.hu
X-WR-CALDESC:Események Pécs-Baranyai Kereskedelmi és Iparkamara
REFRESH-INTERVAL;VALUE=DURATION:PT1H
X-Robots-Tag:noindex
X-PUBLISHED-TTL:PT1H
BEGIN:VTIMEZONE
TZID:Europe/Helsinki
BEGIN:DAYLIGHT
TZOFFSETFROM:+0200
TZOFFSETTO:+0300
TZNAME:EEST
DTSTART:20190331T010000
END:DAYLIGHT
BEGIN:STANDARD
TZOFFSETFROM:+0300
TZOFFSETTO:+0200
TZNAME:EET
DTSTART:20191027T010000
END:STANDARD
BEGIN:DAYLIGHT
TZOFFSETFROM:+0200
TZOFFSETTO:+0300
TZNAME:EEST
DTSTART:20200329T010000
END:DAYLIGHT
BEGIN:STANDARD
TZOFFSETFROM:+0300
TZOFFSETTO:+0200
TZNAME:EET
DTSTART:20201025T010000
END:STANDARD
BEGIN:DAYLIGHT
TZOFFSETFROM:+0200
TZOFFSETTO:+0300
TZNAME:EEST
DTSTART:20210328T010000
END:DAYLIGHT
BEGIN:STANDARD
TZOFFSETFROM:+0300
TZOFFSETTO:+0200
TZNAME:EET
DTSTART:20211031T010000
END:STANDARD
BEGIN:DAYLIGHT
TZOFFSETFROM:+0200
TZOFFSETTO:+0300
TZNAME:EEST
DTSTART:20220327T010000
END:DAYLIGHT
BEGIN:STANDARD
TZOFFSETFROM:+0300
TZOFFSETTO:+0200
TZNAME:EET
DTSTART:20221030T010000
END:STANDARD
END:VTIMEZONE
BEGIN:VEVENT
DTSTART;TZID=Europe/Helsinki:20210331T090000
DTEND;TZID=Europe/Helsinki:20210331T130000
DTSTAMP:20260426T015655
CREATED:20210323T092436Z
LAST-MODIFIED:20221122T095145Z
UID:10001905-1617181200-1617195600@pbkik.hu
SUMMARY:eBussed - Zöldül a tömegközlekedés
DESCRIPTION:Az eBussed nevű nemzetközi projekt célul tűzte ki a partner régiók közötti tapasztalatcserét az elektromos buszokkal összefüggő fejlesztések különböző szakaszaiban. Ezzel is támogatva azokat az európai régiókat – a Dél-Dunántúlon belül Paks és Pécs városokat – amelyek e-buszok beszerzését\, üzemeltetését\, illetve meglévő elektromos busz flottájuk bővítését tervezik. \n \nA projekt keretében online tájékoztató rendezvényre kerül sor 2021.03.31-én a projektben partnerként résztvevő DDRIÜ Dél-Dunántúli Regionális Innovációs Ügynökség Nonprofit Kft. szervezésében. \nA rendezvényre várnak minden érdeklődőt! A részvétel díjmentes\, de előzetes regisztrációhoz kötött: \nREGISZTRÁCIÓ\nPROGRAM: \n\n\n\nIdő\nTevékenység/prezentáció\nElőadó\n\n\n08:50\nCsatlakozás a GoToMeeting rendezvényhez\n\n\n\n09:00\nAz esemény megnyitása és rövid bemutatása\nHAÁSZ Zoltán\nügyvezető igazgató\, DDRIÜ Nonprofit Kft.PÁLMAI Zsolt\nigazgatóhelyettes\, DDRIÜ Nonprofit Kft.\n\n\n09:10\nAz e-busz hálózat kiépítését  támogató\, államilag irányított kezdeményezés: a magyar kormány Zöld Busz Programja – Zöld Busz Program\nERŐS Veronika\nprojektvezető\, Zöld Busz Program\n\n\n09:40\nHelyi példa – Pécs: e-busz fejlesztés az érdekelt felek és a lakosság részvételével  – Tüke Busz Zrt. (pécsi tömegközlekedés üzemeltetője)\nCSÚCS Zoltán\nvezérigazgató\, Pécsi Városfejlesztési Nonprofit Zrt.\, a Tüke Busz Zrt. képviseletében\n\n\n10:10\nKávészünet\n\n\n\n10:30\nHelyi példa – Paks: e-busz fejlesztés az érdekelt felek és a lakosság részvételével  – Paks Közlekedési Kft. (paksi tömegközlekedés üzemeltetője)\nKISS Balázs\nkülső szakértő\, Paksi Közlekedési Kft.KIRÁLY István\nműszaki menedzser\, Paksi Közlekedési Kft.\n\n\n11:00\nModerált beszélgetés az e-buszok telepítésével kapcsolatos nyilvánosság tudatosság növeléséről\nSZÁSZ János\ne-mobilitási szakértő\, CAE Consulting Bt.Résztvevők:Korábbi előadók és Markku IKONEN egyetemi oktató\, Alkalmazott Tudományok Turku Egyeteme (finn partner)\n\n\n12:00\nKérdések és válaszok\nSZÁSZ János\ne-mobilitási szakértő\, CAE Consulting Bt.\n\n\n12:50\nAz esemény zárása és a következő nemzetközi esemény promotálása\nPÁLMAI Zsolt\nigazgatóhelyettes\, DDRIÜ Nonprofit Kft.\n\n\n\n  \nA rendezvény angol nyelven zajlik. \nRészvételi szándékát kérjük\, legkésőbb 2021. március 30-ig jelezze. Az online rendezvény linkjét a regisztrációt követően\, egyúttal a webináriumot megelőzően juttatják el a Szervezők a regisztrált résztvevők e-mail címeire.
URL:https://pbkik.hu/esemeny/ebussed-zoldul-a-tomegkozlekedes/
LOCATION:Online
ATTACH;FMTTYPE=image/jpeg:https://pbkik.hu/wp-content/uploads/2021/03/ebussed_eu_logo.jpg
END:VEVENT
BEGIN:VEVENT
DTSTART;VALUE=DATE:20201202
DTEND;VALUE=DATE:20201204
DTSTAMP:20260426T015655
CREATED:20201201T144116Z
LAST-MODIFIED:20201201T144253Z
UID:10002178-1606867200-1607039999@pbkik.hu
SUMMARY:Ír Kamara „Green Deal Week”
DESCRIPTION:Időpont: 2020. december 2 – 3. \nProgram\, valamint regisztráció és jelentkezés az alábbi linkeken: \n \n\nWeds 1pm- Skills and Jobs for the Green Transition\nThurs 1pm- A Just Transition for the Regions\nFriday 1pm- Innovation and Infrastructure for the Net Zero Transition
URL:https://pbkik.hu/esemeny/ir-kamara-green-deal-week/
LOCATION:Online
END:VEVENT
BEGIN:VEVENT
DTSTART;TZID=Europe/Helsinki:20200925T100000
DTEND;TZID=Europe/Helsinki:20200925T113000
DTSTAMP:20260426T015655
CREATED:20200914T103037Z
LAST-MODIFIED:20200914T103232Z
UID:10001808-1601028000-1601033400@pbkik.hu
SUMMARY:Klímavédelmi finanszírozási lehetőségek a Nyugat-Balkánon
DESCRIPTION:A tervek szerint 2020 őszén hirdeti meg második\, nyugat-balkáni beruházás-előkészítő és kapacitásfejlesztő támogatási programját a Nyugat-Balkáni Zöld Központ Nonprofit Kft. A program rokon vonásokat hordoz első\, tavaszi felhívásukkal\, amelyről bővebb információt az alábbi linken talál:  https://www.wbgc.hu/hu/tamogatasi-felhivasok/lezarult-felhivasok/wbgc_2020_1. \n \nEzúton tisztelettel meghívjuk Önt virtuális tájékoztató eseményünkre\, amelynek célja a zöldgazdaságot érintő aktuális kihívások áttekintésén túl a támogatási program bemutatása lesz azokkal a hangsúlyokkal\, amelyek eltérést jelentenek a tavaszi támogatási felhíváshoz képest. A program a Nyugat-Balkáni Zöld Központ\, az Innovációs és Technológiai Minisztérium\, a Magyar Kereskedelmi és Iparkamara Nyugat-balkáni Tagozata\, valamint a Magyar Exportfejlesztési Ügynökség együttműködésével valósul meg. Az eseményen kerekasztal beszélgetésre kerül sor „A zöldgazdaságot érintő kihívások egy változó világban” címmel\, amelyben hazai és nemzetközi szereplők segítségével áttekintjük a zöldgazdaság aktuális kérdéseit. Bővebb információért kérjük tekintse meg a mellékelt programtervet. \n  \nAz esemény időpontja: 2020.szeptember 25.\, 10.00-11.30 \nFormátum: virtuális esemény \n  \nAz eseményről\, illetve technikai részletekről a Nyugat-Balkáni Zöld Központ honlapján tájékozódhat:  https://www.wbgc.hu/hu/esemenyek/jovobeli-esemenyek/virtualis-tajekoztato-klimavedelmi-finanszirozasi-lehetosegek-a-nyugat-balkanon. \nKérjük\, hogy a regisztráció kitöltésével jelezze részvételi szándékát a fent megadott linken. \n  \nA csatlakozáshoz szükséges linket a Nyugat-Balkáni Zöld Központ munkatársai e-mailen küldik meg a regisztrálóknak az eseményt megelőzően. \n  \nKérdéseikkel forduljanak hozzánk bizalommal a wbgc@wbgc.hu és a  szekeres.anna@mkik.hu e-mail címen. \n  \nPROGRAMTERV
URL:https://pbkik.hu/esemeny/klimavedelmi-finanszirozasi-lehetosegek-a-nyugat-balkanon/
LOCATION:Online
END:VEVENT
END:VCALENDAR