BEGIN:VCALENDAR
VERSION:2.0
PRODID:-//Pécs-Baranyai Kereskedelmi és Iparkamara - ECPv6.15.20//NONSGML v1.0//EN
CALSCALE:GREGORIAN
METHOD:PUBLISH
X-WR-CALNAME:Pécs-Baranyai Kereskedelmi és Iparkamara
X-ORIGINAL-URL:https://pbkik.hu
X-WR-CALDESC:Események Pécs-Baranyai Kereskedelmi és Iparkamara
REFRESH-INTERVAL;VALUE=DURATION:PT1H
X-Robots-Tag:noindex
X-PUBLISHED-TTL:PT1H
BEGIN:VTIMEZONE
TZID:Europe/Budapest
BEGIN:DAYLIGHT
TZOFFSETFROM:+0100
TZOFFSETTO:+0200
TZNAME:CEST
DTSTART:20240331T010000
END:DAYLIGHT
BEGIN:STANDARD
TZOFFSETFROM:+0200
TZOFFSETTO:+0100
TZNAME:CET
DTSTART:20241027T010000
END:STANDARD
BEGIN:DAYLIGHT
TZOFFSETFROM:+0100
TZOFFSETTO:+0200
TZNAME:CEST
DTSTART:20250330T010000
END:DAYLIGHT
BEGIN:STANDARD
TZOFFSETFROM:+0200
TZOFFSETTO:+0100
TZNAME:CET
DTSTART:20251026T010000
END:STANDARD
BEGIN:DAYLIGHT
TZOFFSETFROM:+0100
TZOFFSETTO:+0200
TZNAME:CEST
DTSTART:20260329T010000
END:DAYLIGHT
BEGIN:STANDARD
TZOFFSETFROM:+0200
TZOFFSETTO:+0100
TZNAME:CET
DTSTART:20261025T010000
END:STANDARD
END:VTIMEZONE
BEGIN:VEVENT
DTSTART;VALUE=DATE:20250130
DTEND;VALUE=DATE:20250202
DTSTAMP:20260421T044840
CREATED:20250106T101520Z
LAST-MODIFIED:20250108T101831Z
UID:10003016-1738195200-1738454399@pbkik.hu
SUMMARY:Agro Belgrade 2025 - Nemzetközi kiállítás és partnerkereső rendezvény
DESCRIPTION:Az Agro Belgrade 2025 a hatodik nemzetközi gyümölcs-\, zöldség- és szőlészeti vásár\, amely 2025. január 30. és február 1. között kerül megrendezésre a belgrádi vásárterületen. Az esemény célja\, hogy összehozza a Nyugat-Balkán és Délkelet-Európa legjelentősebb vállalatait a gyümölcstermesztés\, szőlészet és zöldségtermesztés területéről\, valamint a szerbiai mezőgazdasági szövetkezeteket. \nSzervezők \nAz eseményt az Agro Belgrade DOO szervezi\, együttműködve a Szerbiai Gazdasági Kamarával\, az Enterprise Europe Network hálózatával és más iparági partnerekkel. \nIdőpont és helyszín \n\nIdőpont: 2025. január 30. – február 1.\nHelyszín: Belgrádi Vásár\, Bulevar vojvode Mišića 14\, Belgrád\, Szerbia\n\nProgram és célközönség \nAz Agro Belgrade 2025 több mint 1000 kiállítót vonultat fel\, beleértve a világ legnagyobb vállalatait is. A kísérő konferenciaprogramok és kerekasztal-beszélgetések olyan aktuális kihívásokkal foglalkoznak\, mint a modern technológiai megoldások alkalmazása a mezőgazdaságban\, az ökológiai termelés\, az EU agrárpolitikái és az éghajlatváltozás hatásai az élelmiszer-termelésre. \nB2B találkozók \nAz esemény keretében 2025. január 31-én B2B találkozókra is sor kerül\, amelyek célja\, hogy összekapcsolja a gyümölcs-\, zöldség- és boripar szereplőit potenciális üzleti partnerekkel. \nBelépés és költségek \nA rendezvény látogatása jegyvásárláshoz kötött. A jegyek megvásárolhatók a rendezvény ideje alatt a Belgrádi Vásár jegypénztárában\, valamint a tickets.rs értékesítési pontjain és weboldalán. \nTovábbi információk \nAz esemény részletes programja\, a kiállítók listája és a regisztrációs lehetőségek az Agro Belgrade hivatalos honlapján érhetők el.
URL:https://pbkik.hu/esemeny/agro-belgrade-2025-nemzetkozi-kiallitas-es-partnerkereso-rendezveny/
LOCATION:Belgrade Fair\, Bulevar vojvode Mišića 14.\, Belgrade\, 11000\, Szerbia
CATEGORIES:EEN események
ATTACH;FMTTYPE=image/png:https://pbkik.hu/wp-content/uploads/2025/01/AgroBelgrade2025.png
END:VEVENT
BEGIN:VEVENT
DTSTART;TZID=Europe/Budapest:20250204T080000
DTEND;TZID=Europe/Budapest:20250208T170000
DTSTAMP:20260421T044840
CREATED:20241206T102901Z
LAST-MODIFIED:20250207T201321Z
UID:10003008-1738656000-1739034000@pbkik.hu
SUMMARY:Ingyenes kiállítási lehetőség az Agroexpo Izmir török kiállításon
DESCRIPTION:Törökországban a legnagyobb\, és Európában is az első négy között számon tartott mezőgazdasági és állattenyésztési kiállítás\, az Agroexpo 2025-ben\, immáron 20. alkalommal várja látogatóit az Égei-tenger gyöngyszemének is nevezett Izmir városában. \nIdőpont: 2025. február 4-8. \nHelyszín: İzmir – Gaziemir Nemzetközi Kiállítóközpont \n \nA HEPA Türkiye 2025. február 4-8. között nemzeti standdal vesz részt az Izmirben megrendezésre kerülő Agroexpo 2025-ös kiállításon. \nA kiállításról bővebben: https://en.agroexpo.com.tr/ \nA kiállítási standon való megjelenés ingyenes\, a kiállítói helyek száma limitált\, a cégek kiválasztása jelentkezési sorrendben történik. \nA HEPA Magyar Exportfejlesztési Ügynökség törökországi partnerirodájával az alábbi szolgáltatásokkal járul hozzá a sikeres megjelenéshez: \n\nelőzetes piackutatás készítése\npotenciális vevői lista készítése\ntávoli egyeztetések előkészítése a potenciális partnerekkel\nszemélyes találkozó szervezése a potenciális partnerekkel a kiállítás ideje alatt.\n\n  \nA kiállításról\n\nKiállítói pavilonok száma: 17\nBelső kiállítótér mérete: 110.000 m2\nTeljes kiállítói terület: 330.000 m2\nNyitvatartás: 10:00 – 18:00h\nVárható résztvevő cégek száma: 600\nVárható látogatószám: 150.000\nA résztvevő országok becsült száma: 95\nA résztvevő márkák száma: 1039\n\nA 2024-es évben szervezett B2B találkozók mintegy 2 milliárd $ értékű üzleti volument generáltak a vevői delegációk\, a látogatók\, a kiállítók és a vállalatvezetők között. Különösen a delegációk részvétele haladta meg a várakozásokat\, és az AGROEXPO kiállítói számos rangos üzletet kötöttek a vásár alatt. \nA 2025-ös vásár célja\, hogy ismét találkozási lehetőséget biztosítson a fontos nemzetközi gyártóknak\, a mezőgazdasággal és állattenyésztéssel foglalkozó vállalatoknak\, a helyi és nemzetközi mezőgazdasági gépgyártóknak\, valamint a gazdáknak. \nFőbb szektorok \n\nNövénytermesztés\nÁllattenyésztés\nMezőgazdasági gépek és alkatrészek\nMéhészet\nVetőmag és oltványok\nMűtrágya\nÖntözéstechnológia\nTakarmányozás\nTejipar\nSzárnyasok\n\nAz AGROEXPO 20. alkalommal köt össze kontinenseket\, új céljaival ismét összehozza a világ és Törökország mezőgazdaságát. \nA török agrárium az ország lakosságának 15%-át foglalkoztatja és 6\,18%-ban járul hozzá a GDP-hez\, több mint 69 milliárd dollár értékben. (Magyarországon a GDP kontribúció aránya 4\,69%\, nagyjából 9 milliárd dolláros éves kibocsátással). \nA dinamikusan évente 1\,2%-al növekvő török népesség élelmiszerigénye és a megmunkált földterületek alacsony aránya miatt\, folyamatos a szakmai és politikai diskurzus a mezőgazdaság digitalizációjáról\, hatékonysági fokának növeléséről. A két ország mezőgazdaságának méretkülönbségéből adódóan\, esetleges kétoldalú megállapodások elérése a török féllel évtizedekre előre biztosíthatná a mezőgazdasággal kapcsolatos termékek és innovációk értékesítési lehetőségét. \n  \nKérdéssel és a részvételi szándékkal kapcsolatban a herenyi.lilla@hepa.hu e-mail címen lehet jelentkezni. A jelentkezés 2024. december 20-án zárul.
URL:https://pbkik.hu/esemeny/ingyenes-kiallitasi-lehetoseg-az-agroexpo-izmir-torok-kiallitason/
LOCATION:İzmir – Gaziemir Nemzetközi Kiállítóközpont\, Izmir\, Turkey
ATTACH;FMTTYPE=image/avif:https://pbkik.hu/wp-content/uploads/2024/12/izmir-agroexpo-2025.avif
END:VEVENT
BEGIN:VEVENT
DTSTART;TZID=Europe/Budapest:20250204T160000
DTEND;TZID=Europe/Budapest:20250204T173000
DTSTAMP:20260421T044840
CREATED:20250130T130029Z
LAST-MODIFIED:20250130T132302Z
UID:10003033-1738684800-1738690200@pbkik.hu
SUMMARY:Miben\, hogyan csomagoljunk a jövőben?
DESCRIPTION:Számos jogszabályi változás van folyamatban a csomagolás tekintetében\,  ezek megismeréséhez nyújt segítséget a CIRCSYST (Horizon Europe)  és a CIREVALC (Interreg Central Europe) projektek keretében megvalósuló webinárium. \n \nA résztvevőknek lehetősége lesz megismerni a csomagolásról és a csomagolási hulladékról szóló PPWR rendelet\, az ökodizájn (EDPR) rendelet csomagolásra vonatkozó\, valamint a környezetbarát jellegre vonatkozó állításokról szóló irányelv (Green Claims Directive) főbb előírásait\, melyek alapvetően határozzák majd meg a csomagolási gyakorlatot és az arról való kommunikációt. \nDr. Konstantin Kata szakpolitikai szakértő előadását követően pedig lehetőség lesz a témában felmerült kérdéseket feltenni. \n A részvétel díjmentes\, de előzetes regisztrációhoz kötött (ennek határideje 02.04. 16:00): REGISZTRÁCIÓ \n  \n 
URL:https://pbkik.hu/esemeny/miben-hogyan-csomagoljunk-a-jovoben/
LOCATION:Online
END:VEVENT
BEGIN:VEVENT
DTSTART;TZID=Europe/Budapest:20250207T080000
DTEND;TZID=Europe/Budapest:20250221T170000
DTSTAMP:20260421T044840
CREATED:20250109T122848Z
LAST-MODIFIED:20250109T124906Z
UID:10003021-1738915200-1740157200@pbkik.hu
SUMMARY:Fenntartható\, körforgásos vállalati megoldások bemutatása
DESCRIPTION:SustainableSolutionsMatch \n \nAz online rendezvény lehetőséget biztosít a vállalkozásoknak fenntartható\, vagy körforgásos megoldások bemutatására a gazdaság gyakorlatilag minden területén. Az esemény célja\, hogy elősegítse Európa fenntartható és körforgásos gazdaságra való átállását. Virtuális B2B partnerkeresési lehetőségeken keresztül hozza össze a megoldások szolgáltatóit és a megoldást keresőket. \nMiért érdemes részt venni? \n\nNagyobb láthatóság: Bemutathatja innovatív megoldásait az európai potenciális partnereknek.\nÉrtékesítési lehetőségek: Kapcsolatot teremthet a fenntartható megoldásokat aktívan kereső vállalatokkal és intézményekkel.\nÜzleti növekedés: Új együttműködések kialakítása és eddig kiaknázatlan piacok feltárása.\n\nOlyan vállalkozások jelentkezését várják\, akik már piackész megoldásokkal rendelkeznek\, vagy készek együttműködni más európai vállalkozásokkal egy közös projekt fejlesztésében. \nIdőpont: 2025.02.07-21. \nHelyszín: online \nBővebb információ: https://www.b2match.com/e/sustainablesolutionsmatch2025 \n  \n 
URL:https://pbkik.hu/esemeny/fenntarthato-korforgasos-vallalati-megoldasok-bemutatasa/
LOCATION:Online
END:VEVENT
BEGIN:VEVENT
DTSTART;VALUE=DATE:20250211
DTEND;VALUE=DATE:20250214
DTSTAMP:20260421T044840
CREATED:20250108T135446Z
LAST-MODIFIED:20250108T140430Z
UID:10003019-1739232000-1739491199@pbkik.hu
SUMMARY:ISE Open Innovation Challenge 2025 - Nemzetközi konferencia és partnerkereső rendezvény
DESCRIPTION:Az ISE Open Innovation Challenge 2025 egy nemzetközi B2B találkozó\, amelyen olyan vállalatok\, kkv-k és szervezetek (kihívások gazdái) vesznek részt\, akik új technológiákat/megoldásokat keresnek \nA rendezvényen lehetőség van személyesen és/vagy online is részt venni. \n\nA személyes találkozókra az ISE Congress helyszínén\, Barcelonában kerül sor február 4. és 6. között.\nAz online találkozókra február 11-13. között kerül sor.\n\nJelentkezési és találkozók foglalásának határideje: 2025. február 13. \nAz ISE Open Innovation Challenge 2025 az ACCIÓ\, a katalán kormány Vállalkozás- és Munkaügyi Minisztériumának szervezi\, együttműködve az Enterprise Europe Networkkel\, a világ legnagyobb vállalkozástámogató hálózatával. \nAz ISE audiovizuális kongresszus 2025-ben kerül ötödszörre megrendezésre Barcelonában 2025 február 4-től 7-ig. \nAz Integrated Systems Europe a világ vezető AV és rendszerintegrációs kiállítása. Az ISE 2025 a világ vezető technológiai újítóit és megoldásszállítóit mutatja be. Emellett 4 napon át inspiráló konferenciák\, események és élmények várják a látogatókat. \nTovábbi információ é regisztráció itt: ise-2025-open-innovation-challenge.b2match.io
URL:https://pbkik.hu/esemeny/ise-open-innovation-challenge-2025-nemzetkozi-konferencia-es-partnerkereso-rendezveny/
LOCATION:online
CATEGORIES:EEN események
ATTACH;FMTTYPE=image/jpeg:https://pbkik.hu/wp-content/uploads/2025/01/ISE2025.jpg
END:VEVENT
BEGIN:VEVENT
DTSTART;TZID=Europe/Budapest:20250211T130000
DTEND;TZID=Europe/Budapest:20250211T170000
DTSTAMP:20260421T044840
CREATED:20250122T132735Z
LAST-MODIFIED:20250122T133927Z
UID:10003031-1739278800-1739293200@pbkik.hu
SUMMARY:Évtervezés workshop vállalkozóknak
DESCRIPTION:Készüljön fel a sikeres és tudatos évre! Ne hagyja\, hogy a következő éve is „csak úgy” megtörténjen! Ha elege van abból\, hogy mindig rohan\, kapkod\, és nem látja tisztán\, merre is halad a vállalkozása\, akkor ez az évtervező workshop Önnek szól. Fedezze fel\, milyen erő rejlik egy tudatos\, stratégiára és önismeretre épülő évindításban! \n \nA workshopot egyaránt ajánljuk több fős vállalkozások vezetőinek\, illetve most induló\, vagy egyszemélyes vállalkozások tulajdonosainak. A több fős cégek irányítói átfogó stratégiákkal és vezetői eszközökkel ismerkedhetnek meg és próbálhatnak ki\, melyek segítenek összehangolni a csapattagok feladatait és motivációját. A kezdő\, vagy egyszemélyes vállalkozások számára a workshop segít alapot teremteni a fókusz megtalálásához és az erőforrások tudatos felhasználásához. \nRészvételi díj: \n\n12.000.-Ft+Áfa/fő\,\nönkéntes kamarai tagvállalkozások munkatársai számára: 10.000.-Ft+Áfa/fő.\n\nTovábbi információ\, regisztráció az alábbi oldalon: \nÉvtervezés workshop vállalkozóknak
URL:https://pbkik.hu/esemeny/evtervezes-workshop-vallalkozoknak/
LOCATION:Pécsi Kereskedelmi Központ
ATTACH;FMTTYPE=image/jpeg:https://pbkik.hu/wp-content/uploads/2025/01/todo-lists-5238324_1280.jpg
GEO:46.081487;18.2347915
END:VEVENT
BEGIN:VEVENT
DTSTART;TZID=Europe/Budapest:20250214T080000
DTEND;TZID=Europe/Budapest:20250216T170000
DTSTAMP:20260421T044840
CREATED:20250114T070923Z
LAST-MODIFIED:20250114T074023Z
UID:10003027-1739520000-1739725200@pbkik.hu
SUMMARY:Innovent forum 2025 Matchmaking Event
DESCRIPTION:A két napos HIBRID esemény fő témája\, az innováció és az új technológiák milyen módon vezethetnek a fenntarthatósághoz és az ellenálló képességhez a társadalom és a gazdaság fontos ágazataiban. \n \nA partnerkereső rendezvényen lehetőség van számos görögországi\, európai és más országbeli partnerek felkutatására. Az eseményen lehetősége van az új innovációs ötleteinek megosztására\, üzleti\, kereskedelmi hálózatának bővítésére. Közös fejlesztésekben való részvételre is. \nAz Innovent Forum Matchmaking Event az alábbi területekre fókuszál:\n \n\nAgroFood\nKörnyezetipar\nEnergiaipar\nGyártás területei\nÉpítőipar\nMesterséges intelligencia (AI)\nDigitális ikrek (Digital Twins)\nDigitális játékipar\nA dolgok internete (Internet of Things)\nRobotika\nKiterjesztett valóság (Extended Reality)\nKöz\, -és Kormányzati szektor\nInnovatív üzleti javaslatok és tervek (Startup cégek és fiatalok)\n\nIdőpont: 2025.02.14-16. \nHelyszín: Larissa\, Görögország \nBővebb információ és regisztráció: https://innovent-2025.b2match.io/home \n 
URL:https://pbkik.hu/esemeny/innovent-forum-2025/
LOCATION:Larissa\, Greece
CATEGORIES:EEN események
END:VEVENT
BEGIN:VEVENT
DTSTART;TZID=Europe/Budapest:20250225T083000
DTEND;TZID=Europe/Budapest:20250225T133000
DTSTAMP:20260421T044840
CREATED:20250218T084803Z
LAST-MODIFIED:20250218T085125Z
UID:10003044-1740472200-1740490200@pbkik.hu
SUMMARY:Adatalapú döntéshozatal és MI a gyártásban
DESCRIPTION:Február 25-én Győrben szó lesz szenzorokról\, IoT eszközökről\, humán és gépi erőforrásokról. A rendezvény célja: a termelési folyamatok hatékonyságának növelése\, valamint digitalizációs és mesterséges intelligencia megoldások bemutatása szakmai demók segítségével\, amelyek révén a résztvevők gyakorlati példákon keresztül ismerhetik meg a legújabb technológiákat és alkalmazásokat. A rendezvényt ajánljuk a vállalkozásoknál dolgozó gyártási szakemberek\, döntéshozók és üzemvezetők számára. \n \nProgram \n8:30-9:00 Regisztráció \n9:00-9:05: Köszöntő \n9:05-9:10 Adat alapú vállalatfejlesztés a Data-EDIH támogatásával\n  Lukács Kriszta\, Németh Ferenc\, Neumann Nonprofit Kft. \n\nA Data-EDIH projekt bemutatása.\n\n9:15-9:45 MI és adatmenedzsment projekt tervezésének folyamata\nTarcsi Ádám\, ELTE-Soft Nonprofit Kft\, Data-EDIH szakmai vezető \n\nAdatmenedzsment alapok a gyártásban.\nAdatalapú projektek tervezése.\nSikeres ipari példák bemutatása.\n\n9:50-10:20 Humán erőforrások felkészítése a digitalizációra\n Katona László\, BME Ipar 4.0 Technológiai Központ \n\nSikeres digitalizációt megalapozó szemlélet kialakítása: munkaerő\, munkaszervezés és digitalizáció szempontjából.\n\n10:25-10:55 Szenzorokból érkező adatok alapján berendezések üzemállapotának meghatározása\n  Bencsik Gergely\, ELTE-Soft Nonprofit Kft \n\nSzenzorok és IoT eszközök szerepe a gyártásban.\nMI-alapú adatértelmezés és prediktív karbantartás.\nSzakmai demó: Szenzoradatok feldolgozása.\n\n11:00-11:20 Kávészünet \n11:20-11:50 Gyártási folyamat vezérlés gépi látással\nKovács László\, BME Ipar 4.0 Technológiai Központ \n\nSzerelési műveletek irányítása képi feldolgozás és vizualizáció segítségével.\nMI alkalmazása műveletkiegyenlítésen alapuló valós idejű optimalizálásra.\nSzakmai demó: Gépi látás alkalmazása folyamatvezérlésre és minőségellenőrzésre.\n\n11:55-12:10 Kiberbiztonsági követelmények\, NIS2\nPödör Zoltán\, ELTE-Soft Nonprofit Kft \n\nAz NIS2 irányelv és annak hatásai.\nAdatbiztonsági kockázatok és megfelelési stratégiák.\n\n12:15-12:20 Forrásbevonási szolgáltatás\nLukács Kriszta\, Németh Ferenc\, Neumann Nonprofit Kft. \n\nElérhető finanszírozási lehetőségek.\n\n12:25- Networking \n\nEgyüttműködési lehetőségek.\nNyitott diskurzus és kapcsolatépítés.\n\nA rendezvényen való részvétel térítésmentes\, de előzetes regisztrációhoz kötött!\nRegisztrációs határidő: 2025. február 21. (péntek) 16:00\nRegisztrációhoz kattintson ide »»» \nKapcsolat: Kovács-Nagy Judit\ne-mail: nagy.judit@gymsmkik.hu\nmobil: +36 20 234 3341
URL:https://pbkik.hu/esemeny/adatalapu-donteshozatal-es-mi-a-gyartasban/
LOCATION:Győr-Moson-Sopron Vármegyei Kereskedelmi és Iparkamara székháza\, Szent István út 10/A.\, Győr\, Győr-Moson-Sopron\, 9021\, Magyarország
CATEGORIES:Ajánló
END:VEVENT
BEGIN:VEVENT
DTSTART;TZID=Europe/Budapest:20250225T100000
DTEND;TZID=Europe/Budapest:20250225T120000
DTSTAMP:20260421T044840
CREATED:20250220T075020Z
LAST-MODIFIED:20250220T093755Z
UID:10003047-1740477600-1740484800@pbkik.hu
SUMMARY:AI Sessions - az Európai Bizottság MI törvénye
DESCRIPTION:Az online esemény  az EU AI Act (MI törvény) szerinti legfontosabb szabályozásokra\, besorolásokra és a startupokra gyakorolt hatásokra összpontosít. \n \nAz „AI Sessions – Navigating the European Commission’s AI Act” egy online eseménysorozat első alkalma\, amely az EU AI Act szerinti legfontosabb szabályozásokra\, besorolásokra és a startupokra gyakorolt hatásokra összpontosít. A vitaindító előadás felvázolja\, hogy mit kell tudniuk a vállalkozásoknak az Európai Bizottság AI-törvényével kapcsolatban\, nevezetesen a legfontosabb szabályozásokat\, az AI-törvény céljait\, hatásait\, és a törvénynek való megfelelés kihívásait és lehetőségeit. \nEzt követi egy panelbeszélgetés a megfeleléssel kapcsolatos navigációról\, az innováció és a szabályozás betartásának egyensúlyát célzó stratégiák feltárásáról\, valamint arról\, hogy a startupok hogyan játszhatnak kulcsszerepet a felelős AI-fejlesztés és -irányítás előmozdításában. \nVégül egy kerekasztal-beszélgetésen a mesterséges intelligenciával foglalkozó startupok és az állami finanszírozás kihívásairól\, lehetőségeiről és sikertörténeteiről lesz szó. A meghívott előadók betekintést nyújtanak a rendelkezésre álló programokba\, a sikeres finanszírozási stratégiákba és az európai AI-finanszírozás jövőjébe. \nA részvétel díjmentes\, de regisztrációhoz kötött. \nREGISZTRÁCIÓ \n  \nMi is az az AI Sessions? \nAz AI Sessions egy most induló online eseménysorozat\, ami összehozza az AI startupokat\, innovátorokat\, politikai döntéshozókat\, jogi és ipari szakértőket\, befektetőket és még sok szereplőt. Célja\, hogy panelbeszélgetéseken\, interaktív kérdés-feleleteken és gyakorlati tudnivalókon keresztül az innovátorokat olyan eszközökkel és stratégiákkal vértezze fel\, amelyek szükségesek ahhoz\, hogy sikeresek legyenek az európai mesterséges intelligencia változó környezetében. \nAz eseménysorozatot az F6S Innovation és 17 uniós finanszírozású projekt támogatja. Minden projekt a mesterséges intelligenciával kapcsolatos kritikus kihívásokkal foglalkozik. \nTovábbi információ
URL:https://pbkik.hu/esemeny/ai-sessions-az-europai-bizottsag-mi-torvenye/
LOCATION:Online
END:VEVENT
BEGIN:VEVENT
DTSTART;TZID=Europe/Budapest:20250226T133000
DTEND;TZID=Europe/Budapest:20250226T180000
DTSTAMP:20260421T044840
CREATED:20241127T120018Z
LAST-MODIFIED:20241127T125007Z
UID:10003004-1740576600-1740592800@pbkik.hu
SUMMARY:Space4Defence 2025
DESCRIPTION:A luxemburgi European Defence Fund Industry & Matchmaking Day – Space4Defence 2025 rendezvény célja\, hogy összehozza az európai űrkutatásban érdekelt és az Európai Védelmi Alap pályázati felhívásaira pályázni jogosult európai szereplőket\, segítve őket a konkrét szakértelemmel vagy megoldásokkal rendelkező partnerekkel való kapcsolatteremtésben\, konzorciumok létrehozásában\, valamint az együttműködésen alapuló találkozókon keresztül új ötletek felkarolásában. Az esemény társszervezője az Enterprise Europe Network. \n \nA nemzeti fókuszpontok „Enhanced Opportunities for All” projektjének részeként szervezett esemény középpontjában az űrágazat áll az Európai Védelmi Alapon belül\, amely az innovatív védelmi termékek és technológiák terén folytatott együttműködésen alapuló kutatás előmozdítását célzó uniós program. \nCsak személyes részvétel lehetséges. \n  \nMiért vegyen részt?\n\nLépjen kapcsolatba új kutatási és üzleti partnerekkel\, és fedezze fel az üzleti és technológiai fejlesztéseket\nVegye fel a kapcsolatot start-up/scale-up vállalkozásokkal / kkv-kkal / nagyvállalatokkal / kutatási szereplőkkel\nSzerezzen friss híreket a nemzeti fókuszpontoktól\nNyerjen betekintést a legújabb technológiai fejlesztésekbe.\n\nPitching ülések\nA pitching ülések célcsoportja a kkv-k\, akik hajlandóak bemutatni ötleteiket és szakértelmüket. \nHálózatosodás\nTalálkozzon európai hasonló gondolkodású űrkutatási szereplőkkel\, hogy megvitathassa jövőbeli együttműködését és javaslatait! \n  \nAz Európai Védelmi Alapról és a „Lehetőségek bővítése mindenkinek” projektről\nAz Európai Védelmi Alap egy európai élvonalbeli védelmi és fejlesztési program\, amely 2021-től 2027-ig tart. További információhoz kattintson ide! \nA programmal az Európai Bizottság céljai a következők:\n\na vállalatok\, köztük a kkv-k és a kutatás szereplői közötti együttműködés javítása az Unió egész területén\, valamint a tagállamok képességei közötti átjárhatóság fokozása\na védelmi képességek fejlesztésének ösztönzése az EU-n belül\na védelmi technológiai és ipari bázis megerősítése az EU-n belül.\n\nAz Európai Védelmi Alap minden szakaszban pénzügyi támogatást nyújt a kutatástól kezdve a prototípusok kifejlesztéséig és a tanúsításig. \nAz „Enhancing Opportunities for All” (EOA) az Európai Védelmi Alap által finanszírozott projekt\, amelynek két fő célcsoportja van: a nemzeti fókuszpontok készséghálózatának és eszközeinek fejlesztése\, valamint az Európai Védelmi Alap projektek lehetséges pályázóinak támogatása a konzorciumokban való részvételhez.\nÉvente 2 online partnerkereső napot szerveznek. Ez a 2025-ös év első partnertalálkozója. \n  \nKi jogosult a részvételre?\nBármely szervezet\, amely érdeklődik az Európai Védelmi Alap pályázati felhívásai iránt\, és általában véve az európai védelmi ágazat más szereplőivel való találkozás iránt\, ide értve a következőket: \n\nipar: induló vállalkozások\, kkv-k\, középvállalkozások\, nagyvállalatok\nkutatási és technológiai szervezetek\negyetemek.\n\nA részvétel díjmentes\, de regisztrációhoz kötött! \nREGISZTRÁCIÓ\n  \nGovSatCom 2025 – Biztonsági és védelmi konferencia\nMinden résztvevőt várnak a GovSatCom 2025 – Conference for Security and Defence című konferenciára február 27-én (a belépés ingyenes)\, ahol a magas szintű vitafórumok keretében az összes űrvédelemmel kapcsolatos területet megvitatják. \n  \n* * * \nA Pécs-Baranyai Kereskedelmi és Iparkamara 2008 óta tagja a vállalkozások nemzetközi sikereit és innovatív tevékenységét támogató Enterprise Europe Network-nek.
URL:https://pbkik.hu/esemeny/space4defence-2025/
CATEGORIES:EEN események
ATTACH;FMTTYPE=image/jpeg:https://pbkik.hu/wp-content/uploads/2024/11/Space4Defence_Banner-scaled.jpg
END:VEVENT
BEGIN:VEVENT
DTSTART;TZID=Europe/Budapest:20250227T100000
DTEND;TZID=Europe/Budapest:20250227T133000
DTSTAMP:20260421T044840
CREATED:20250128T113242Z
LAST-MODIFIED:20250129T074159Z
UID:10003032-1740650400-1740663000@pbkik.hu
SUMMARY:Az új pénzügyi világ – Fintech innovációk
DESCRIPTION:Hogyan forradalmasítják a fintech megoldások a pénzügyi szektort\, és miként alkalmazhatók a vállalkozásokban? A résztvevők megismerik\, hogyan válhatnak a fintech megoldások az üzletfejlesztés szerves részévé. \n\nWorkshop célja: \nHa egy vállalkozás szeretne digitális fizetési megoldásokat alkalmazni\, segítünk eligazodni\, hogy minek kell megfelelni\, hogyan kell belevágni. \nWorkshop ideje: 2025. február 27. 10:00 – 13:30 \nHelyszín: Teatrum Bistro (1065 Budapest\, Nagymező utca 17.) \nElőadó: Dr. Spiczmüller Bence \n\n  \n\nA DEDIH Klub februári workshop alkalmán szó lesz:\n\nMi az a fintech\, és miért fontos a vállalkozások számára?\nA fintech technológiák hogyan formálják át a pénzügyi szektort (mobilfizetés\, digitális bankolás\, peer-to-peer hitelezés\, kriptovaluták).\nHogyan lehet különböző Fintech megoldásokat alkalmazni a vállalkozásban: hatékonyság\, költségcsökkentés és ügyfélélmény javítása.\nHogyan lehet sikeresen integrálni fintech megoldásokat a vállalati környezetbe?
URL:https://pbkik.hu/esemeny/az-uj-penzugyi-vilag-fintech-innovaciok/
END:VEVENT
BEGIN:VEVENT
DTSTART;TZID=Europe/Budapest:20250227T143000
DTEND;TZID=Europe/Budapest:20250227T173000
DTSTAMP:20260421T044840
CREATED:20250211T083507Z
LAST-MODIFIED:20250211T084202Z
UID:10003037-1740666600-1740677400@pbkik.hu
SUMMARY:A PwC megoldásai a vállalati automatizáció szolgálatában
DESCRIPTION:A Pécs-Baranyai Kereskedelmi és Iparkamara és a PwC Magyarország közös események célja\, hogy a novemberi rendezvényünkön nagy érdeklődéssel fogadott digitalizációs és automatizációs lehetőségeket részletesen bemutatva beszélgetést kezdeményezzünk a régió gazdasági szereplőivel\, feltárva azokat az együttműködési lehetőségeket\, amelyek hozzájárulhatnak a régió gazdasági fejlődéséhez és a résztvevők üzleti sikereihez. \nIdőpont: 2025. február 27. (csütörtök) 14:30\nHelyszín: Pécs-Baranyai Kereskedelmi és Iparkamara (7625 Pécs\, Majorossy Imre utca 36.) \nProgram: \n14:30 – 14:45 \nMegnyitó és köszöntő \n\nRabb Szabolcs\, főtitkár | Pécs-Baranyai Kereskedelmi és Iparkamara\nFarkas Gábor\, üzletágvezető cégtárs | PwC Magyarország\n\nPwC Magyarországi Vezérigazgató Felmérés eredményeinek bemutatása \n\nFarkas Gábor\, üzletágvezető cégtárs | PwC Magyarország\n\n14:45 – 16:30 \nElőadások a PwC Magyarország szakértőitől: \nBevezetés az adódigitalizációs megoldásokba egy teljes beszerzési/értékesítési folyamathoz  \n\nDr. Szeőcs Kornél\, igazgató\n\nAutomatizált partnerellenőrzés és döntéstámogatás \n\nDr. Bayer Boglárka\, menedzser\n\nSzerződéskezelés és életciklus-menedzsment \n\nPapp Attila\, vezető menedzser\nDr. Kelemen Dániel\, ügyvéd | Réti\, Várszegi és Társai Ügyvédi Iroda PwC Legal\n\nBejövő számlák kezelése automatizáltan \n\nPapp Attila\, vezető menedzser\n\nKimenő számlázáshoz és e-számlák kezeléséhez kapcsolódó automatizáció \n\nDr. Ablonczy Zsuzsanna\, menedzser\n\nValós idejű követeléskezelés \n\nDr. Kelemen Dániel\, ügyvéd | Réti\, Várszegi és Társai Ügyvédi Iroda PwC Legal\nDr. Bayer Boglárka\, menedzser\n\nFelkészülés az e-áfára \n\nDr. Ablonczy Zsuzsanna\, menedzser\n\n  \nAz előadásokkal egy időben Németh Viktor\, transzferár-szakértő által lehetőséget biztosítunk a transzferár-szabályozás aktualitásainak megvitatására is. \n16:30 – 17:30 \nNetworking \n  \nRészvételi díj: Az eseményen való részvétel ingyenes\, azonban előzetes regisztrációhoz kötött\, melyet az alábbi linken várunk 2025. február 21-ig. \nA programváltozás jogát fenntartjuk. \nRegisztráció
URL:https://pbkik.hu/esemeny/a-pwc-megoldasai-a-vallalati-automatizacio-szolgalataba/
LOCATION:Pécsi Kereskedelmi Központ
GEO:46.081487;18.2347915
END:VEVENT
END:VCALENDAR