BEGIN:VCALENDAR
VERSION:2.0
PRODID:-//Pécs-Baranyai Kereskedelmi és Iparkamara - ECPv6.15.20//NONSGML v1.0//EN
CALSCALE:GREGORIAN
METHOD:PUBLISH
X-WR-CALNAME:Pécs-Baranyai Kereskedelmi és Iparkamara
X-ORIGINAL-URL:https://pbkik.hu
X-WR-CALDESC:Események Pécs-Baranyai Kereskedelmi és Iparkamara
REFRESH-INTERVAL;VALUE=DURATION:PT1H
X-Robots-Tag:noindex
X-PUBLISHED-TTL:PT1H
BEGIN:VTIMEZONE
TZID:Europe/Budapest
BEGIN:DAYLIGHT
TZOFFSETFROM:+0100
TZOFFSETTO:+0200
TZNAME:CEST
DTSTART:20250330T010000
END:DAYLIGHT
BEGIN:STANDARD
TZOFFSETFROM:+0200
TZOFFSETTO:+0100
TZNAME:CET
DTSTART:20251026T010000
END:STANDARD
BEGIN:DAYLIGHT
TZOFFSETFROM:+0100
TZOFFSETTO:+0200
TZNAME:CEST
DTSTART:20260329T010000
END:DAYLIGHT
BEGIN:STANDARD
TZOFFSETFROM:+0200
TZOFFSETTO:+0100
TZNAME:CET
DTSTART:20261025T010000
END:STANDARD
BEGIN:DAYLIGHT
TZOFFSETFROM:+0100
TZOFFSETTO:+0200
TZNAME:CEST
DTSTART:20270328T010000
END:DAYLIGHT
BEGIN:STANDARD
TZOFFSETFROM:+0200
TZOFFSETTO:+0100
TZNAME:CET
DTSTART:20271031T010000
END:STANDARD
END:VTIMEZONE
BEGIN:VEVENT
DTSTART;VALUE=DATE:20261012
DTEND;VALUE=DATE:20261017
DTSTAMP:20260421T130816
CREATED:20260205T145524Z
LAST-MODIFIED:20260205T150548Z
UID:10003289-1791763200-1792195199@pbkik.hu
SUMMARY:Vegyen részt a Korea Electronics Show 2026-on az EU Business Hub támogatásával
DESCRIPTION:Az EU Business Hub @ Korea Electronics Show 2026 üzleti küldetés 50 kiválasztott európai kkv-t és start-up vállalkozást támogat abban\, hogy elindítsák nemzetközi terjeszkedésüket a digitális szektorban. Legyen köztük az Ön vállalkozása is! A kiválasztott vállalatok termékeiket és szolgáltatásaikat az EU pavilonjában mutatják be a Korea Electronics Show (KES) 2026 kiállításon\, amely több mint 70 000 látogatót és 530 kiállítót vonz. Jelentkezési határidő: 2026. június 12. \n \nAz üzleti küldetés 2026. október 12. és 16. között valósul meg\, és kiváló lehetőséget kínál a hálózatépítésre és a potenciális koreai üzleti partnerekkel és iparági vezetőkkel való kapcsolatfelvételre. Az EU pavilonban egy elkötelezett üzleti tanácsadói csapat és professzionális tolmácsok állnak rendelkezésre az egyes európai vállalatok termékeinek és technológiáinak népszerűsítésére\, biztosítva a kiállítás látogatói számára a maximális láthatóságot. Az üzleti küldetés során megrendezett hálózatépítő esemény szintén növeli a potenciális üzleti partnerekkel és ügyfelekkel való kapcsolatfelvétel esélyét. \nCélközönség \nEurópai kkv-k\, beleértve a start-upokat és az innovatív vállalkozásokat\, amelyek a digitális iparban vagy kapcsolódó ágazatokban tevékenykednek\, az értéklánc minden részén\, például: \n\nAX (AI transzformáció)\nElektronikus alkatrészek és anyagok\nFejlett mobilitás\nRobotika\nWEB 3.0/XR\n\nDél-koreai üzleti szereplők\, különösen: \n\nElektronikai termékek vásárlói és forgalmazói\nK+F intézmények és partnerek (állami és magán)\nFejlett elektronikai berendezések iránt érdeklődő befektetők\n\nAz üzleti küldetés áttekintése \nA szöuli üzleti küldetés összesen öt napig tart\, amely magában foglalja a Korea Electronics Show 2026 kiállításon tartott négy napos üzleti partnerkereső és hálózatépítő rendezvényt\, egy üzleti hálózatépítő fogadást\, egy tanulmányutat és számos egyéb tevékenységet. \nAz üzleti küldetés programja a következő: \n\n1. nap: Érkezés Szöulba\, üdvözlő és hálózatépítő összejövetel\, valamint tájékoztató.\n2. nap: Kiállítás a KES 2026 kiállításon\, üzleti partnerkereső találkozók és üzleti networking fogadás.\n3. nap: Kiállítás a KES 2026 kiállításon és üzleti partnerkereső találkozók.\n4. nap: Kiállítás a KES 2026 kiállításon és üzleti partnerkereső találkozók.\n5. nap: Utolsó kiállítási nap a KES 2026 kiállításon\, üzleti partnerkereső találkozók és záró eligazítás.\n\nA program tevékenységei mellett a résztvevőknek lehetőségük lesz részt venni a Korea Electronics Show kereskedelmi vásár szervezői által közvetlenül szervezett további rendezvényeken is. \nSzolgáltatások és előnyök az EU-s résztvevők számára \n\nÜzleti partnerkeresés\, amelynek eredményeként előre megbeszélt személyes találkozókra kerül sor gondosan kiválasztott dél-koreai vállalkozásokkal.\nPiaci információk\, beleértve az ágazati tájékoztatókat\, amelyek értékes betekintést nyújtanak a piaci struktúrába és a potenciális lehetőségekbe.\nKulturális és nyelvi támogatás\, például tájékoztatók a dél-koreai üzleti tevékenységről\, valamint tolmácsolási és fordítási támogatás.\nPénzügyi támogatás a projekt által társfinanszírozott további személyre szabott szolgáltatásokhoz (pl. fordítás\, nyomtatás\, jogi tanácsadás\, stand dekoráció 80%-os fedezéssel\, maximum 1000 euróig).\nSzállodai szállás négy éjszakára – a program összesen legfeljebb 1000 eurót fedez a szállásköltségekből (1 szoba/vállalat 4 éjszakára)\nA kiállítói díj fedezése a Korea Electronics Show 2026 kiállításon\n\nFőbb piaci információk \nA részvétel az EU Business Hub @ KES 2026 kiállításon egyedülálló lehetőséget jelent az európai kkv-k és start-up vállalkozások számára: \n\nA Koreai Köztársaság Ázsia 4. és a világ 13. legnagyobb gazdasága.1\nAz EU exportja a Koreai Köztársaságba 2024-ben 55\,7 milliárd euró értékű árucikk volt.2\nA Koreai Köztársaság az EU 8. legnagyobb kereskedelmi partnere árucikkek tekintetében.3\nA Koreai Köztársaság a globális gazdaság technológiai élvonalában áll\, amit a GDP 4\,9%-át kitevő lenyűgöző K+F kiadások ösztönöznek.4\nA Tudományos és IKT Minisztérium 12 nemzeti stratégiai technológiát sorolt fel stratégiai területként a Tudományos és Technológiai Mestertervben (2023–2027)\, köztük a félvezetők és kijelzők\, a másodlagos akkumulátorok\, a fejlett mobilitás\, a hidrogén\, a kiberbiztonság\, a mesterséges intelligencia stb.5\nA digitális kereskedelmi megállapodás (2023 végén indult) tárgyalásai várhatóan tovább csökkentik az európai technológiai start-upok előtt álló akadályokat 2026-ban. A megállapodás kötelező keretet hoz létre a zökkenőmentes adatáramlás és a szabályozási biztonság érdekében. Az adatelhelyezési követelmények és a technikai akadályok eltávolításával biztonságos\, magas színvonalú alapot biztosít az EU-s IT-vállalatok számára a koreai piacon történő tevékenységük bővítéséhez.\n\n  \nTovábbi információ és regisztráció
URL:https://pbkik.hu/esemeny/vegyen-reszt-a-korea-electronics-show-2026-on-az-eu-business-hub-tamogatasaval/
CATEGORIES:Ajánló
END:VEVENT
BEGIN:VEVENT
DTSTART;VALUE=DATE:20261012
DTEND;VALUE=DATE:20261017
DTSTAMP:20260421T130816
CREATED:20260421T090644Z
LAST-MODIFIED:20260421T093346Z
UID:10003324-1791763200-1792195199@pbkik.hu
SUMMARY:EU Business Hub a 2026-os Korea Electronics Show-n
DESCRIPTION:Az EU Business Hub 2026. október 12–16. között megrendezésre kerülő Korea Electronics Show 2026 üzleti küldöttsége az Ön kapuja a Dél-Koreai Köztársaság innovációs élvonalába. Pályázzon június 12-ig\, és vegyen részt a felkészítő programokon és a kiállításon! \n \nMiről van szó? \nAz EU Business Hub @ Korea Electronics Show 2026 legfeljebb 50 európai kkv-t és start-up vállalkozást választ ki\, amelyek a Koreai Köztársaságba látogatnak\, hogy elindítsák nemzetközi terjeszkedésüket a digitális szektorban. A kiválasztott vállalatok a Korea Electronics Show (KES) 2026 kiállításon\, az EU pavilonjában mutatják be termékeiket és szolgáltatásaikat. Ez egy jelentős nemzetközi kiállítás\, amely több mint 70 000 látogatót és 530 kiállítót vonz. \nAz üzleti küldöttség 2026. október 12. és 16. között kerül megrendezésre\, és kiváló lehetőséget nyújt a hálózatépítésre\, valamint a potenciális koreai üzleti partnerekkel és iparági vezetőkkel való kapcsolatfelvételre. Az EU pavilonban egy erre a feladatra kijelölt üzleti tanácsadói csapat és hivatásos tolmácsok állnak rendelkezésre az egyes európai vállalatok termékeinek és technológiáinak népszerűsítésére\, biztosítva a kiállítási látogatók számára a maximális láthatóságot. Az üzleti küldöttség keretében megrendezésre kerülő hálózatépítő esemény szintén növeli a potenciális üzleti partnerekkel és ügyfelekkel való kapcsolatfelvétel lehetőségeit. \nJelentkezési határidő: 2026. június 12. \nCélközönség \nAz európai kkv-k\, beleértve a start-upokat és az innovatív vállalkozásokat is\, amelyek a digitális iparban vagy a kapcsolódó ágazatokban tevékenykednek az értéklánc minden szakaszában\, például: \n\nAX (mesterséges intelligencia általi átalakulás)\nElektronikai alkatrészek és anyagok\nFejlett mobilitás\nRobotika\nWEB 3.0/XR\n\nAz üzleti küldöttség prgramja \nA szöuli üzleti küldöttség összesen öt napig tart\, amely magában foglalja a 2026-os Korea Electronics Show keretében zajló négy napos üzleti partnerkeresést és kapcsolatépítést\, egy üzleti kapcsolatépítő fogadást\, egy tanulmányutat\, valamint számos további programot. \nAz üzleti küldöttség programja a következő: \n\n1. nap: Érkezés Szöulba\, üdvözlő és kapcsolatépítő összejövetel\, valamint tájékoztató ülés.\n2. nap: Kiállítás a KES 2026-on\, üzleti partnerkereső találkozók és üzleti hálózatépítő fogadás.\n3. nap: Kiállítás a KES 2026-on és üzleti partnerkereső találkozók.\n4. nap: Kiállítás a KES 2026-on és üzleti partnerkereső találkozók.\n5. nap: Utolsó kiállítási nap a KES 2026-on\, üzleti partnerkereső találkozók és záró tájékoztató.\n\nA program tevékenységei mellett a résztvevőknek lehetőségük nyílik a Korea Electronics Show kiállítás szervezői által közvetlenül szervezett további rendezvényeken való részvételre is. \nSzolgáltatások és előnyök az uniós résztvevők számára \n\nÜzleti partnerkeresés\, amely előre egyeztetett személyes találkozókat eredményez gondosan kiválasztott dél-koreai vállalkozásokkal.\nPiaci információk\, beleértve az ágazati tájékoztatókat\, amelyek értékes betekintést nyújtanak a piaci szerkezetbe és a potenciális lehetőségekbe.\nKulturális és nyelvi támogatás\, például tájékoztatók a dél-koreai üzleti tevékenységről\, valamint tolmácsolási és fordítási támogatás.\nPénzügyi támogatás a projekt által társfinanszírozott további személyre szabott szolgáltatásokhoz (pl. fordítás\, nyomtatás\, jogi tanácsadás\, standdíszítés\, amelynek 80%-át fedezi a program\, maximum 1 000 euróig).\nSzállás négy éjszakára – összesen legfeljebb 1 000 euró szállásköltséget fedez a program (1 szoba/vállalat 4 éjszakára)\nA kiállítói díj fedezése a Korea Electronics Show 2026 \n\nFőbb piaci betekintés \nAz EU Business Hub @ KES 2026 rendezvényen való részvétel egyedülálló lehetőséget jelent az európai kkv-k és start-upok számára: \n\nDél-Korea Ázsia 4. és a világ 13. legnagyobb gazdasága.\nAz EU 2024-es exportja Dél-Koreába 55\,7 milliárd euró értékű árut tett ki.\nDél-Korea az EU 8. legnagyobb kereskedelmi partnere az áruk terén.\nDél-Korea a globális gazdaság technológiai élvonalában áll\, amit a GDP 4\,9%-át kitevő lenyűgöző K+F-kiadások hajtanak.\nA Tudomány- és IKT-minisztérium 12 nemzeti stratégiai technológiát sorolt fel stratégiai területként a Tudomány- és Technológiai Fejlesztési Tervében (2023–2027)\, ideértve a félvezetőket és a kijelzőket\, a másodlagos akkumulátorokat\, a fejlett mobilitást\, a hidrogént\, a kiberbiztonságot\, a mesterséges intelligenciát stb.\nA digitális kereskedelmi megállapodásról folyó tárgyalások (amelyek 2023 végén indultak) várhatóan tovább csökkentik az európai technológiai start-upok előtt álló akadályokat 2026-ban. A megállapodás kötelező érvényű keretet hoz létre a zökkenőmentes adatáramlás és a szabályozási biztonság érdekében. Az adat-helyhez kötési követelmények és a technikai akadályok eltörlésével biztonságos\, magas színvonalú alapot biztosít az uniós informatikai vállalatok számára a koreai piacra történő terjeszkedéshez.\n\nTovábbi információ és jelentkezés
URL:https://pbkik.hu/esemeny/eu-business-hub-a-2026-os-korea-electronics-show-n/
CATEGORIES:Ajánló
END:VEVENT
BEGIN:VEVENT
DTSTART;VALUE=DATE:20261101
DTEND;VALUE=DATE:20261201
DTSTAMP:20260421T130816
CREATED:20260126T113143Z
LAST-MODIFIED:20260126T140012Z
UID:10003282-1793491200-1796083199@pbkik.hu
SUMMARY:Nemzetközi szakvásárok és kiállítások – 2026. november
DESCRIPTION:Tervezze meg éves szakmai és üzleti tevékenységét a Dél‑Dunántúli Gépipari Klaszter által összeállított\, 2026-ra vonatkozó szakvásárok és kiállítások áttekintő listájának segítségével! \n \nPrecisionFair\nIdőpont: 2026.11.01–2026.11.01\nHelyszín: ’s‑Hertogenbosch (Hollandia)\nWeboldal: https://www.precisionfair.nl/\nLeírás: Precíziós gyártástechnológiákra fókuszáló szakkiállítás\, amely a nagy pontosságú alkatrészgyártás\, mikromechanika\, méréstechnika\, optika és high‑tech beszállítói megoldások területeit mutatja be. \nAGRITECHNICA\nIdőpont: 2026.11.08–2026.11.14\nHelyszín: Hannover (Németország)\nWeboldal: https://www.agritechnica.com/en/\nLeírás: A világ legnagyobb mezőgazdasági gépészeti szakkiállítása\, ahol a mezőgazdasági gépek\, erőgépek\, automatizálás\, precíziós gazdálkodás és kapcsolódó ipari technológiák kerülnek bemutatásra. \nFormnext\nIdőpont: 2026.11.17–2026.11.20\nHelyszín: Frankfurt (Németország)\nWeboldal: https://formnext.mesago.com/\nLeírás: Additív gyártási és modern ipari gyártástechnológiai szakkiállítás\, amely a 3D‑nyomtatás ipari alkalmazásait és kapcsolódó folyamatokat mutatja be. \nTovábbi nemzetközi szakvásárok és kiállítások ide kattintva érhetők el. \n 
URL:https://pbkik.hu/esemeny/nemzetkozi-szakvasarok-es-kiallitasok-2026-november/
END:VEVENT
BEGIN:VEVENT
DTSTART;VALUE=DATE:20261207
DTEND;VALUE=DATE:20261212
DTSTAMP:20260421T130816
CREATED:20260421T102859Z
LAST-MODIFIED:20260421T103858Z
UID:10003325-1796601600-1797033599@pbkik.hu
SUMMARY:Vegyen részt a Semicon Japan 2026-on az EU Business Hub támogatásával
DESCRIPTION:Az EU Business Hub @ Semicon Japan 2026 üzleti küldöttség\, amelyre 2026. december 7–11. között kerül sor\, az Ön kapuja a japán innováció élvonalába. Pályázzon szeptember 11-ig\, és vegyen részt a felkészítő programokon és a kiállításon!\n \nMiről van szó? \nAz EU Business Hub @ Semicon Japan 2026 legfeljebb 50 európai kkv-t és start-up vállalkozást választ ki\, amelyek Japánba látogathatnak\, hogy elindítsák nemzetközi terjeszkedésüket a félvezetőiparban. A kiválasztott vállalatok kiállítanak a Semicon Japan rendezvényen\, amely a félvezetőiparra összpontosító jelentős nemzetközi kiállítás\, amelyet évente rendeznek meg Tokióban\, és amely több mint 103 000 látogatót vonz. Az EU Business Hub biztosítja a kiállításon az EU pavilont – egy értékes platformot a vállalatok számára\, ahol bemutathatják termékeiket és szolgáltatásaikat\, bemutatókat tarthatnak\, kapcsolatokat építhetnek és ügyfeleket szerezhetnek. \nEz az üzleti küldetés 2026. december 7. és 11. között kerül megrendezésre\, és kiváló lehetőséget nyújt a kapcsolatépítésre és a potenciális japán üzleti partnerekkel és iparági vezetőkkel való kapcsolatfelvételre. Számos japán vállalat küld képviselőket és állít ki a Semicon Japan kiállításon. Az EU-pavilonban egy elkötelezett üzleti tanácsadói csapat és hivatásos tolmácsok állnak rendelkezésre az európai vállalatok termékeinek és technológiáinak népszerűsítésére\, valamint a kiállítási látogatók számára biztosított maximális láthatóságra. A küldetés során megrendezett hálózatépítő esemény tovább növeli a potenciális üzleti partnerekkel és ügyfelekkel való kapcsolatfelvétel lehetőségeit. \nEz az üzleti küldetés egyedülálló lehetőséget kínál az európai kkv-k és start-upok számára\, hogy értékes kapcsolatokat építsenek ki\, megoldásaikat az EU-pavilonban mutassák be\, tartós kapcsolatokat alakítsanak ki japán vállalkozásokkal\, és közösen fedezzenek fel új üzleti lehetőségeket. \nJelentkezési határidő: 2026. szeptember 11. \nHa többet szeretne megtudni erről az üzleti küldöttségről\, csatlakozzon június 10-én\, szerdán 10:00-kor (CEST) az online EU információs naphoz. \nCélközönség \nA félvezetőiparban tevékenykedő európai kkv-k és induló vállalkozások — az értéklánc minden szegmenséből\, beleértve a tervezést\, a termékeket és szolgáltatásokat\, az elő- és utómunkálatokhoz szükséges berendezéseket (pl. csatlakozók\, szivattyúk\, kábelek\, érzékelők stb.)\, a gyártó- és ellenőrző berendezéseket\, a fémmegmunkálást\, a vágást és a galvanizálást\, valamint a felületkezelést. \n  \nAz üzleti küldöttség programja \nAz Európai Unió által finanszírozott\, Tokióba irányuló üzleti küldöttség összesen öt napig tart\, amely magában foglalja a Semicon Japan 2026 kiállításon való háromnapos részvételt és célzott üzleti partnerkeresést\, hálózatépítési lehetőségeket\, valamint egy tanulmányutat. \nAz üzleti küldöttség programja a következő: \n\n1. nap: Érkezés Tokióba\, üdvözlés és kapcsolatépítő fogadás.\n2. nap: Tájékoztató ülés ágazati szakértőkkel és tanulmányút.\n3. nap: Kiállítás\, kapcsolatépítés és B2B találkozók a Semicon Japan rendezvényen.\n4. nap: Kiállítás\, kapcsolatépítés\, B2B találkozók a Semicon Japan rendezvényen és Happy Hour.\n5. nap: Kiállítás\, kapcsolatépítés\, B2B-találkozók a Semicon Japan kiállításon\, valamint értékelő megbeszélés.\n\nA program keretében zajló tevékenységeken túl a résztvevőknek lehetőségük nyílik a Semicon Japan 2026 kiállítás szervezői által közvetlenül szervezett további rendezvényeken való részvételre is. \nSzolgáltatások és előnyök az uniós résztvevők számára \n\nÜzleti partnerkeresés\, beleértve a gondosan kiválasztott japán vállalatokkal előre egyeztetett személyes találkozókat.\nPiaci információk\, beleértve az ágazati tájékoztatókat\, amelyek értékes betekintést nyújtanak a japán piacba és a lehetséges lehetőségekbe.\nKulturális és nyelvi támogatás\, például tájékoztatók a japán üzleti életről\, valamint tolmácsolási és fordítási segítség.\nPénzügyi támogatás legfeljebb 1000 euró értékben\, amely a projekt által társfinanszírozott\, személyre szabott kiegészítő szolgáltatások igénybevételére fordítható (pl. fordítás\, nyomtatás\, jogi tanácsadás).\nSzállodai szállás (Grand Nikko Tokyo Daiba) négy éjszakára – vállalatonként összesen legfeljebb 1000 euró (4 éjszaka\, 1 szoba) fedezését a program biztosítja.\nA Semicon Japan kiállítási díjának fedezése.\n\nFőbb piaci információk \nAz EU Business Hub @ Semicon Japan 2026 rendezvényen való részvétel egyedülálló lehetőséget kínál az európai kkv-k és induló vállalkozások számára\, mivel: \n\nJapán Ázsia harmadik és a világ ötödik legnagyobb gazdasága1.\nA japán félvezetőpiac mérete a prognózisok szerint 2026-ban eléri az 50\,5 milliárd eurót\, amit olyan globális trendek hajtanak előre\, mint a mesterséges intelligencia (AI)\, az internetes tárgyak (IoT)\, az elektromos járművek (EV) és az 5G2.\nJapán kidolgozta a zöld növekedési stratégiát a zöld átalakulás (GX) előmozdítása érdekében. E stratégia keretében a félvezetőipar számára kijelölt irányvonal magában foglalja a következő generációs teljesítményfélvezetők és a zöld adatközpontok kutatásának és fejlesztésének támogatását a 2040-re kitűzött szén-dioxid-semlegesség elérése érdekében3.\n2030-ra Japán célja\, hogy a stabil ellátás biztosítása érdekében a belföldi félvezető-értékesítés összértéke meghaladja a 15 billió jent (kb. 92 milliárd eurót)4.\nA japán kormány 10 billió jen (kb. 61 milliárd euró) összegű beruházást hajt végre a hazai félvezető- és mesterséges intelligencia-kapacitások 2030-ig történő megerősítése érdekében\, támogatva a kutatást és fejlesztést\, a gyártást és a tehetséggondozást5.\n2024-ben és 2025-ben Japán fokozta az együttműködést a félvezetőiparban\, mind a régión belül\, mind az EU-val\, elősegítve a párbeszédet az együttműködés erősítése érdekében6.\n\nIsmerje meg az üzleti küldetést\, és jelentkezzen 2026. szeptember 11-ig! \nTovábbi információ és jelentkezés
URL:https://pbkik.hu/esemeny/vegyen-reszt-a-semicon-japan-2026-on-az-eu-business-hub-tamogatasaval/
CATEGORIES:Ajánló
END:VEVENT
END:VCALENDAR