BEGIN:VCALENDAR
VERSION:2.0
PRODID:-//Pécs-Baranyai Kereskedelmi és Iparkamara - ECPv6.15.20//NONSGML v1.0//EN
CALSCALE:GREGORIAN
METHOD:PUBLISH
X-WR-CALNAME:Pécs-Baranyai Kereskedelmi és Iparkamara
X-ORIGINAL-URL:https://pbkik.hu
X-WR-CALDESC:Események Pécs-Baranyai Kereskedelmi és Iparkamara
REFRESH-INTERVAL;VALUE=DURATION:PT1H
X-Robots-Tag:noindex
X-PUBLISHED-TTL:PT1H
BEGIN:VTIMEZONE
TZID:Europe/Helsinki
BEGIN:DAYLIGHT
TZOFFSETFROM:+0200
TZOFFSETTO:+0300
TZNAME:EEST
DTSTART:20200329T010000
END:DAYLIGHT
BEGIN:STANDARD
TZOFFSETFROM:+0300
TZOFFSETTO:+0200
TZNAME:EET
DTSTART:20201025T010000
END:STANDARD
BEGIN:DAYLIGHT
TZOFFSETFROM:+0200
TZOFFSETTO:+0300
TZNAME:EEST
DTSTART:20210328T010000
END:DAYLIGHT
BEGIN:STANDARD
TZOFFSETFROM:+0300
TZOFFSETTO:+0200
TZNAME:EET
DTSTART:20211031T010000
END:STANDARD
BEGIN:DAYLIGHT
TZOFFSETFROM:+0200
TZOFFSETTO:+0300
TZNAME:EEST
DTSTART:20220327T010000
END:DAYLIGHT
BEGIN:STANDARD
TZOFFSETFROM:+0300
TZOFFSETTO:+0200
TZNAME:EET
DTSTART:20221030T010000
END:STANDARD
END:VTIMEZONE
BEGIN:VEVENT
DTSTART;VALUE=DATE:20210506
DTEND;VALUE=DATE:20220101
DTSTAMP:20260419T233801
CREATED:20210506T113600Z
LAST-MODIFIED:20210506T115237Z
UID:10002335-1620259200-1640995199@pbkik.hu
SUMMARY:ENRICH in LAC - Kapcsolatépítő platform Latin-Amerikában
DESCRIPTION:Az RCISD Regionális Tudásközpont által létrehozott platform az ENRICH in LAC (Latin America and Caribbean)\, az innováció területén dolgozó szervezetek és vállalkozások kapcsolatépítését segíti elő. \nA 2017-ben – Európai Unió HORIZON 2020 program által finanszírozott CEBRABIC projekt keretében – létrejött ENRICH in Brazil Innovációs Központ 2021 áprilisától ENRICH in LAC (Latin America and Caribbean) néven működik tovább\, Brazília mellett Argentína\, Chile\, Kolumbia és Uruguay innovációs ökoszisztémáinak legmeghatározóbb szereplőit összekapcsolva. Az egyesületi formában működő központ alapító tagja az RCISD Regionális Tudásközpont Kft. Az ENRICH in LAC központhoz 2021-ben csatlakozott Magyarország Sao Paolo-i konzulátusa is. \nA tudásmegosztó és hálózatépítő szolgáltatásai keretében a tagok számára a dedikált b2match platformon keresztül lehetőséget biztosít kapcsolatépítésére\, tevékenységeik hirdetésére\, valamint online események megvalósítására. Az ENRICH központ hatékonyan segítheti az innovációs területen működő szervezetek tudományos és üzleti jellegű törekvéseit a célországokban. \nA kezdeményezés európai kutatókat és innovációs szakembereket\, kutatóintézeteket\, start-upokat\, valamint kis- és középvállalkozásokat támogat a latin-amerikai szereplőkkel történő kapcsolatépítésben. Szolgáltatási portfóliója ötvözi a tudásmegosztást (tanulmányok készítése a tagok igényeihez igazodva)\, a hálózat- és kapacitásépítést (soft landing hub-ok működtetése\, regionális partnerek és támogatási lehetőségek feltérképezése)\, a képzések biztosítását (webinariumok) és a különböző networking szolgáltatásokat (innovációs kihívások\, b2match platform). \nAz ENRICH in LAC központ európai és latin-amerikai szervezetek csatlakozását várja. \nA szervezet a következő prioritás-területeken megvalósuló tevékenységeket kiemelten kezeli: egészségügy\, digitális átállás\, biomassza alapú gazdaság\, megújuló energia és fenntartható urbanizáció. \nTovábbi információ: ENRICH in LAC \nAz online üzleti partnerkereső platform elérhető itt: europe-lac.b2match.io \n 
URL:https://pbkik.hu/esemeny/enrich-in-lac-kapcsolatepito-platform-latin-amerikaban/
LOCATION:Online
ATTACH;FMTTYPE=image/png:https://pbkik.hu/wp-content/uploads/2021/05/8381594386-31137a65d6.png
END:VEVENT
BEGIN:VEVENT
DTSTART;TZID=Europe/Helsinki:20210628T000000
DTEND;TZID=Europe/Helsinki:20210628T235900
DTSTAMP:20260419T233801
CREATED:20210622T084035Z
LAST-MODIFIED:20241001T124312Z
UID:10002406-1624838400-1624924740@pbkik.hu
SUMMARY:Horizon Europe Space - online tájékoztató és konzorciumépítő rendezvény
DESCRIPTION:A H2020 keretprogram Digitális világűr tématerületéhez tartozó pályázati lehetőségeinek bemutatására és projektpartnerségek kialakítására online rendezvény kerül megrendezésre. \n \nHorizon Europe információs nap sorozatot és partnerségi/konzorciumépítő rendezvénysorozatot szervez. Utóbbiakra előzetes regisztráció szükséges\, online kétoldalú tárgyalásokat lehet kezdeményezni a többi résztvevővel\, illetve a projektötletek is prezentálhatók. \nCluster 4 Digital\, Industry & Space – Digitális világűr \nKiemelt témák: \n\nAz űrrendszerek versenyképességének elősegítése\nEU kapacitásának növelése az űrhöz való hozzáféréshez és használatához\nCopernicus szolgáltatások fejlesztése\nInnovatív űrkapacitások: SSA\, GOVSATCOM\, Quantum\nŰrvállalkozói ökoszisztéma\nCélzott és stratégiai intézkedések az EU űrszektorának támogatására
URL:https://pbkik.hu/esemeny/horizon-europe-space-online-tajekoztato-es-konzorciumepito-rendezveny/
LOCATION:Online
ATTACH;FMTTYPE=image/jpeg:https://pbkik.hu/wp-content/uploads/2021/06/0628.jpg
END:VEVENT
BEGIN:VEVENT
DTSTART;TZID=Europe/Helsinki:20210628T140000
DTEND;TZID=Europe/Helsinki:20210628T170000
DTSTAMP:20260419T233801
CREATED:20210613T120437Z
LAST-MODIFIED:20211013T120808Z
UID:10002390-1624888800-1624899600@pbkik.hu
SUMMARY:Kreatív ipari és high-tech cégek\, mint együttműködő partnerek kreatív projektekben
DESCRIPTION:A Pécs-Baranyai Kereskdelmi és Iparkamara a SACHE – Smart Accelerators of Cultural Heritage Entrepreneurship című projektjének keretében tájékoztató rendezvényt szervez a helyi kreatívipari és IT vállalkozások számára. \n \nA SACHE projekt célja\, hogy megtalálja a kreatív és kapcsolódó szektorok\, valamint azok szereplőinek együttműködését erősítő tényezőket és megalapozza konkrét fejlesztések\, közös programok\, hosszútávon pedig egy fenntartható értéklánc kialakítását kapcsoaltépítési\, információs rendezvények\, valamint képzések szervezésével. \nA Pécs-Baranyai Kereskedelmi és Iparkamara 2021. Június 28-án (hétfő) 14 órától tárlatvezetéssel egybekötött tájékoztató rendezvényt szervez a Modern Magyar Képtárban\, melyre Önt is örömmel várjuk! \nThis form is currently closed for submissions.
URL:https://pbkik.hu/esemeny/kreativ-ipari-es-high-tech-cegek-mint-egyuttmukodo-partnerek-kreativ-projektekben/
END:VEVENT
BEGIN:VEVENT
DTSTART;TZID=Europe/Helsinki:20210629T090000
DTEND;TZID=Europe/Helsinki:20210629T130000
DTSTAMP:20260419T233801
CREATED:20210608T073614Z
LAST-MODIFIED:20250207T193403Z
UID:10002383-1624957200-1624971600@pbkik.hu
SUMMARY:Szakképzési munkaszerződéssel az új DUÁLIS rendszerben - online szakmai nap
DESCRIPTION:2021. június 29-én az MKIK online szakmai napot tart „Szakképzési munkaszerződéssel az új DUÁLIS rendszerben” címmel\, kifejezetten jelenlegi vagy leendő duális képzőhelyek számára. A rendezvény ingyenes\, azonban regisztrációhoz kötött. \n \nProgram \n\n 9:00–9:10          Megnyitó – Vörös-Gubicza Zsanett\, igazgató\, MKIK\n  9:10–9:40          A duális képzés időszerű általános szakmai kérdései — Dr. Klész Tibor\, osztályvezető\, MKIK\n  9:40–10:10       A szakképzési munkaszerződés munkajogi kérdései — Dr. Homicskó Árpád Olivér\, egyetemi docens\, munkajogász\,\n10:10–10:35       Az új duális képzés előnyei vállalati oldalról – Bándoli Attila\, elnökségi tag\, VIMOSZ\n10:35–11:05       Képzési program a gyakorlatban – Szilasi Péter Tamás\, Társadalmi kapcsolatok osztályvezető\, Nemak Győr Alumíniumöntöde Kft.\n11:05–11:35       Szünet\n11:35–12:25       Hogyan zajlik a képzőhely-ellenőrzés\, -felülvizsgálat és -minősítés a gyakorlatban?- Mádai Henriett\, duális képzési koordinátor\, MKIK- Dr. Birher Nándor jogász\, minőségbiztosítási szakmérnök\n12:25–12:55       A duális képzés finanszírozásának aktuális kérdései- Ferencz Csaba Zsolt\, duális képzési és nemzetközi koordinátor\, MKIK\n12:55–13:00       Zárszó\n\nA rendezvényre az alábbi linken lehet regisztrálni 2021. június 24-én 12 óráig: \nhttps://forms.office.com/r/zPG5hznRUJ \nA regisztráltak számára a szakmai nap előtt fogjuk kiküldeni az online felületre történő belépéshez szükséges információkat. \nAz eseményre szóló meghívó a fenti információkkal a www.tanuloszerzodes.hu oldalra is felkerül.
URL:https://pbkik.hu/esemeny/szakkepzesi-munkaszerzodessel-az-uj-dualis-rendszerben-online-szakmai-nap/
LOCATION:Online
END:VEVENT
BEGIN:VEVENT
DTSTART;VALUE=DATE:20210630
DTEND;VALUE=DATE:20210702
DTSTAMP:20260419T233801
CREATED:20210622T090355Z
LAST-MODIFIED:20210622T091040Z
UID:10002408-1625011200-1625183999@pbkik.hu
SUMMARY:Horizon Europe Civil Security for Society - online tájékoztató és konzorciumépítő rendezvény
DESCRIPTION:A H2020 keretprogram ‘A társadalmat szolgáló polgári biztonság’ tématerületéhez tartozó pályázati lehetőségeinek bemutatására és projektpartnerségek kialakítására online rendezvény kerül megrendezésre. \n \nHorizon Europe információs nap sorozatot és partnerségi/konzorciumépítő rendezvénysorozatot szervez. Utóbbiakra előzetes regisztráció szükséges\, online kétoldalú tárgyalásokat lehet kezdeményezni a többi résztvevővel\, illetve a projektötletek is prezentálhatók. \nCluster 3 A társadalmat szolgáló polgári biztonság \nKiemelt témák: \n\nAz EU és polgárainak jobb védelme a bűnözéssel és a terrorizmussal szemben\nAz EU külső határainak hatékony kezelése\nRugalmas infrastruktúra\nFokozott kiberbiztonság\nKatasztrófákkal szemben ellenálló társadalom Európáért\nMegerősített biztonsági kutatás és innováció
URL:https://pbkik.hu/esemeny/horizon-europe-civil-security-for-society-online-tajekoztato-es-konzorciumepito-rendezveny/
LOCATION:Online
ATTACH;FMTTYPE=image/png:https://pbkik.hu/wp-content/uploads/2021/06/horizon-europe_info-days-banner.png
END:VEVENT
BEGIN:VEVENT
DTSTART;TZID=Europe/Helsinki:20210630T083000
DTEND;TZID=Europe/Helsinki:20210702T173000
DTSTAMP:20260419T233801
CREATED:20210623T120550Z
LAST-MODIFIED:20210623T122051Z
UID:10002427-1625041800-1625247000@pbkik.hu
SUMMARY:Külgazdasági Értekezlet 2021
DESCRIPTION:Az évente megrendezésre kerülő Külgazdasági Értekezlet keretében 2021. június 30. – július 2. között nyílik lehetőség  20 perces one-to-one (B2B) találkozók keretében kapcsolatfelvételre a magyar külgazdasági diplomatákkal\, akik a külföldi országok piacát és az exportlehetőségeket jól ismerő\, magyar szakemberek. A rendezvény célja\, hogy segítséget nyújtson a kis- és középvállalkozások külpiacra jutásában. \nAz Értekezleten való részvétel a cégek képviselői számára ingyenes\, de regisztrációhoz kötött! \nA férőhelyek száma limitált\, a jelentkezések érkezési sorrendben kerülnek elfogadásra. Cégenként egy regisztrációt tudnak befogadni\, amely maximum 7 db találkozó foglalására ad lehetőséget. A jelenlegi járványügyi helyzet miatt egy cégtől csak egy cégképviselő vehet részt a rendezvényen. \nFelhívjuk figyelmét arra\, hogy a rendezvényen  csak védettségi igazolvánnyal rendelkező személyek vehetnek részt! Kérjük\, hogy védettségi igazolványát feltétlen hozza magával az Értekezletre\, mivel azt a recepción ellenőrzik munkatársaink. \nA rendezvény helyszíne: Budapesti Kongresszusi Központ (1123 Budapest\, Jagelló út 1-3.) \nRegisztrálni 2021. június 29-ig lehet az alábbi honlapon: \nREGISZTRÁCIÓ
URL:https://pbkik.hu/esemeny/kulgazdasagi-ertekezlet-2021/
LOCATION:Budapesti Kongresszusi Központ\, Jagelló út 1-3.\, Budapest\, 1123
ATTACH;FMTTYPE=image/jpeg:https://pbkik.hu/wp-content/uploads/2021/06/kulgazdasagi-ertekezlet-2021.jpg
END:VEVENT
BEGIN:VEVENT
DTSTART;TZID=Europe/Helsinki:20210630T140000
DTEND;TZID=Europe/Helsinki:20210630T150000
DTSTAMP:20260419T233801
CREATED:20210623T105647Z
LAST-MODIFIED:20210623T112532Z
UID:10002426-1625061600-1625065200@pbkik.hu
SUMMARY:Hogyan kereskedjünk Iránnal? - online üzleti szeminárium
DESCRIPTION:A Magyar Kereskedelmi és Iparkamara Közel-Kelet és Észak-Afrika Tagozata\, a Due Diligence Helpdesk és az INSTEX közösen szervez „Hogyan kereskedjünk Iránnal?”  címmel üzleti szemináriumot 2021. június 30-án. \nA rendezvény célja\, hogy tájékoztassa a hazai kis- és középvállalkozásokat az Iránnal való kereskedelem feltételeiről – különös tekintettel az érvényben lévő szankciókra -\, az Európai Bizottság Iránnal való kereskedelmet ösztönző szolgáltatásáról a „Due Diligence Helpdesk on EU Sanctions for EU SMEs dealing with Iran” -ról\, továbbá bemutassa a fizetési tranzakciók menetét\,  illetve a megfelelőségi előírásokat Európa és Irán között. \nAz előadások alatt a résztvevőknek lehetőségük nyílik kérdések feltevésére a platform chatfalán keresztül\, melyek a program végén kerülnek megválaszolásra az előadók által. \nA rendezvényen szinkrontolmácsolást biztosítanak. \nPROGRAM\nModerátor: Tényiné Stark Mária\, az MKIK nemzetközi igazgatója \n\n\n\n14.00 – 14.20\nKöszöntők \nMiklóssy Ferenc TBC\, az MKIK általános alelnöke\, a Hajdú-Bihar Megyei Kereskedelmi és Iparkamara elnöke\, az MKIK Közel-Kelet és Észak-Afrika Tagozat elnöke \nVarga-Haszonits Zoltán\, nagykövet\, Magyarország Nagykövetsége Teherán\n\n\n14.20– 15.00\nAz Európai Bizottság Iránnal való kereskedelmet ösztönző szolgáltatásának – a Due Diligence Helpdesk on EU Sanctions for EU SMEs dealing with Iran – bemutatása \nSimon Cheetham\, csoportvezető\, Due Diligence Helpdesk on EU Sanctions for EU SMEs dealing with Iran \nSczigel Péter\, projektvezető\, Due Diligence Helpdesk on EU Sanctions for EU SMEs dealing with Iran\n\n\n15.00 – 15.25\nFizetési tranzakciók Európa és Irán között\, megfelelőségi előírások \nRosella E. Rubini\, CBO\, Instrument iN Support of Trade Exchanges (INSTEX)\n\n\n15.25 – 15.35\nKérdések és válaszok\n\n\n\nJelentkezési határidő: 2021. június 29.\, kedd \nA rendezvényen való részvétel ingyenes\, de előzetes online regisztrációhoz kötött. A webinárium a Zoom felületen keresztül valósul meg. A csatlakozáshoz szükséges linket és információkat 2021. június 29-én\, kedden délután küldik meg e-mailen a jelentkezőknek. \nREGISZTRÁCIÓ
URL:https://pbkik.hu/esemeny/hogyan-kereskedjunk-irannal-online-uzleti-szeminarium/
LOCATION:Online
ATTACH;FMTTYPE=image/jpeg:https://pbkik.hu/wp-content/uploads/2019/03/mkik_logo_1.jpg
END:VEVENT
BEGIN:VEVENT
DTSTART;TZID=Europe/Helsinki:20210630T150000
DTEND;TZID=Europe/Helsinki:20210630T190000
DTSTAMP:20260419T233801
CREATED:20210613T075316Z
LAST-MODIFIED:20211013T080911Z
UID:10002386-1625065200-1625079600@pbkik.hu
SUMMARY:PITCHING EVENT - Emlékezetes előadások kreatív üzleti ötletek megvalósításához
DESCRIPTION:A Pécs-Baranyai Kereskdelmi és Iparkamara a SACHE – Smart Accelerators of Cultural Heritage Entrepreneurship című projektjének keretében bemutatkozó rendezvényt szervez\, ahol a helyi kreatívipari és high-tech cégek mutatkozhatnak be. \n \nA SACHE projekt célja\, hogy megtalálja a kreatív és kapcsolódó szektorok\, valamint azok szereplőinek együttműködését erősítő tényezőket és megalapozza konkrét fejlesztések\, közös programok\, hosszútávon pedig egy fenntartható értéklánc kialakítását kapcsoaltépítési\, információs rendezvények\, valamint képzések szervezésével. \nEnnek részeként a Pécs-Baranyai Kereskedelmi és Iparkamara 2021. Június 30-án (szerda) 15 órától bemutatkozó rendezvényt szervez a Modern Magyar Képtárban\, ahol a helyi kreatívipari és high-tech cégek mutatkozhatnak be\, melyre Önt is örömmel várjuk! \nA rendezvény során a résztvevők olyan vállalkozásokat ismerhetnek meg\, melyekkel az együttműködés lehetővé teheti egy workshop\, termelői piac\, de akár egy kézművesvásár\, koncert vagy fesztivál megvalósítását és hosszútávú partnerséget. \nA rendezvény előzetes regisztrációhoz kötött\, jelentkezésüket a pbkik@pbkik.hu e-mail-címre várjuk\, legkésőbb 2021. június 21-ig\,
URL:https://pbkik.hu/esemeny/pitching-event-emlekezetes-eloadasok-kreativ-uzleti-otletek-megvalositasahoz/
LOCATION:Majorossy Imre utca 36.\, Pécs\, 7625\, Magyarország
END:VEVENT
BEGIN:VEVENT
DTSTART;VALUE=DATE:20210701
DTEND;VALUE=DATE:20210702
DTSTAMP:20260419T233801
CREATED:20210622T084822Z
LAST-MODIFIED:20210622T090225Z
UID:10002407-1625097600-1625183999@pbkik.hu
SUMMARY:Horizon Europe Industry - online tájékoztató és konzorciumépítő rendezvény
DESCRIPTION:A H2020 keretprogram Digitális ipar tématerületéhez tartozó pályázati lehetőségeinek bemutatására és projektpartnerségek kialakítására online rendezvény kerül megrendezésre. \n \nHorizon Europe információs nap sorozatot és partnerségi/konzorciumépítő rendezvénysorozatot szervez. Utóbbiakra előzetes regisztráció szükséges\, online kétoldalú tárgyalásokat lehet kezdeményezni a többi résztvevővel\, illetve a projektötletek is prezentálhatók. \nCluster 4 Digital\, Industry & Space – Digitális ipar \nKiemelt témák: \n1. cél: Klímasemleges\, körkörös és digitalizált termelés \n2. cél: Fokozott autonómia a stratégiai értékláncokban a rugalmas ipar számára \n4. cél: Digitális és feltörekvő technológiák a versenyképességért megfelelve az európai zöld megállapodásnak \n6. cél: A digitális és ipari technológiák emberközpontú és etikus fejlesztése
URL:https://pbkik.hu/esemeny/horizon-europe-industry-online-tajekoztato-es-konzorciumepito-rendezveny/
LOCATION:Online
ATTACH;FMTTYPE=image/jpeg:https://pbkik.hu/wp-content/uploads/2021/06/HE_infodays_brokerage-INDUSTRY_DATE-4x3-1.jpg
END:VEVENT
BEGIN:VEVENT
DTSTART;VALUE=DATE:20210701
DTEND;VALUE=DATE:20210703
DTSTAMP:20260419T233801
CREATED:20210622T092433Z
LAST-MODIFIED:20210622T101814Z
UID:10002409-1625097600-1625270399@pbkik.hu
SUMMARY:Horizon Europe Culture\, Creativity and Inclusive Society - online tájékoztató és konzorciumépítő rendezvény
DESCRIPTION:A H2020 keretprogram ‘Kultúra\, kreativitás és befogadó társadalom’ tématerületéhez tartozó pályázati lehetőségeinek bemutatására és projektpartnerségek kialakítására online rendezvény kerül megrendezésre. \n \nHorizon Europe információs nap sorozatot és partnerségi/konzorciumépítő rendezvénysorozatot szervez. Utóbbiakra előzetes regisztráció szükséges\, online kétoldalú tárgyalásokat lehet kezdeményezni a többi résztvevővel\, illetve a projektötletek is prezentálhatók. \nCluster 2 Kultúra\, kreativitás és befogadó társadalom \nKiemelt témák: \n\nDemokrácia és kormányzás\nEurópai kulturális örökség\, valamint a kulturális és kreatív ipar\nTársadalmi és gazdasági átalakulás\n\n 
URL:https://pbkik.hu/esemeny/horizon-europe-culture-creativity-and-inclusive-society-online-tajekoztato-es-konzorciumepito-rendezveny/
LOCATION:Online
ATTACH;FMTTYPE=image/jpeg:https://pbkik.hu/wp-content/uploads/2021/06/CCI.jpg
END:VEVENT
BEGIN:VEVENT
DTSTART;TZID=Europe/Helsinki:20210701T090000
DTEND;TZID=Europe/Helsinki:20210701T120000
DTSTAMP:20260419T233801
CREATED:20210628T081122Z
LAST-MODIFIED:20221122T101237Z
UID:10002429-1625130000-1625140800@pbkik.hu
SUMMARY:Ezüst Gazdaság\, mint a régió kitörési lehetősége - online konferencia
DESCRIPTION:Felmérések szerint az európai Ezüst Gazdaság (Silver Economy) a világ harmadik legnagyobb gazdasága az Amerikai Egyesült Államok és Kína egész gazdasága mögött. A megye és a régió adottságai ideálisak ahhoz\, hogy a gazdaságfejlesztés egyik fókuszterülete az egészségiparra és turisztikára épülő Ezüst Gazdaság kifejlesztése legyen. Csatlakozzon a konferenciához\, és derítse ki\, mit tartogat az Ön vállalkozásának az Ezüst Gazdaság! \n \nEgy\, az Európai Bizottság által készített tanulmány szerint 2060-ra minden harmadik európai ember 65 év feletti lesz. Már 2015-ben a kontinens népességének 39%-a (199 millió fő) 50 év feletti volt. Ez a populáció 3.700 milliárd eurót költött évente különböző termékekre vagy szolgáltatásokra\, ami az európai GDP 15%-át teszi ki. \nFelmérések szerint az európai Ezüst Gazdaság (Silver Economy) a világ harmadik legnagyobb gazdasága az Amerikai Egyesült Államok és Kína egész gazdasága mögött. A költések részarányában a legmagasabb az egészségüggyel kapcsolatos szolgáltatások és vásárlásokkal összefüggő kiadások (53%)\, melyek már 2025-re elérik a 60%-ot (5.700 milliárd euró).\nAz élettartam növekedése\, a társadalom öregedése és a fordított népesedési piramis következtében a fogyasztás\, kereslet megváltozik\, mely kihat minden piacra és iparágra. A változó folyamat ijesztő lehet\, mely kihívást jelent\, ugyanakkor rengeteg lehetőséget is rejt magában az idős korosztályra épülő gazdaság fejlesztése. Az idős (50+) emberek a gazdaság motorjává válnak. Minden iparágnak igazodni kell a változásokhoz\, miközben nem csak új termékekre és szolgáltatásokra lesz szükség\, hanem biztosítani kell az egészségügy és a nyugdíjrendszer fenntarthatóságát is. \nHazánkban és Baranya megyében rejlő lehetőségek \nMagyarország a közepesen öregedő társadalmak közé tartozik. A lineáris összefüggés a társadalom kora és az Ezüst Gazdaság fogyasztása között mutatja\, hogy hazánkban gazdasági szempontból a jövőben egyre fontosabb lesz az Ezüst Gazdaságra való építkezés. Baranya megye Magyarország egyik legelmaradottabb része annak ellenére\, hogy a fejlődéshez minden természeti adottsággal rendelkezik. A közép-és nagyvállalkozások száma csökken\, a fiatalok elvándorolnak\, turisztikailag az országban a legkevésbé látogatott hely – mindez a régió fejlődésének fő visszatartó ereje. 2016-os statisztika alapján a megyében az 50 évnél idősebbek száma 150.000\, mely az összenépesség 40%-át teszi ki. \nA számos negatív mutatóval szemben azonban az egészségipar jóval fejlettebb\, mint az országos szint. Az egy háziorvosra jutó lakosok száma alacsony és az egy lakosra jutó működő kórházi ágyak száma kimagaslóan nagy. Csak Pécsen 30 állami klinika és számos magánklinika üzemel\, a régióban több neves gyógyfürdő található\, az éghajlat igazán kedvező\, és az Adriai-tenger is a közelben található. \nA régió fejlesztésének ígéretes lehetősége egy olyan fókuszált akcióterv\, mely a helyi adottságokat használja ki\, miközben nem igényel régióidegen beruházásokat. A fenti felsorolt adottságok ideálissá teszik a régiót\, hogy a fókuszterület az egészségiparra és turisztikára épülő Ezüst Gazdaság kifejlesztése legyen. Az akcióterv fejlesztése a nyugdíjas korosztályt (akár hazai\, akár külföldi) vonzaná ide\, mely számtalan munkahelyet teremtene a fiatalabb nemzedék számára (szolgáltatások)\, mely továbbá az elvándorlást visszafordítaná. \nA Pécsi Tudományegyetem Általános Orvostudományi Kar\, Transzdiszciplináris Kutatások Intézete és Alsómocsolád Község együttműködésében\, online térben szervezi a témát bemutató és feldolgozó Ezüst Gazdaság Konferenciát\, melyre minden érdeklődőt várnak. \nElőadók: \nMichael Mbogoro PhD RTTP (Oxentia Ltd.\, Head of Corporate Services) \nDr. Sík Attila (PTE ÁOK\, Transzdiszciplináris Kutatások Intézete\, intézetigazgató) \nDr. Lux Gábor (Közgazdaság-és Regionális Tudományi Kutatóközpont\, Regionális Kutatások Intézete) \nDicső László (Alsómocsoládpolgármestere\, Települési Önkormányzatok Országos szövetsége –területi megbízott) \nVasi Emma (Silver Economy Interreg Projekt\,Rába-Duna-Vág Európai Területi Társulás) \nA konferenciát Rabb Szabolcs\, a Pécs-Baranyai Kereskedelmi és Iparkamara főtitkára moderálja\, az előadásokat pedig Q&A szekció\, valamint kerekasztal beszélgetés követi. \nA konferencia Zoom elérhetőségének linkje: \nhttps://us02web.zoom.us/j/81232526484?pwd=S1BLbHhndThQMTdKSU1lOURONFV6dz09
URL:https://pbkik.hu/esemeny/ezust-gazdasag-mint-a-regio-kitoresi-lehetosege-online-konferencia/
LOCATION:Online
END:VEVENT
BEGIN:VEVENT
DTSTART;TZID=Europe/Helsinki:20210701T100000
DTEND;TZID=Europe/Helsinki:20210701T120000
DTSTAMP:20260419T233801
CREATED:20210616T080710Z
LAST-MODIFIED:20210616T082358Z
UID:10002395-1625133600-1625140800@pbkik.hu
SUMMARY:Kérdések és válaszok a Better Factory első nyílt pályázati felhívással kapcsolatban (online fórum)
DESCRIPTION:Erre a Better Factory online fórumra azokat várják\, akik 2021. július 15-ig be akarják adni pályázatukat az első nyílt felhívás keretein belül. \nA Better Factory egy Horizont 2020 program által támogatott projekt\, melyben 2 nyílt felhíváson keresztül 8-8\, egyenként háromtagú konzorciumot választanak ki. A konzorciumokat 1 gyártócég\, 1 művész és 1 technológiai beszállító alkotja. \nA kiválasztott konzorciumok arra tesznek kísérletet\, hogy új termékvonalak tervezését\, illetve automatizálási megoldásokat valósítsanak meg. \nA 2021. július 1. (csütörtök) 10-12 óra között lezajló online fórumra ITT LEHET REGISZTRÁLNI! \nTovábbi információ a projektről és a nyílt felhívásokról: https://betterfactory.eu/ \n 
URL:https://pbkik.hu/esemeny/kerdesek-es-valaszok-a-better-factory-elso-nyilt-palyazati-felhivassal-kapcsolatban-online-forum/
LOCATION:Online
END:VEVENT
BEGIN:VEVENT
DTSTART;TZID=Europe/Helsinki:20210702T150000
DTEND;TZID=Europe/Helsinki:20210702T200000
DTSTAMP:20260419T233801
CREATED:20210613T080459Z
LAST-MODIFIED:20211013T082137Z
UID:10002387-1625238000-1625256000@pbkik.hu
SUMMARY:MATCHING EVENT - Együttműködések a helyi kreatív szektor szereplői között
DESCRIPTION:A Pécs-Baranyai Kereskdelmi és Iparkamara a SACHE – Smart Accelerators of Cultural Heritage Entrepreneurship című projektjének keretében megrendzésre került Pitchin Event folytatásaként\, a résztvevő vállalkozásoknak és szervezeteknek  közös projektötletek kialakítására! \n \nA SACHE projekt célja\, hogy megtalálja a kreatív és kapcsolódó szektorok\, valamint azok szereplőinek együttműködését erősítő tényezőket és megalapozza konkrét fejlesztések\, közös programok\, hosszútávon pedig egy fenntartható értéklánc kialakítását kapcsolatépítési\, információs rendezvények\, valamint képzések szervezésével. \nA Pécs-Baranyai Kereskedelmi és Iparkamara 2021. Július 2-án (péntek) 15 órától lehetőséget biztosít a Pitching Eventen bemutatkozott helyi kreatívipari és high-tech cégeknek\, valamint kreatív szervezeteknek közös projektötletek kialakítására! \nA rendezvény során a kreatív szervezeteknek lehetőségük less rövid bemutatkozó beszélgetéseket\, projektindító egyeztetéseket folytatni\, azon vállalkozásokkal\, melyekkel az együttműködés lehetővé teheti egy workshop\, termelői piac\, de akár egy kézművesvásár\, koncert vagy fesztivál megvalósítását és hosszútávú partnerséget. \nA rendezvény előzetes regisztrációhoz kötött\, jelentkezésüket a pbkik@pbkik.hu e-mail-címre várjuk\, legkésőbb 2021. július 01-ig\,
URL:https://pbkik.hu/esemeny/matching-event-egyuttmukodesek-a-helyi-kreativ-szektor-szereploi-kozott/
LOCATION:Majorossy Imre utca 36.\, Pécs\, 7625\, Magyarország
END:VEVENT
END:VCALENDAR