BEGIN:VCALENDAR
VERSION:2.0
PRODID:-//Pécs-Baranyai Kereskedelmi és Iparkamara - ECPv6.15.20//NONSGML v1.0//EN
CALSCALE:GREGORIAN
METHOD:PUBLISH
X-ORIGINAL-URL:https://pbkik.hu
X-WR-CALDESC:Események Pécs-Baranyai Kereskedelmi és Iparkamara
REFRESH-INTERVAL;VALUE=DURATION:PT1H
X-Robots-Tag:noindex
X-PUBLISHED-TTL:PT1H
BEGIN:VTIMEZONE
TZID:Europe/Helsinki
BEGIN:DAYLIGHT
TZOFFSETFROM:+0200
TZOFFSETTO:+0300
TZNAME:EEST
DTSTART:20200329T010000
END:DAYLIGHT
BEGIN:STANDARD
TZOFFSETFROM:+0300
TZOFFSETTO:+0200
TZNAME:EET
DTSTART:20201025T010000
END:STANDARD
BEGIN:DAYLIGHT
TZOFFSETFROM:+0200
TZOFFSETTO:+0300
TZNAME:EEST
DTSTART:20210328T010000
END:DAYLIGHT
BEGIN:STANDARD
TZOFFSETFROM:+0300
TZOFFSETTO:+0200
TZNAME:EET
DTSTART:20211031T010000
END:STANDARD
BEGIN:DAYLIGHT
TZOFFSETFROM:+0200
TZOFFSETTO:+0300
TZNAME:EEST
DTSTART:20220327T010000
END:DAYLIGHT
BEGIN:STANDARD
TZOFFSETFROM:+0300
TZOFFSETTO:+0200
TZNAME:EET
DTSTART:20221030T010000
END:STANDARD
END:VTIMEZONE
BEGIN:VEVENT
DTSTART;VALUE=DATE:20210506
DTEND;VALUE=DATE:20220101
DTSTAMP:20260419T164008
CREATED:20210506T113600Z
LAST-MODIFIED:20210506T115237Z
UID:10002335-1620259200-1640995199@pbkik.hu
SUMMARY:ENRICH in LAC - Kapcsolatépítő platform Latin-Amerikában
DESCRIPTION:Az RCISD Regionális Tudásközpont által létrehozott platform az ENRICH in LAC (Latin America and Caribbean)\, az innováció területén dolgozó szervezetek és vállalkozások kapcsolatépítését segíti elő. \nA 2017-ben – Európai Unió HORIZON 2020 program által finanszírozott CEBRABIC projekt keretében – létrejött ENRICH in Brazil Innovációs Központ 2021 áprilisától ENRICH in LAC (Latin America and Caribbean) néven működik tovább\, Brazília mellett Argentína\, Chile\, Kolumbia és Uruguay innovációs ökoszisztémáinak legmeghatározóbb szereplőit összekapcsolva. Az egyesületi formában működő központ alapító tagja az RCISD Regionális Tudásközpont Kft. Az ENRICH in LAC központhoz 2021-ben csatlakozott Magyarország Sao Paolo-i konzulátusa is. \nA tudásmegosztó és hálózatépítő szolgáltatásai keretében a tagok számára a dedikált b2match platformon keresztül lehetőséget biztosít kapcsolatépítésére\, tevékenységeik hirdetésére\, valamint online események megvalósítására. Az ENRICH központ hatékonyan segítheti az innovációs területen működő szervezetek tudományos és üzleti jellegű törekvéseit a célországokban. \nA kezdeményezés európai kutatókat és innovációs szakembereket\, kutatóintézeteket\, start-upokat\, valamint kis- és középvállalkozásokat támogat a latin-amerikai szereplőkkel történő kapcsolatépítésben. Szolgáltatási portfóliója ötvözi a tudásmegosztást (tanulmányok készítése a tagok igényeihez igazodva)\, a hálózat- és kapacitásépítést (soft landing hub-ok működtetése\, regionális partnerek és támogatási lehetőségek feltérképezése)\, a képzések biztosítását (webinariumok) és a különböző networking szolgáltatásokat (innovációs kihívások\, b2match platform). \nAz ENRICH in LAC központ európai és latin-amerikai szervezetek csatlakozását várja. \nA szervezet a következő prioritás-területeken megvalósuló tevékenységeket kiemelten kezeli: egészségügy\, digitális átállás\, biomassza alapú gazdaság\, megújuló energia és fenntartható urbanizáció. \nTovábbi információ: ENRICH in LAC \nAz online üzleti partnerkereső platform elérhető itt: europe-lac.b2match.io \n 
URL:https://pbkik.hu/esemeny/enrich-in-lac-kapcsolatepito-platform-latin-amerikaban/
LOCATION:Online
ATTACH;FMTTYPE=image/png:https://pbkik.hu/wp-content/uploads/2021/05/8381594386-31137a65d6.png
END:VEVENT
BEGIN:VEVENT
DTSTART;VALUE=DATE:20211001
DTEND;VALUE=DATE:20211224
DTSTAMP:20260419T164008
CREATED:20210802T093337Z
LAST-MODIFIED:20221122T095349Z
UID:10002432-1633046400-1640303999@pbkik.hu
SUMMARY:MEDICA Healthcare 2021 - üzletember találkozó
DESCRIPTION:A MEDICA 2021 a világ első számú egészségipari vására. Idén 20. alkalommal\, a vásár mellett hibrid rendszerben\, online és személyes jelenlét mellett nyújt lehetőséget az egészségipar valamennyi szereplője számára üzleti tárgyalásokra. Vegyen részt Ön is! \n \n  \nA MEDICA vásáron megrendezésre kerülő nemzetközi üzltebmer találkozónak már 20 éves hagyománya van. Az elmúlt években az eseményen mindig mintegy 40 országból mintegy 350 résztvevő vett részt\, 700 előre kiválasztott és egyeztetett találkozóval. \nA 2021-es év még mindig különleges évnek számít. A COVID-19 vírus hatásai még mindig mindennaposak mindannyiunk számára\, különösen\, az egészségügyi ágazatban. 2020-ban megtanultuk elfogadni a virtuális találkozókat\, különösen a MEDICA vásár előtt és után. Ezért folytatni fogjuk ezeket a virtuális találkozókat. De nagyon örülünk\, hogy a MEDICA 2021 során ismét lesz ilyen találkozó napok. \nTehát több tárgyalási napot és további eseményeket kínálunk. \nA világjárvány következményei miatt\, ahogy 2020-ban is\, árcsökkentésre\, a regisztrációs díj felezésére\, valamint további fejlesztésekre számíthatnak a befektetők és az importőrök is. Ezen túlmenően a résztvevőknek a sikeres együttműködésekből is profitálniuk kell. Minden résztvevő\, aki tájékoztat minket egy együttműködésről\, és ezt írásban\, dokumentumban megerősíti\, visszakapja a regisztrációs díjat. \nMiért érdemes részt venni? \nHasználja fel a rendezvényt új vállalkozások kezdeményezésére\nTalálkozzon az innovatív technológiák szolgáltatóival egész Európából és Európán kívülről\nLépjen kapcsolatba potenciális partnerekkel a jövőbeli együttműködés érdekében\nTeremtsen határokon átnyúló kapcsolatokat a hosszú távú üzleti kapcsolatokhoz\nÚj partnerek keresése kutatási projektekhez \nRegisztrációs díjak \n200 Euró – Vállalkozások\, szövetségek\, kutatóintézetek stb. (az EGT-n kívüli területek)\n100 Euró – Vállalkozások\, egyesületek\, kutatóintézetek stb. (EEN partnerországok)\n50 Euró – Start upok (2018. január 1-jén vagy azt követően alapított kezdő vállalkozások\, EEN partnerországok)\n0 Euró – Befektetők\, üzleti angyalok\n0 Euró – külföldi termékek forgalmazásával foglalkozó vállalat vagy közbeszerző \nOnline tárgyalási napok: \n2021. október 1. – 2021. december 23. \nSzemélyes (és online) tárgyalási napok: \n2021. november 15-18. – MEDICA 2021\, Düsseldorf \n  \nTovábbi információ és regisztráció\nRegisztrációs határidő: 2021. november 14.
URL:https://pbkik.hu/esemeny/medica-healthcare-2021-uzletember-talalkozo/
LOCATION:Online
END:VEVENT
BEGIN:VEVENT
DTSTART;VALUE=DATE:20211103
DTEND;VALUE=DATE:20211117
DTSTAMP:20260419T164008
CREATED:20210901T094801Z
LAST-MODIFIED:20210929T122033Z
UID:10002485-1635897600-1637107199@pbkik.hu
SUMMARY:Horeca\, Gastrofood\, Enoexpo 2021 - hibrid nemzetközi üzletember találkozó
DESCRIPTION:Lengyelország legejelentősebb HORECA rendezvényén élőben és online is várják a résztvevőket az Enterprise Europe Network szervezésében megvalósuló üzletember találkozón! \n \nA lengyelországi élelmiszer- és szállodaipar első számú rendezvénye alatt szervezett üzletember találkozón idén kiemelt szerepet kapnak a borászat képviselői is. \nTémák: \n\nélelmiszer- és borturizmus\nélelmiszer- és italgyártás: hagyományos\, bio\, „mentes”\, funkcionális stb.\nfagyasztott élelmiszerek\nfagylaltok\, tejtermékek\ngabonafélék\, tészta\, liszt alapú termékek\ngyümölcsök és zöldségek (friss\, szárított\, tartósított)\nvendéglátóipari eszközök\, kiegészítők\nszállodai eszközök\, felszerelések\n\n  \nA rendezvényre hibrid formában kerül sor; az üzletember találkozók 2021. november 3-5. között élőben zajlanak\,  online formában pedig 2021. november 3-16. között lesz lehetőség tárgyalásokat folytatni. \nA rendezvényre történő regisztráció díjmentes\, de előzetes regisztrációhoz kötött: \nREGISZTRÁCIÓ
URL:https://pbkik.hu/esemeny/horeca-gastrofood-enoexpo-2021-hibrid-nemzetkozi-uzletember-talalkozo/
LOCATION:Online
ATTACH;FMTTYPE=image/jpeg:https://pbkik.hu/wp-content/uploads/2021/09/Miedzynarodowe-Targi-Wyposazenia-Hoteli-i-Gastronomii-HORECA.jpg
END:VEVENT
BEGIN:VEVENT
DTSTART;VALUE=DATE:20211108
DTEND;VALUE=DATE:20211111
DTSTAMP:20260419T164008
CREATED:20210923T083902Z
LAST-MODIFIED:20210930T083533Z
UID:10002560-1636329600-1636588799@pbkik.hu
SUMMARY:Contact-Contract MSV 2021 - személyes rendezvény
DESCRIPTION:Az Enterprise Europe Network tagjai által szervezett esemény Brnoban kerül megrendezésre\, célja pedig az üzleti tárgyalásokra és kapcsolatépítésre való felület biztosítása. A rendezvényen személyes formában lehet résztvenni. \nA résztvevők listája megtekinthető ITT. \nA részvétel ingyenes\, de regisztrációhoz kötött. \nRegisztrálni itt lehet: \nREGISZTRÁCIÓ\n 
URL:https://pbkik.hu/esemeny/contact-contract-msv-2021-szemelyes-rendezveny/
LOCATION:Brno\, Cseh Köztársaság
ATTACH;FMTTYPE=image/jpeg:https://pbkik.hu/wp-content/uploads/2021/09/8367690757-ed07dd9cf7.jpg
END:VEVENT
BEGIN:VEVENT
DTSTART;VALUE=DATE:20211109
DTEND;VALUE=DATE:20211112
DTSTAMP:20260419T164008
CREATED:20210923T071559Z
LAST-MODIFIED:20210930T083211Z
UID:10002547-1636416000-1636675199@pbkik.hu
SUMMARY:#MES Insights Matchmaking - online rendezvény
DESCRIPTION:Az Enterprise Europe Network szervezésében létrejövő esemény a közlekedésipar területein mozgó vállalatok számára biztosít kapcsolatépítő felületet a virtuális térben\, előre szervezett B2B találkozók formájában. \nÉrintett területek: \n\nAutóipar\nKereskedelmi járművek\nVasúti közlekedés\n\nA rendezvényen való részvétel ingyenes\, de regisztrációhoz kötött. \nRegisztrálni itt lehet: \nREGISZTRÁCIÓ
URL:https://pbkik.hu/esemeny/mes-insights-matchmaking-online-rendezveny/
LOCATION:Online
ATTACH;FMTTYPE=image/png:https://pbkik.hu/wp-content/uploads/2021/09/8371929791-60623122ef.png
END:VEVENT
BEGIN:VEVENT
DTSTART;VALUE=DATE:20211109
DTEND;VALUE=DATE:20211113
DTSTAMP:20260419T164008
CREATED:20210923T084937Z
LAST-MODIFIED:20210930T083331Z
UID:10002562-1636416000-1636761599@pbkik.hu
SUMMARY:Elmia Subcontractor Connect 2021 - személyes és online rendezvény
DESCRIPTION:Az Enterprise Europe Network által szervezett esemény keretein belül a résztvevőknek virtuális és személyes üzleti tárgyalások lebonyolítására lesz lehetősége. A találkozók megszervezése online felületen történik\, majd a virtuális térben\, az Elmia Subcontractor Fair látogatói számára pedig személyesen nyílik lehetőség üzleti konzultációra. \nA résztvevők listája megtekinthető ITT. \nA részvétel ingyenes\, de regisztrációhoz kötött. \nRegisztrálni itt lehet: \nREGISZTRÁCIÓ
URL:https://pbkik.hu/esemeny/elmia-subcontractor-connect-2021-szemelyes-es-online-rendezveny/
LOCATION:Online
ATTACH;FMTTYPE=image/jpeg:https://pbkik.hu/wp-content/uploads/2021/09/8370276254-69f9d932e0.jpg
END:VEVENT
BEGIN:VEVENT
DTSTART;TZID=Europe/Helsinki:20211109T083000
DTEND;TZID=Europe/Helsinki:20211109T170000
DTSTAMP:20260419T164008
CREATED:20211019T064933Z
LAST-MODIFIED:20211019T074804Z
UID:10002574-1636446600-1636477200@pbkik.hu
SUMMARY:Retaissance Live - Online üzletember találkozó
DESCRIPTION:2021. november 9-én az Enterprise Europe Network exkluzív rendezvényt szervez „Retaissance Live” elnevezéssel\, hogy segítse az európai prémium divat- és életmód márkák\, valamint a vásárlók összekapcsolását az innováció\, a kereskedelem és a jelenlegi kihívások leküzdése érdekében. \nA vállalatoknak 2021. október 31-ig van lehetőségük regisztrálni a platformra. \nErre az exkluzív eseményre több mint 800 üzletet és e-kereskedelmi platformot képviselő vásárló regisztrál\, akik a világ 35 országában több mint 50 millió vásárlót képviselnek. \nA Retaissance Live azért jött létre\, hogy tisztességes és egyenlő versenyfeltételeket teremtsen a független és fenntartható márkák számára a divat\, a lábbelik\, az ékszerek\, a szépségápolás\, a gyermekruházat és a kiegészítők ágazatában\, hogy növeljék márkájuk jelenlétét és értékesítési bevételeiket világszerte. \nFontos határidők\n2021. november 3-án a platformra regisztrált cégek egy exkluzív 3 órás workshopon vehetnek részt\, amely segít nekik az üzleti ajánlatok kidolgozásában és a vevőknek való meggyőző és eredményes bemutatkozás előkészítésében. \nEzt a workshopot a következők tartják: \n\nAz Egyesült Királyság vezető kiskereskedelmi aggregátora\, a Retaissance\, egy vezető divat- és életmódügynökség\, amely prémium kategóriás független márkák közösségét építi\, és tisztességes és egyenlő feltételeket biztosít számukra a kereskedelem lehetővé tételéhez\, valamint globális jelenlétük és bevételeik növeléséhez.\nNuORDER\, amerikai székhelyű\, vezető B2B e-kereskedelmi platform\, amely segíti a márkákat abban\, hogy zökkenőmentes\, együttműködőbb nagykereskedelmi folyamatot biztosítsanak\, ahol a vevők valós időben böngészhetnek a termékek között\, megtervezhetik a választékot és okosabban vásárolhatnak.\n\n2021. november 9-én a kiválasztott márkák találkoznak az őket kiválasztó vevőkkel\, hogy bemutassák termékeiket és kínálatukat. Partnereink előzetesen gondosan kiválasztják a márkákat\, melyek összhangban vannak jelenlegi márkakínálatukkal és alapvető értékeikkel. Így mind a márkák\, mind a kiskereskedők aznap komolyan tárgyalhatnak az üzletről. \nAz eseményen való részvétel a Retaissance és a NuORDER szponzorációjának köszönhetően teljesen ingyenes\, hogy támogassák a gyorsan fejlődő kiskereskedelmi ágazatot és az innovatív márkákat. \nMiért vegyen részt?\n\nDivat- és életmódmárkaként\, technológiai fejlesztőként – betekintést nyerhet az új vásárlók viselkedésébe és preferenciáiba;\nKiskereskedőként és vásárlóként – fedezzen fel olyan egyedi és innovatív márkákat és technológiákat\, amelyek vonzóak a fogyasztók számára\, és illeszkednek a jelenlegi portfóliójukhoz valamint a legfontosabb alapértékeihez.\nSzövetségként – ossza meg a meglátásait az új\, feltörekvő független márkákkal\, és támogassa a kiskereskedelmi iparágat.\n\nMilyen területről várják a résztvevőket?\n\nDivat\nSzépség\nLábbeli\nÉkszerek\nGyermekruházat\nKiegészítők\nTechnológiák\n\nREGISZTRÁCIÓ
URL:https://pbkik.hu/esemeny/retaissance-live-online-uzletember-talalkozo/
LOCATION:online
ATTACH;FMTTYPE=image/jpeg:https://pbkik.hu/wp-content/uploads/2021/10/8368111115-c22891ab66.jpg
END:VEVENT
BEGIN:VEVENT
DTSTART;TZID=Europe/Helsinki:20211109T150000
DTEND;TZID=Europe/Helsinki:20211109T170000
DTSTAMP:20260419T164008
CREATED:20211028T134632Z
LAST-MODIFIED:20211028T135951Z
UID:10002580-1636470000-1636477200@pbkik.hu
SUMMARY:Ismerje meg  Argentína\, Brazília\, Mexikó  gazdaságát\, üzleti lehetőségeit (online)
DESCRIPTION:Melyek azok az egyedi szempontok\, nehézségek és lehetőségek\, amelyeket figyelembe kell vennünk ahhoz\, hogy a magyar cégek eséllyel indulhassanak Argentína\, Brazília\, Mexikó piacain? \nEzúton ajánljuk figyelmébe az Enterprise Europe Network magyarországi hálózat exportfejlesztési programját! \nIdőpont: 2021. november 9. kedd\, 15.00 óra (online) \nAz esemény magyar és angol nyelvű. \n \nArgentína: A külképviselethez 3 MERCOSUR ország tartozik\, Argentína (45 millió lakos)\, Paraguay (7\,2 millió lakos) és Uruguay (3\,5 millió lakos). Mindhárom ország jelentős importra szorul gépek\, berendezések\, technológiai termékek területén. Fejlett mezőgazdasággal és mezőgazdasági technológiák iránti igénnyel rendelkeznek. A környezetvédelem\, vízgazdálkodás és fenntarthatóság még gyerekcipőben jár éppen ezért igény mutatkozik ilyen termékekre\, szolgáltatásokra. Az első magyar-argentin-paraguayi-uruguayi orvostechnológiai üzletember találkozó 2021 novemberében lesz. \nBrazília: A külképviseleteihez összesen 212\,6 millió lakosságszámú piac tartozik. A brazil gazdaság meghatározó ágazatai az élelmiszeripar\, a gépjárműipar\, az energetika az építőipar és az ICT. Jelentős igény mutatkozik a következő területeken: vízgazdálkodás\, agrártechnológia\, orvostechnológiai eszközök\, autóalkatrészek\, vegyipari\, olaj és gázberendezések\, biztonság(technika)i rendszerek. \nMexikó: A mexikói piac húzóágazatai között kiemelendő a turizmuson túl az autóipar\, az energetika\, az élelmiszeripar és a gyógyszeripar. Különösen nagy lehetőség mutatkozik az orvostechnológiai\, autóelektronikai\, vízipari\, intelligens városüzemeltetési rendszerek\, valamint az élelmiszeripari új technológiák terén. A külképviselet Mexikóban (129 millió fő) van\, de akkreditációja kiterjed 6 további országra: Belize (290 ezer fő)\, Costa Rica (4\,1 millió fő)\, Guatemala (12\,3 millió fő)\, Honduras (7\,3 millió fő)\, Nicaragua (5\,6 millió fő)\, El Salvador (6\,8 millió fő). \n  \nProgram és f​​​​​ő témakörök: \n15.00 – 16.00  Argentína\, Brazília\, Mexikó gazdaságának aktuális helyzete\, annak jövőbeni kilátásai \nHogyan tudunk sikeresek lenni magyarként az adott piacokon? Kereskedelmi sajátosságok\, tapasztalatok\, praktikus tanácsok. Vámtechnikai és engedélyeztetési kérdések. Üzleti lehetőségek magyar vállalatok számára az adott országokban. \n16.00 – 16.45 Szellemi tulajdonvédelem Latin Amerikában – angol nyelvű előadás 45 percben \n16.45 – Kérdések\, válaszok \n  \nElőadók: \nNémeth József külgazdasági attasé Magyar Nagykövetség Argentína\, Buenos Aires \nJózsef Balázs külgazdasági attasé Magyar Nagykövetség Brazília\, Sao Paulo \nOlti Máté külgazdasági attasé Magyar Nagykövetség Mexikó\, Mexikóváros \nCésar Fernández Elvira\, iparjogvédelmi szakértő Latin America IP SME Helpdesk – angol nyelvű előadás \n  \nLebonyolítás: Microsoft Teams rendszerrel. (A meghívót a regisztráltak a rendezvény előtt megkapják.) A programot 2-2\,5 órás időtartamra tervezzük. \nRészvételi feltétel: A programon a részvétel térítésmentes\, de feltétel az előzetes online jelentkezés. \nJelentkezés:  online\, ezen a linken \nA rendezvény a Fejér Megyei Kereskedelmi és Iparkamara főszervezésében\, a Pécs-Baranyai Kereskedelmi és Iparkamara és a HEPA Magyar Exportfejlesztési Ügynökség szakmai támogatásával valósul meg.
URL:https://pbkik.hu/esemeny/ismerje-meg-argentina-brazilia-mexiko-gazdasagat-uzleti-lehetosegeit-online/
LOCATION:online
END:VEVENT
BEGIN:VEVENT
DTSTART;VALUE=DATE:20211110
DTEND;VALUE=DATE:20211120
DTSTAMP:20260419T164008
CREATED:20210922T112215Z
LAST-MODIFIED:20210922T113152Z
UID:10002534-1636502400-1637366399@pbkik.hu
SUMMARY:H2WORLD - hibrid üzletember találkozó
DESCRIPTION:A november 10-12. között a H2Worldben megrendezésre kerülő Nemzetközi Hidrogénenergia Kiállítás és Fórumon dél-koreai és nemzetközi vállalatok és szakértők találkoznak\, hogy megvitassák a hidrogénstratégia\, a hidrogénmobilitás\, az energiatermeléshez használt üzemanyagcellák és a termelés kulcsfontosságú témáit. \nTalálkozzon vezető hidrogénszakértőkkel Koreából és a világ minden tájáról. Ossza meg tudását\, kezdeményezzen új üzleteket és találjon együttműködési partnereket. \nKulcsterületek: \n\nÜzemanyagcella-technológiák\nA hidrogén mobilitási alkalmazása\nHidrogéntermelés\n\nAz eseményen való részvétel ingyenes. \nA részletes program ITT tekinthető meg. \nRegisztrálni itt lehet: REGISZTRÁCIÓ
URL:https://pbkik.hu/esemeny/h2world-hibrid-uzletember-talalkozo/
LOCATION:Majorossy Imre utca 36.\, Pécs\, 7625\, Magyarország
ATTACH;FMTTYPE=image/png:https://pbkik.hu/wp-content/uploads/2021/09/h2.png
END:VEVENT
BEGIN:VEVENT
DTSTART;TZID=Europe/Helsinki:20211111T100000
DTEND;TZID=Europe/Helsinki:20211111T170000
DTSTAMP:20260419T164008
CREATED:20211004T133448Z
LAST-MODIFIED:20211006T064258Z
UID:10002105-1636624800-1636650000@pbkik.hu
SUMMARY:Közép-Európai Űripari Nap és Üzleti Találkozó
DESCRIPTION:Az űripar számára „CENTRAL EUROPE SPACE INDUSTRY DAY & BROKERAGE” címmel rendeznek Brno-ban konferenciát és üzletember találkozót. \nDátum:              2021. november 11.\,  10.00-17:00 óra \nHelyszín:             Brno (Csehország)\, Hotel Passage\, Lidická 23 \n  \nA rendezvény lehetőséget nyújt az űriparban és űrkutatásban tevékenykedő közép-európai (cseh\, lengyel\, szlovák\, magyar) cégek\, stakeholderek\, kutatóintézetek\, egyetemek képviselőinek\, illetve az anyagkutatás területéről nem közvetlenül űripari cégek és kutatóintézetek\,  alkatrész-beszállítók\, IT fejlesztők (stb.) képviselőinek megismerésére\, együttműködések kialakítására a régióban. \n \n  \nA Central Europe Space Industry Day and Brokerage kiváló alkalom \n\na legfrissebb intézményi és piaci trendek és innovációk megismerésére\núj technológiai partnerekkel / végfelhasználókkal való találkozásra rövid (20 perces)\, előre szervezett találkozók keretében\nK+F partnerek megtalálására\, különös tekintettel az Európai Űrstratégiára\, az Európai Űrügynökség (ESA) és a Horizon Europe által indított K+F programokra.\n\n  \nA rendezvény a Czech Trade\, a Cseh Közlekedési Minisztérium\, a JIC innovációs ügynökség szervezésében a HEPA\, a lengyel Krakow Technology Park és a szlovák BIC Bratislava társzervezésével\, a Külgazdasági és Külügyminisztérium közreműködésével valósul meg. \n  \nA fórumon való részvétel ingyenes\, de regisztrációhoz kötött. A kiutazásról és a szállásról az adott cég saját maga gondoskodik. \n  \nKérjük\, regisztráljon a rendezvény online platformján és foglaljon tárgyalásokat a résztvevő cégekkel\, kutatóintézetekkel\, stakeholderekkel! \n  \nAz esemény weboldala és regisztráció: \nhttps://central-europe-space-industry-day.b2match.io/
URL:https://pbkik.hu/esemeny/kozep-europai-uripari-nap-es-uzleti-talalkozo/
LOCATION:Majorossy Imre utca 36.\, Pécs\, 7625\, Magyarország
END:VEVENT
BEGIN:VEVENT
DTSTART;TZID=Europe/Helsinki:20211111T130000
DTEND;TZID=Europe/Helsinki:20211111T160000
DTSTAMP:20260419T164008
CREATED:20211025T114238Z
LAST-MODIFIED:20211027T140635Z
UID:10002576-1636635600-1636646400@pbkik.hu
SUMMARY:Kamarai Beszállítói Fórum
DESCRIPTION:A Heves Megyei Kereskedelmi és Iparkamara beszállítói rendezvénysorozatának jó példája alapján 2021-ben – próba jelleggel – a Pécs-Baranyai Kereskedelmi és Iparkamara is lehetőséget biztosít Baranya megye TOP 100 vállalkozása számára\, hogy csatlakozzon. \n \nAz idei rendezvényre előreláthatóan vegyes formában kerül sor\, azaz mindenki számára ONLINE\, Egerben pedig SZEMÉLYES tárgyalásokra is lehetőség lesz. \nAz ITT & MOST platform segítségével AZ EGÉSZ ORSZÁG TERÜLETÉRŐL\, sőt\, a HATÁROKON TÚLRÓL IS várunk beszállítójelölteket! \nA program célja\, hogy a jelentősebb vállalatok a beszállítóikat lokalizálják\, növelve a hazai beszállítók részarányát és az ellátás biztonságát minél több termékcsoportnál\, mely minden szereplő közös érdeke. A program során közvetlen üzleti tárgyalásokra (b2b) kerül sor az előzetes bejelentkezések alapján\, cégenként 15-15 perc időtartamokban. \n  \nA szervezés idén is két fordulóban történik. \n1.      Heves megye és Baranya megye meghatározó közép- és nagyvállalatainak megkeresése\nMegkeressük a két megye meghatározó cégeit\, hogy küldjék meg beszállítói igényeiket (termékek/szolgáltatások/technológiák). \n2.      A beérkezett igények meghirdetése a potenciális beszállítók felé\, regisztráció\, tárgyalások előkészítése \nA regisztráló cégek megadják a profiljukat\, illetve\, hogy mely cégekkel szeretnének tárgyalásokat folytatni. Előszűrhetik a jelentkezőket\, vagyis nem szükséges mindenkivel tárgyalniuk. Ezt követően a visszaigazolt tárgyalások alapján a kamarák elkészítik a tárgyalási menetrendet. A beszerzők természetesen beszállítóként is tárgyalhatnak a programhoz csatlakozó nagyvállalatokkal. \nA korábbi évek beszállító fórumai számokban (Heves megyében): \n\névi 10-15 beszállítót kereső\, a megye gazdaságát meghatározó közép- és nagyvállalat\ntöbb ezer potenciális beszállító tájékoztatása\ntöbb\, mint 150 regisztrált beszállítójelölt\ntöbb\, mint 200 visszaigazolt és megvalósult tárgyalás\na közép- és nagyvállalatok beszerzői 20-25 tárgyalást folytattak évente (több beszerző kollégával lehetőség van több párhuzamos tárgyalás lefolytatására is).\n\nDátum: 2021. november 11. (csütörtök)  \n(Személyes beszállítói tárgyalások Egerben: 9:00 – 13:00)\nOnline beszállítói tárgyalások: 13:00 – 16:00\nAz online technikai információkról a későbbiekben egyeztetünk a regisztrált vállalatok által megjelölt kapcsolattartó kollégákkal. \nA beszállítójelöltek listáját a rendezvény előtt küldjük meg a beszerzőknek\, akik így kiválaszthatják azokat a potenciális partnereket\, akikkel tárgyalni kívánnak. \nRészvételi díj: az önkéntes kamarai tag beszerzők és a beszállítók számára díjmentes. A nem önkéntes kamarai tag beszerzők számára 100.000 Ft + ÁFA. \nA kamarák az alábbi lehetőségeket biztosítják: \n\nHeves és Baranya megyén belül a potenciális beszállítók tájékoztatása a beszállítói lehetőségről\, a keresett termékek/szolgáltatások/technológiák köréről\nHeves és Baranya megyén túl\, a kamarai hálózat bevonásával ORSZÁGOSAN TÖBB EZRES vállalati kör tájékoztatása kamarai honlapok\, hírlevelek formájában\nELŐSZŰRÉSI LEHETŐSÉG a regisztrált beszállító-jelöltek között (nem szükséges minden jelentkezővel tárgyalni)\nFolyamatos kapcsolattartás a program előkészítése során\nTárgyalási menetrend kialakítása\, 15-15 perces tárgyalásokkal\nOnline tárgyalási platform biztosítása\, illetve Egerben személyes tárgyalási lehetőség\nTárgyalások koordinálása\nBüfé (2021-ben csak az egri helyszínen)\nAKÁR 60 BESZÁLLÍTÓI TÁRGYALÁS.\n\nBővebb információ: \nHeves megye: Becskei Márk HKIK projektiroda vezető Tel.: +36-36/ 429-614\, 121-es mellék\, Mobil: +36-20/ 517-9290\, E-mail: mark.becskei@hkik.hu \nBaranya megye: \nCsászár Gergely PBKIK irodavezető Tel.: +36-72/507-186\, Mobil: +36-20/442-2080\, E-mail: csaszar.gergely@pbkik.hu; \nSzigeti Rudolf PBKIK projekt menedzser Tel.: +36-72/ 507-172\, Mobil: +36-20/ 371-2172\, E-mail: szigeti.rudolf@pbkik.hu
URL:https://pbkik.hu/esemeny/kamarai-beszallitoi-forum/
LOCATION:online
END:VEVENT
BEGIN:VEVENT
DTSTART;VALUE=DATE:20211112
DTEND;VALUE=DATE:20211113
DTSTAMP:20260419T164008
CREATED:20210923T085945Z
LAST-MODIFIED:20210923T090733Z
UID:10002563-1636675200-1636761599@pbkik.hu
SUMMARY:BIT2B - virtuális üzletember találkozó
DESCRIPTION:Az Area Science Park BIT2B egy virtuális esemény\, amely lehetőséget ad arra\, hogy az Area Science Parkban letelepedett\, a digitális és a fenntarthatósággal kapcsolatos innovatív megoldásokat fejlesztő vállalatokkal találkozzanak. \nAz AREA Science Park szeretettel várja azokat a vállalatokat\, startupokat\, kutatással foglalkozó szervezeteket\, amelyek hajlandóak együttműködési lehetőségeket kialakítani és közös projekteket\, valamint üzleti és technológiatranszfert kialakítani a digitalizáció és a fenntarthatóság területén. \nFő témák: \n\nElektronika és távközlés\nMesterséges intelligencia és gépi tanulás\nBig data és felhőalapú számítástechnika\nGIS\, flottakezelés\, logisztika\nIpari automatizálás\, robotika és képfeldolgozás\nVirtuális prototípusgyártás és ipari folyamatok optimalizálása\nVállalati digitális tanulás\, E-Coaching eszközök\nMultimédiás tartalmak és eszközök\, VR\, AR\nKép- és adatkezelés\nKörnyezetvédelem\, megújuló energiaforrások kezelése és biogáz\nBioalapú források ipari alkalmazásokhoz\nA mezőgazdaságban alkalmazott ICT\nKörforgásos gazdaság\n\nA részletes program ITT található. \nRegisztrálni itt lehet: REGISZTRÁCIÓ
URL:https://pbkik.hu/esemeny/bit2b-virtualis-uzletember-talalkozo/
LOCATION:Online
ATTACH;FMTTYPE=image/png:https://pbkik.hu/wp-content/uploads/2021/09/bit2b.png
END:VEVENT
END:VCALENDAR