BEGIN:VCALENDAR
VERSION:2.0
PRODID:-//Pécs-Baranyai Kereskedelmi és Iparkamara - ECPv6.15.20//NONSGML v1.0//EN
CALSCALE:GREGORIAN
METHOD:PUBLISH
X-WR-CALNAME:Pécs-Baranyai Kereskedelmi és Iparkamara
X-ORIGINAL-URL:https://pbkik.hu
X-WR-CALDESC:Események Pécs-Baranyai Kereskedelmi és Iparkamara
REFRESH-INTERVAL;VALUE=DURATION:PT1H
X-Robots-Tag:noindex
X-PUBLISHED-TTL:PT1H
BEGIN:VTIMEZONE
TZID:Europe/Budapest
BEGIN:DAYLIGHT
TZOFFSETFROM:+0100
TZOFFSETTO:+0200
TZNAME:CEST
DTSTART:20220327T010000
END:DAYLIGHT
BEGIN:STANDARD
TZOFFSETFROM:+0200
TZOFFSETTO:+0100
TZNAME:CET
DTSTART:20221030T010000
END:STANDARD
BEGIN:DAYLIGHT
TZOFFSETFROM:+0100
TZOFFSETTO:+0200
TZNAME:CEST
DTSTART:20230326T010000
END:DAYLIGHT
BEGIN:STANDARD
TZOFFSETFROM:+0200
TZOFFSETTO:+0100
TZNAME:CET
DTSTART:20231029T010000
END:STANDARD
BEGIN:DAYLIGHT
TZOFFSETFROM:+0100
TZOFFSETTO:+0200
TZNAME:CEST
DTSTART:20240331T010000
END:DAYLIGHT
BEGIN:STANDARD
TZOFFSETFROM:+0200
TZOFFSETTO:+0100
TZNAME:CET
DTSTART:20241027T010000
END:STANDARD
END:VTIMEZONE
BEGIN:VEVENT
DTSTART;VALUE=DATE:20230101
DTEND;VALUE=DATE:20240101
DTSTAMP:20260419T203434
CREATED:20230913T110446Z
LAST-MODIFIED:20230913T112728Z
UID:10002836-1672531200-1704067199@pbkik.hu
SUMMARY:Találjon projektpartnert a Clean Energy Transition Partnerség (CETP) következő felhívásához!
DESCRIPTION:A Clean Energy Transition Partnerség (CETP) a Horizont Európa keretprogram közös finanszírozású partnerségi konstrukciója\, melynek keretében 2022 és 2027 között minden évben pályázati felhívások kerülnek meghirdetésre. Az érdeklődőknek lehetősége van beregisztrálni az Enterprise Europe Networkkal együttműködésben kialakított partnerkereső oldalán\, melyen már közel 50 ország\, több\, mint 1 800 résztvevőjével vehetik fel a kapcsolatot! \n \nA kétlépcsős pályázat első körös következő felhívása 2023. szeptember 20-án nyílik meg\, melynek a beadási határideje 2023. november 22.  \nCETP online partnerkereső platform – REGISZTRÁCIÓ\nA CETP célja\, hogy elősegítse a tiszta energiára való átállást Európában\, valamint\, hogy koordinált módon összefogja a nemzeti és regionális KFI finanszírozásokat az átálláshoz szükséges technológiák és rendszermegoldások széles skálája mentén. A tiszta energiára való átállás az ipar\, az állami szervezetek\, a kutatók és a polgárok közös erőfeszítését igényli. \nA CET Partnerség 2023-as pályázati felhívása a második társfinanszírozású felhívás\, amelyet a tervek szerint 31 ország fog finanszírozni. A különböző témák és a KFI-folyamat különböző stációinak lefedése érdekében a felhívás 12 pályázati modulra tagolódik\, amelyek különböző energetikai technológiákra és/vagy rendszerekre\, valamint a kutatás- és innovációorientált megközelítésekre irányulnak különböző technológiai készültségi szinteken (TRL).  \n\n\n\n\n\n\n\n\n\nEgyenáramú (DC) technológiák a villamosenergia-hálózatok számára \nAz energiarendszer rugalmassága: megújulóenergia-termelés\, tárolás és rendszerintegráció \nEnergiatermelési célú fejlett megújulóenergia-technológiák \n\n\n\n\n\n\n\n\n\n\n\n\n\n\n\n\n\n\nSzén-dioxid-leválasztás\, -hasznosítás és -tárolás (CCUS) \nHidrogén és megújuló energiahordozók \nHűtési és fűtési technológiák \nGeotermikus energiát hasznosító technológiák \nIntegrált regionális energetikai rendszerek \n\n\n\n\n\n\n\n\n\n\n\n\n\n\n\n\n\n\nIntegrált ipari energetikai rendszerek \nTiszta energia integrálása az épített környezetbe \n\n\n\n\n\n\n\n\n\nA partnerkereső felületre az alábbi linken keresztül lehet regisztrálni:  https://clean-energy-transition-partnership-2023.cetp.b2match.io/  \nTovábbi információ a felhívásról: https://pbkik.hu/2023/09/13/hirek/fooldal/hamarosan-nyilik-a-clean-energy-transition-partnerseg-cetp-masodik-felhivasa/ 
URL:https://pbkik.hu/esemeny/talaljon-projektpartnert-a-clean-energy-transition-partnerseg-cetp-kovetkezo-felhivasahoz/
LOCATION:Online
ATTACH;FMTTYPE=image/png:https://pbkik.hu/wp-content/uploads/2023/09/CET_P.png
END:VEVENT
BEGIN:VEVENT
DTSTART;VALUE=DATE:20230926
DTEND;VALUE=DATE:20231011
DTSTAMP:20260419T203434
CREATED:20230818T062830Z
LAST-MODIFIED:20230822T082657Z
UID:10002831-1695686400-1696982399@pbkik.hu
SUMMARY:INOVA / BUDI UZOR 2023 - innovációs kiállítás
DESCRIPTION:Az INOVA / BUDI UZOR 2023 az innovációk\, prototípusok és üzleti tervek nemzetközi kiállítása\, amelyet olyan innovátorok és üzleti ötletgazdák számára terveztek\, akik szeretnék tesztelni innovációik piaci értékét és vállalkozásokat indítani. \nOnline és személyes\, helyszíni kiállítás\, üzleti információk\, informatív workshopok\, vállalkozók akadémiája\, üzleti terv író verseny\, célzott üzleti tárgyalások. \nIdén a kiállításra a horvátországi Zágrábban kerül sor szeptember 26. és 28. között\, a „Dare to Create”\, azaz „Merj alkotni” szlogen jegyében. \nA kiállítás innovátorokat\, diákokat\, tudományos intézményeket\, vállalkozástámogató szervezeteket\, bio- és ökoélelmiszer-termelőket és más érdekelt feleket gyűjt és hoz össze. \nAz INOVA / BUDI UZOR 2023: \n\na második legnagyobb európai innovációs kiállítás\,\na világ második legrégebbi innovációs kiállítása\,\na legjobb horvát innovátorok\, tudósok\, diákok\, találékony vállalkozók\, mikro-\, kis- és középvállalkozások\, fiatal innovátorok áttekintése\,\n30 ország kiemelkedő innovációinak kiállítása\, a világ minden tájáról.\n\nAz idei kiállításon az Enterprise Europe Network támogatásával növelje versenyképességét és lépjen be könnyebben az európai uniós piacra: szerezzen be fontos üzleti információkat\, találjon nemzetközi üzleti partnereket\, ügyfeleket\, beszállítókat vagy alkalmazottakat. \nKiket várnak az eseményre? \n\nInnovátorok\, innovátor vállalkozók\nHorvát és külföldi egyetemek tudósai\nEgyetemi és középiskolai hallgatók\nInnovátor egyesületek\nFejlesztési ügynökségek\, technológiai parkok és vállalkozástámogató intézmények\nTalálmányorientált mikro- és kisvállalkozások és kézművesek\nNagyvállalatok\nInnovátor nemzetközi szervezetek\n\nRészvétel \n\nRegisztráljon és hozza létre szervezete profilját.\nCsatlakozzon a rendezvényhez Zágrábban\, mutassa be tevékenységét és találkozzon hasonlóan gondolkodó emberekkel.\nA platformon böngéssze a többi résztvevő profilját\, és a rendezvény előtt üzleti találkozókat is szervezhet.\nHa nem tud személyesen részt venni\, online is ütemezhet és tarthat üzleti megbeszéléseket.\n\nA helyszíni találkozókra 2023. szeptember 27-én és 28-án kerül sor\, az online B2B találkozókra pedig 2023. október 10-ig. \nREGISZTRÁCIÓ
URL:https://pbkik.hu/esemeny/inova-budi-uzor-2023-innovacios-kiallitas/
LOCATION:Majorossy Imre utca 36.\, Pécs\, 7625\, Magyarország
ATTACH;FMTTYPE=image/jpeg:https://pbkik.hu/wp-content/uploads/2023/08/inova.jpg
END:VEVENT
BEGIN:VEVENT
DTSTART;TZID=Europe/Budapest:20231002T090000
DTEND;TZID=Europe/Budapest:20231002T133000
DTSTAMP:20260419T203434
CREATED:20230922T081441Z
LAST-MODIFIED:20231019T125208Z
UID:10002844-1696237200-1696253400@pbkik.hu
SUMMARY:Magyarország-USA kettős adóztatás - tájékoztató fórum
DESCRIPTION:A HEPA Magyar Exportfejlesztési Ügynökség 2023. október 2‑án információs rendezvényt tart\, melynek fókuszában az idei év végével hatályát veszítő\, magyar-amerikai kettős adóztatás elkerüléséről szóló egyezményhez kapcsolódó nemzetközi jogi\, jogalkotási\, valamint a KKV-kat érintő egyéb változások kerülnek bemutatásra\, amelyre ezúton szeretettel meghívjuk cégük képviselőit. \nAz esemény tervezett programja: \n\n\n\n8:30 – 9:00\nÉrkezés\, regisztráció\n\n\n9:00 – 9:15\nMegnyitó (KKM/HEPA)\n\n\n9:15 – 10:00\nKettős adózás elkerülésére vonatkozó nemzetközi adójogi környezet\, milyen jogalkotási kérdések vannak napirenden a megszűnő egyezmény okán (Pénzügyminisztérium tbd.)\n\n\n10:00 – 10:30\nEgyezmény megszűnésének lehetséges jogi aspektusai\, milyen módon érinti a magyar KKV-kat a változás (Csővári István – Csővári Legal Ügyvédi Iroda)\n\n\n10:30 – 11:00\nKávészünet\n\n\n11:00 – 12:00\nA megszűnő egyezmény hatása a bilaterális külgazdasági kapcsolatokra (kerekasztal beszélgetés): \n\nMódos András – partner\, adótanácsadó\, Ernst & Young Magyarország\nRadnai Károly irodavezető partner\, Andersen Adótanácsadó Zrt.\nModerátor: Sohajda Júlia\, alapító és ügyvezető partner\, Vespucci Partners\n\n\n\n\n12:00 – 13:30\nNetworking\, szendvicsebéd\n\n\n\nAz esemény helyszíne: HEPA Magyar Exportfejlesztési Ügynökség\,1027 Budapest\, Kacsa utca 15. Földszinti rendezvényterem \nA rendezvényen való részvétel a cégek képviselői számára ingyenes\, azonban regisztrációhoz kötött. Amennyiben a rendezvény felkeltette érdeklődését\, kérjük\, hogy részvételi szándékát szíveskedjen jelezni az alábbi regisztrációs felület kitöltésével. \nREGISZTRÁCIÓ
URL:https://pbkik.hu/esemeny/magyarorszag-usa-kettos-adoztatas-tajekoztato-forum/
LOCATION:HEPA Magyar Exportfejlesztési Ügynökség székháza\, 1027 Budapest\, Kacsa utca 15.\, Budapest\, 1027
ATTACH;FMTTYPE=image/jpeg:https://pbkik.hu/wp-content/uploads/2019/02/HEPA.jpg
END:VEVENT
BEGIN:VEVENT
DTSTART;VALUE=DATE:20231003
DTEND;VALUE=DATE:20231006
DTSTAMP:20260419T203434
CREATED:20230704T115904Z
LAST-MODIFIED:20230704T120017Z
UID:10002814-1696291200-1696550399@pbkik.hu
SUMMARY:Expo Ferroviaria - vasúti technológiák és rendszerek nemzetközi kiállítása
DESCRIPTION:Az EXPO Ferroviaria kiállítás a vasúti technológiák és rendszerek nemzetközi kiállítása\, amelyet 2023-ban 11. alkalommal rendeznek meg Milánóban. A rendezvény egyedülálló lehetőséget kínál a vasúti szektor összes szereplőjének B2B tárgyalásokra\, valamint az aktuális trendek és technológiák megismerésére. \nAz esemény főbb témái: \n\nGördülőállomány és vontatás a személy- és teherforgalomban\nEszközök a városi és regionális szolgáltatásokhoz\nGördülőállomány alkatrészek\, alrendszerek és belső szerelvények\nAnyagok\, vágányok építése és karbantartása\nVonatjelzés és vezénylés\nKommunikációs technológia\nJegyértékesítő és utastájékoztató rendszerek\n\nRészvételi díj: \n\nKiállítóként:\n\nMinimális alapterület: 9 m²\nÁltalános stand díj: 445 €/m²\nA stand bérlésnek határideje nincs\, a szabad helyek függvényében foglalható.\n\n\nLátogatóként: előzetes regisztrációt követően ingyenes\n\nAmennyiben a lehetőség felkeltette érdeklődésüket\, kérjük\, hogy további részletek\, valamint a részvétel megvalósítása kapcsán vegyék fel a kapcsolatot az alábbi elérhetőségek bármelyikén: \n\ntelefon: 0039 379 278 4523 (Paschek Dániel külgazdasági attasé)\ne-mail: mil@mfa.gov.hu\, daniel.paschek@mfa.gov.hu\n\nTovábbi információ
URL:https://pbkik.hu/esemeny/expo-ferroviaria-vasuti-technologiak-es-rendszerek-nemzetkozi-kiallitasa/
LOCATION:Milánó\, Olaszország
END:VEVENT
BEGIN:VEVENT
DTSTART;TZID=Europe/Budapest:20231003T140000
DTEND;TZID=Europe/Budapest:20231003T160000
DTSTAMP:20260419T203434
CREATED:20230821T061302Z
LAST-MODIFIED:20250814T073110Z
UID:10002833-1696341600-1696348800@pbkik.hu
SUMMARY:A minőségbiztosítás és a HR kapcsolata - műhelybeszélgetés az újraalakuló kamarai Minőségügyi Klub ülésén
DESCRIPTION:Újraindul a Minőségügyi Klub\, első ülésének témája a minőségirányítás és a hozzá kapcsolódó HR helyzetét világítja meg a régióban. \nMiért kell foglalkozni a minőségmenedzsmenttel? \n2 fontos dolog magyarázatot ad: \n\nSzűkül a piac\, ezzel együtt nőnek a követelmények. Csak azok tudnak fennmaradni\, akik a piac elvárásainak magas minőségű termékekkel és/vagy szolgáltatásokkal tudnak megfelelni\, legyen szó akár a hazai\, akár a külföldi piacokról.\nSokkal többe kerül az\, ha a cég nem foglalkozik a minőségirányítással\, mert az így „megspórolt” költséget selejtben kell majd megfizetni.\n\nMikor és hol? 2023. október 3-án (kedden) 14.00 órakor a Pécs-Baranyai Kereskedelmi és Iparkamara székházában (7625 Pécs\, Majorossy Imre u. 36.). \nKiknek szól? Mikro-\, kis-\, közepes méretű és nagyvállalatok szakembereinek \nMi fog történni? Szakemberek előadásai mellett kötetlen beszélgetésben vesznek részt a jelenlévők. \nRészvételi díj: A részvétel ezen az alkalmon díjmentes\, de regisztrációhoz kötött. \n\n\n\n\nMinőségügyi Klub 2023.10.03.\n\n\n\n\n\n\n\n\n    Név\n        *\n    \n    \n    \n    \n\n\n    Cégnév\n        *\n    \n    \n    \n    \n\n\n    Adószám\n        *\n    \n    \n    \n    \n\n\n    E-mail\n        *\n    \n    \n    \n    \n\n\n    Adatkezelési tájékoztató\n        *\n    \n    					\n			 A rendezvény adatkezelési tájékoztatóját megismertem\, annak tartalmát elfogadom.\n\n    Adatkezelési tájékoztató\n    \n\n	\n	\n\nBeküldés\n\n\n\n\n\n\n\n\n\nIgény alapú folytatás \nAz első klubösszejövetelen a résztvevők az őket érintő témákat elmondják és azok köré szerveződnek a klub további összejövetelei. \nEgyüttműködő partnerek: \nCERT TANUSÍTÓ ZRT. \nMAVASZK Kft. \nTovábbi információ: \nCsászár Gergely innovációs és iparfejlesztési projektiroda vezető\, Enterprise Europe Network – Dél-Dunántúl irodavezető \nE-mail: csaszar.gergely@pbkik.hu\nTelefon: +36 72 507 186\nMobil: +36 20 442 20 80 \nés \nPiacsek László Zoltán humánerőforrás fejlesztési projektiroda vezető \nE-mail: piacsek.laszlo@pbkik.hu\nTelefon: +36 72 507 141\nMobil: +36 20 264 66 68
URL:https://pbkik.hu/esemeny/a-minosegbiztositas-es-a-hr-kapcsolata-muhelybeszelgetes-az-ujraalakulo-kamarai-minosegugyi-klub-ulesen/
LOCATION:Pécsi Kereskedelmi Központ
CATEGORIES:Kamarai Minőségügyi Klub rendezvény
GEO:46.081487;18.2347915
END:VEVENT
BEGIN:VEVENT
DTSTART;TZID=Europe/Budapest:20231004T093000
DTEND;TZID=Europe/Budapest:20231004T163000
DTSTAMP:20260419T203434
CREATED:20230918T094814Z
LAST-MODIFIED:20230918T100950Z
UID:10002840-1696411800-1696437000@pbkik.hu
SUMMARY:Svájci-magyar üzleti fórum
DESCRIPTION:A Svájci Nagykövetség és a Swisschem Hungary közösen szervezi meg a Svájci-magyar üzleti fórum szakmai rendezvényt Pécsett\, melynek témája a Körforgásos gazdaság egy fenntartható jövőért lesz.\n\nProgram:\n\n9:30-10:00 Kávésarok\n10:00-10:15 Köszöntők\nJean-François Paroz\, Svájc magyarországi nagykövete\nPéterffy Attila\, Pécs város polgármestere\nModerátor: Dr. Béres István\, a Swisscham Hungary elnöke\n10:15-10:35   Magyarország víziója a fenntarthatóságról\nDr. Botos Barbara\, klímaügyekért és klímapolitikáért felelős utazó nagykövet\, Energiaügyi Minisztérium\n10:35-11:00 Svájc szerepe a fenntartható fejlődésben\nMiben járul hozzá Svájc és milyen lehetőségek állnak a cégek előtt a szerepvállalásra?\nSvájc szerepe a környezeti és társadalmi fejlődésben\nPalliatív ápolási program\nDr. Korponai Gergő főosztályvezető\, NIH vezető helyettes\, Miniszterelnökség\nRoland Python\, Svájci Hozzájárulási Iroda vezetője\, Svájci Nagykövetség Magyarországon\nDr. Csikós Ágnes\, Docens\, Pécsi Tudományegyetem\n11:00-11:30 Kávészünet – Cleantech kiállítás megnyitó\n11:30-11:50 Együttműködés a Pécsi Tudományegyetem és a Roche Magyarország között\n\nRaffaella Bondi\, ügyvezető igazgató\, Roche Magyarország\nKiss Adrienn\, Chief Commercial Officer\, Roche Diagnosztika üzletág\nPécsi Tudományegyetem (egyeztetés alatt)\n\n11:50-13:00 Panelbeszélgetés a körforgásos gazdaságról és fenntarthatóságról iparági résztvevőkkel\nHazai példák társadalmi és gazdasági oldalról\nDr. Botos Barbara\, klímaügyekért és klímapolitikáért felelős utazó nagykövet\, Energiaügyi Minisztérium\nHoffmann Tamás\, ügyvezető igazgató\, Holcim Magyarország Kft.\nRaffaella Bondi\, ügyvezető igazgató\, Roche Magyarország Kft.\nDr. Hirth Markus\, üzletfejlesztési vezető\, Kontakt Electro Kft.\nModerátor: Márta Irén\, igazgató\, Magyarországi Üzleti Tanács a Fenntartható Fejlődésért (BCSDH)\n13:00-14:00 Ebéd\, Networking\n14:15- Egyéni transzfer\n15:00-16:30 Gyárlátogatás a Holcim Magyarországnál – Előzetes regisztráció szükséges!\n\nDátum\, időpont: 2023. október 4.\, 9:30\nHelyszín: Pécs\, Zsolnay Kulturális Negyed\, E78 terem \nA rendezvény nyelve magyar-angol (tolmácsolást biztosítanak). \nA részvétel ingyenes de regisztrációhoz kötött. Regisztrálni ITT lehet.
URL:https://pbkik.hu/esemeny/svajci-magyar-uzleti-forum/
LOCATION:Zsolnay Kulturális Negyed\, Major utca 21.\, Pécs\, Baranya\, 7626\, Magyarország
END:VEVENT
BEGIN:VEVENT
DTSTART;TZID=Europe/Budapest:20231005T100000
DTEND;TZID=Europe/Budapest:20231005T140000
DTSTAMP:20260419T203434
CREATED:20230913T064235Z
LAST-MODIFIED:20231019T124855Z
UID:10002384-1696500000-1696514400@pbkik.hu
SUMMARY:Magyar - Brit Üzleti Fórum
DESCRIPTION:A HEPA Magyar Exportfejlesztési Ügynökség Magyar-Brit Üzleti Fórumot szervez\, Magyarország Londoni Nagykövetségével és a Hungarian British Business Alliance-el (HBBA) együttműködésben. \nA rendezvény célja\, hogy lehetővé tegye a két ország üzleti szereplői közötti új és meglévő gazdasági kapcsolatok erősítését és előmozdítsa az üzleti és technológiai együttműködést. \nAz esemény részeként a résztvevők B2B találkozók keretében közvetlen tárgyalásokat folytathatnak a brit üzletember delegáció tagjaival. \nA fórum kiemelt témái: az innováció\, beruházások és a technológiai újdonságok. \nHelyszín: Novotel Budapest Danube (1027 Budapest\, Bem rakpart 33-34.) \nIdőpont: 2023. október 5.\, csütörtök 10:00-14:00 \nProgramterv \n\n\n\n9.30 – 10.00\nRegisztráció – Networking – kávé\n\n\n10.00 – 10.15\nBihari Katalin a Külgazdasági és Külügyminisztérium külgazdaság fejlesztéséért felelős helyettes államtitkárának nyitó előadása\n\n\n10.15 – 10.25\n5 cég bemutatkozása 2-2 percben\n\n\n10.25 – 10.35\nJenei Gábor HEPA vezérigazgató előadása\n\n\n10.35 – 10.45\n5 cég bemutatkozása 2-2 percben\n\n\n10.45 – 10.55\nSusanna Toth Lee HBBA CEO és Peter Wilcock HBBA Non-Exec Chair előadása\n\n\n10.55 – 11.05\n5 cég bemutatkozása 2-2 percben\n\n\n11.05 – 11.45\nPanel – Jó gyakorlatok a brit piacon\n\n\n11.45 – 14.00\nNetworking – Üzleti Matchmaking – Állófogadásos ebéd\n\n\n\nA részvétel a cégek képviselői számára ingyenes\, azonban regisztrációhoz kötött. \nAmennyiben az esemény felkeltette érdeklődését\, kérjük\, hogy részvételi szándékát a REGISZTRÁCIÓS FELÜLET kitöltésével szíveskedjen jelezni legkésőbb 2023. szeptember 20. 16:00 óráig. \nAz üzleti fórummal kapcsolatos kérdéseire a eeninfo@hepa.hu címen válaszolnak.
URL:https://pbkik.hu/esemeny/magyar-brit-uzleti-forum/
LOCATION:Novotel Budapest Danube Hotel\, Bem rakpart 33-34.\, Budapest\, Pest\, 1024\, Magyarország
END:VEVENT
BEGIN:VEVENT
DTSTART;VALUE=DATE:20231007
DTEND;VALUE=DATE:20231013
DTSTAMP:20260419T203434
CREATED:20230706T130240Z
LAST-MODIFIED:20231019T125212Z
UID:10002821-1696636800-1697155199@pbkik.hu
SUMMARY:EIT Connect & Experience 2023 bootcamp
DESCRIPTION:A Connect & Experience egy olyan bootcamp\, amely európai ökoszisztéma-vezetőket hoz össze\, lehetőséget kínálva nekik\, hogy csatlakozzanak a hasonlóan gondolkodó kollégák exkluzív közösségéhez\, és elsajátítsák a legjobb gyakorlatokat Izraelből és a világból. \n \nA bootcamp lehetőséget nyújt\, hogy gyakorlati eszközökre tegyenek szert\, bővítsék saját szakmai hálózatukat\, valamint hozzájárul a legmagasabb szintű szakmai és személyes fejlődéshez. \nA programra 2023. október 7-12. között kerül sor Izraelben. \nA jelentkezési határidő: 2023. július 30. \nKiknek szól?\nHa Ön európai tapasztalattal rendelkező vezető szakember\, aki több mint 5 éves vezetői tapasztalattal rendelkezik az innováció és/vagy az üzleti vállalkozások létrehozása területén\, egy olyan szervezetnél\, amely az európai start-up vállalkozások növekedését ösztönzi\, és jelentős hatást gyakorol az európai ökoszisztémára. \nTovábbi részletek \nRészletek a  Connect & Experience weboldalon olvashatók. \nJelentkezni az alábbi elérésen lehetséges:  APPLY
URL:https://pbkik.hu/esemeny/eit-connect-experience-2023-bootcamp/
END:VEVENT
END:VCALENDAR