BEGIN:VCALENDAR
VERSION:2.0
PRODID:-//Pécs-Baranyai Kereskedelmi és Iparkamara - ECPv6.15.20//NONSGML v1.0//EN
CALSCALE:GREGORIAN
METHOD:PUBLISH
X-ORIGINAL-URL:https://pbkik.hu
X-WR-CALDESC:Események Pécs-Baranyai Kereskedelmi és Iparkamara
REFRESH-INTERVAL;VALUE=DURATION:PT1H
X-Robots-Tag:noindex
X-PUBLISHED-TTL:PT1H
BEGIN:VTIMEZONE
TZID:Europe/Budapest
BEGIN:DAYLIGHT
TZOFFSETFROM:+0100
TZOFFSETTO:+0200
TZNAME:CEST
DTSTART:20240331T010000
END:DAYLIGHT
BEGIN:STANDARD
TZOFFSETFROM:+0200
TZOFFSETTO:+0100
TZNAME:CET
DTSTART:20241027T010000
END:STANDARD
BEGIN:DAYLIGHT
TZOFFSETFROM:+0100
TZOFFSETTO:+0200
TZNAME:CEST
DTSTART:20250330T010000
END:DAYLIGHT
BEGIN:STANDARD
TZOFFSETFROM:+0200
TZOFFSETTO:+0100
TZNAME:CET
DTSTART:20251026T010000
END:STANDARD
BEGIN:DAYLIGHT
TZOFFSETFROM:+0100
TZOFFSETTO:+0200
TZNAME:CEST
DTSTART:20260329T010000
END:DAYLIGHT
BEGIN:STANDARD
TZOFFSETFROM:+0200
TZOFFSETTO:+0100
TZNAME:CET
DTSTART:20261025T010000
END:STANDARD
END:VTIMEZONE
BEGIN:VEVENT
DTSTART;VALUE=DATE:20250316
DTEND;VALUE=DATE:20250326
DTSTAMP:20260419T215533
CREATED:20241212T122837Z
LAST-MODIFIED:20241212T132314Z
UID:10003012-1742083200-1742947199@pbkik.hu
SUMMARY:Kamarai támogatott külpiaci delegáció Tajpejbe és/vagy Bangkokba
DESCRIPTION:A Budapesti Kereskedelmi és Iparkamara és a Magyar Kereskedelmi és Iparkamara 2025 márciusi üzleti delegációja Tajpejbe és/vagy Bangkokba kedvezményes lehetőséget biztosít nemzetközi üzletépítésére\, piacszerzésre és szakmai programokon való részvételre a két relációban. A résztvevőknek lehetőségük van csak a tajpeji\, vagy csak a bangkoki programokhoz csatlakozni\, de részt vehetnek mindkét úton is. \n \nRészletek: \nTajpej – Smart City Summit & Expo (2025. március 18–21.)\n\n250.000 Ft / vállalkozás: Tartalmazza a 4–5 csillagos szállás biztosítását (2 fő/cég) 5 éjszakára\, 54 m²-es interaktív országstand használatát\, kiállítói pulttal és LCD monitorral\, B2B találkozókat\, transzfert és étkezést.\nFókusz: Innováció\, digitalizáció\, okosváros-megoldások\nA részvételi díj nem tartalmazza: Repülőjegy\n\n  \nBangkok – Multiszektorális üzleti fórumok (2025. március 24–25.)\n\n50.000 Ft / vállalkozás: Tartalmazza a szakmai programokon történő részvételt\, transzfereket és kedvezményes rátát az általunk javasolt szállodára.\nProgramok: Thai-Magyar üzleti fórum\, B2B találkozók és nagykövetségi fogadás\nFókusz: Élelmiszeripar\, nagykereskedelem\, fintech\, megújuló energia\, egyéb iparágak\nA részvételi díj nem tartalmazza: Repülőjegy\, szállásköltség\n\n  \nTovábbi kedvezmény: Önkéntes területi kamarai tagoknak további 20% kedvezmény a részvételi díjból. \nRészvétel és elbírálás: Exportképesség szerint\nJelentkezési határidő: 2024. december 20. (péntek)\, 17.00 \nKapcsolattartó: Babák Péter | babak.peter@bkik.hu | (1) 488 2165 \n\nRészletes információk\nJelentkezés menete\nAdatkezelési nyilatkozat\n\nJelentkezés: Link az űrlaphoz
URL:https://pbkik.hu/esemeny/kamarai-tamogatott-kulpiaci-delegacio-tajpejbe-es-vagy-bangkokba/
CATEGORIES:Ajánló
END:VEVENT
BEGIN:VEVENT
DTSTART;VALUE=DATE:20250319
DTEND;VALUE=DATE:20250329
DTSTAMP:20260419T215533
CREATED:20250113T130344Z
LAST-MODIFIED:20250113T131541Z
UID:10003024-1742342400-1743206399@pbkik.hu
SUMMARY:IPEC - Nemzetközi fenntarthatósági és digitalizációs konferencia és partnerkereső rendezvény
DESCRIPTION:Az International Production Environmental Community online B2B üzletember találkozó a 10. alkalommal megrendezésre kerülő IPEC online konferenciát (2025. március 18.) követően tartják.  A konferencia kiemelt témája az ENSZ 12 fenntarthatósági céljainak fejlesztése\, továbbá a digitalizáció elősegítése. Fókuszpontban az AI bevonása az ipari termelésbe és a körforgásos gazdaság. \n \nAz online B2B időpontja: 2025. március 19-28. \nA B2B rendezvényen való részvételre az alábbi linken keresztül lehet beregisztrálni \nhttps://ipec-2025.b2match.io/ \nRegisztráció határideje: 2025. március 28. \nRészvételi feltétel: INGYENES
URL:https://pbkik.hu/esemeny/ipec-nemzetkozi-fenntarthatosagi-es-digitalizacios-konferencia-es-partnerkereso-rendezveny/
LOCATION:Online
CATEGORIES:EEN események
ATTACH;FMTTYPE=image/png:https://pbkik.hu/wp-content/uploads/2025/01/8270909899-7e086d7c83.png
END:VEVENT
BEGIN:VEVENT
DTSTART;VALUE=DATE:20250325
DTEND;VALUE=DATE:20250327
DTSTAMP:20260419T215533
CREATED:20250106T092938Z
LAST-MODIFIED:20250106T093723Z
UID:10003015-1742860800-1743033599@pbkik.hu
SUMMARY:Health Tech Hub Styria 2025 - Nemzetközi konferencia és partnerkereső rendezvény
DESCRIPTION:A hat tagból álló stájer Health Tech Hub (HTH Styria) innovációs szervezet és az Enterprise Europe Network nemzetközi egészségipari konferenciát és partnerkereső rendezvényt szervez a „Game changers in HealthTech” címmel\, melynek a HEPA Magyar Exportfejlesztési Ügynökség is társ szervezője. \n \nIdőpont: 2025. március 25-26. \nHelyszín: Graz\, Ausztria\, MED CAMPUS Graz\, Neue Stiftingtalstraße 6\, Graz \nA rendezvény célja\, hogy erősítse az ipar/akadémia közötti kapcsolatot\, és lehetővé tegye korai szakaszbeli innovációk bemutatkozását is. A rendezvény kiváló alkalom projekt partnerek megtalálására\, jövőbeni együttműködések megtárgyalására\, tapasztalatcserére. \nA rendezvényre várják a biotechnológiai\, egészségipari és e-health szektorból a kutatókat\, cégeket\, start-upokat\, befektetőket\, végfelhasználókat (klinikák\, orvosok\, etc.). \nA programnak hivatalosan részvételi díja van\, de az Enterprise Europe Network ügyfelei az alább megadott kóddal térítésmentesen regisztrálhatnak. \nPromo code: FREE-wefho232-Loyalty \nLemondási feltételek: \nMeg nem jelenés vagy 2025. március 14. utáni lemondás esetén 100 EUR lemondási díj kerül felszámításra. \nElőzetes programterv: https://hth-styria-2025.b2match.io/components/47469 \nTovábbi információ: Szabó Eszter Anna\nTel.: +36-20-250-1851\nE-mail: szabo.eszter@hepa.hu \nRegisztráció: hth-styria-2025.b2match.io
URL:https://pbkik.hu/esemeny/health-tech-hub-styria-2025-nemzetkozi-konferencia-es-partnerkereso-rendezveny/
LOCATION:MED CAMPUS Graz – Medizinische Universität Graz\, Neue Stiftingtalstraße 6\, Graz\, 8010\, Austria
CATEGORIES:EEN események
ATTACH;FMTTYPE=image/png:https://pbkik.hu/wp-content/uploads/2025/01/HealthTechHubStyria_2025.png
END:VEVENT
BEGIN:VEVENT
DTSTART;TZID=Europe/Budapest:20250325T100000
DTEND;TZID=Europe/Budapest:20250325T120000
DTSTAMP:20260419T215533
CREATED:20250224T144134Z
LAST-MODIFIED:20250225T113617Z
UID:10003052-1742896800-1742904000@pbkik.hu
SUMMARY:Magyar-Monacói Üzleti Fórum
DESCRIPTION:A HEPA Magyar Exportfejlesztési Ügynökség 2025. március 25-én\, kedden Magyar-Monacói Üzleti Fórumot szervez. \n \nA Monacói delegáció azzal a céllal látogat Magyarországra\, hogy potenciális beszállítókat és üzleti partnereket azonosítson be\, valamint\, hogy megismerje a magyar üzleti környezetet és befektetési lehetőségeket. \nA rendezvényen való részvétel a cégek képviselői számára ingyenes\, azonban  előzetes regisztrációhoz kötött. Amennyiben a rendezvény felkeltette érdeklődését\, kérjük\, hogy részvételi szándékát az  alábbi regisztrációs link kitöltésével szíveskedjen jelezni legkésőbb 2025. március 20.\, csütörtök 12:00-ig. (Ezt követően nem áll módunkban jelentkezést elfogadni.) \nA regisztráció személyhez kötött\, a részvételi lehetőség másra nem átruházható\, illetve a rendezvény helyszínén nincs lehetőség regisztrációra. \nFelhívjuk szíves figyelmét\, hogy a regisztrációkor kapott válaszüzenet nem jelenti automatikusan a regisztráció visszaigazolását\, arról a fentiekben jelzett regisztrációs határidőt követően\, de legkésőbb az esemény előtti napon küldenek e-mailben tájékoztatást. \nA monacói céges lista a következő linken található:  Monacói delegációs lista \nA rendezvény további részleteiről a regisztrációja elfogadását követően értesítik. A rendezvénnyel kapcsolatos kérdéseit a rendezveny@hepa.hu címen várják. \nREGISZTRÁCIÓ
URL:https://pbkik.hu/esemeny/magyar-monacoi-uzleti-forum/
ATTACH;FMTTYPE=image/jpeg:https://pbkik.hu/wp-content/uploads/2024/04/Hepa_logo_fekvo_EN_mono-kek_cmyk-scaled.jpg
END:VEVENT
BEGIN:VEVENT
DTSTART;TZID=Europe/Budapest:20250327T100000
DTEND;TZID=Europe/Budapest:20250327T133000
DTSTAMP:20260419T215533
CREATED:20250213T124446Z
LAST-MODIFIED:20250213T130622Z
UID:10003039-1743069600-1743082200@pbkik.hu
SUMMARY:Blockchain technológia és tokenizáció az üzleti modellekben
DESCRIPTION:Hogyan forradalmasítja a blockchain technológia a különböző iparágakat? Miért fontos a tokenizáció a jövő üzleti modelljeiben? A résztvevők megismerik a blockchain technológia különböző felhasználási esteit és a tokenizáció előnyeit. \n\nWorkshop célja: \nBemutatjuk és közös\, interaktív workshop keretében bemutatjuk\, hogy milyen blockchain alapú megoldások érhetők el a kkv-k számára. \nWorkshop ideje: 2025. március 27. 10:00 – 13:30 \nHelyszín: Teatrum Bistro (1065 Budapest\, Nagymező utca 17.) \nElőadó: Kalocsai Kornél \n\n\nA DEDIH Klub márciusi workshop alkalmán szó lesz:\n\nBlockchain alapok: Mi az a blockchain és hogyan működik?\nBlockchain alkalmazása az üzleti folyamatokban: tranzakciók\, adatbiztonság\, nyilvántartás.\nTokenizáció: Miért és hogyan lehet fizikai és digitális eszközöket tokenizálni?\nA blockchain és a tokenizáció előnyei az üzleti környezetben.\n\n\n\n 
URL:https://pbkik.hu/esemeny/blockchain-technologia-es-tokenizacio-az-uzleti-modellekben/
END:VEVENT
END:VCALENDAR