BEGIN:VCALENDAR
VERSION:2.0
PRODID:-//Pécs-Baranyai Kereskedelmi és Iparkamara - ECPv6.15.20//NONSGML v1.0//EN
CALSCALE:GREGORIAN
METHOD:PUBLISH
X-WR-CALNAME:Pécs-Baranyai Kereskedelmi és Iparkamara
X-ORIGINAL-URL:https://pbkik.hu
X-WR-CALDESC:Események Pécs-Baranyai Kereskedelmi és Iparkamara
REFRESH-INTERVAL;VALUE=DURATION:PT1H
X-Robots-Tag:noindex
X-PUBLISHED-TTL:PT1H
BEGIN:VTIMEZONE
TZID:Europe/Helsinki
BEGIN:DAYLIGHT
TZOFFSETFROM:+0200
TZOFFSETTO:+0300
TZNAME:EEST
DTSTART:20190331T010000
END:DAYLIGHT
BEGIN:STANDARD
TZOFFSETFROM:+0300
TZOFFSETTO:+0200
TZNAME:EET
DTSTART:20191027T010000
END:STANDARD
BEGIN:DAYLIGHT
TZOFFSETFROM:+0200
TZOFFSETTO:+0300
TZNAME:EEST
DTSTART:20200329T010000
END:DAYLIGHT
BEGIN:STANDARD
TZOFFSETFROM:+0300
TZOFFSETTO:+0200
TZNAME:EET
DTSTART:20201025T010000
END:STANDARD
BEGIN:DAYLIGHT
TZOFFSETFROM:+0200
TZOFFSETTO:+0300
TZNAME:EEST
DTSTART:20210328T010000
END:DAYLIGHT
BEGIN:STANDARD
TZOFFSETFROM:+0300
TZOFFSETTO:+0200
TZNAME:EET
DTSTART:20211031T010000
END:STANDARD
END:VTIMEZONE
BEGIN:VEVENT
DTSTART;TZID=Europe/Helsinki:20200924T090000
DTEND;TZID=Europe/Helsinki:20200924T133000
DTSTAMP:20260426T025717
CREATED:20200827T084059Z
LAST-MODIFIED:20200902T192013Z
UID:10002100-1600938000-1600954200@pbkik.hu
SUMMARY:Francia-Magyar üzleti fórum Budapesten
DESCRIPTION:Az Enterprise Europe Network és a HEPA Magyar Exportfejlesztési Ügynökség valamint a Magyar-Francia Kereskedelmi és Iparkamara első közös szervezésű Magyar-Francia Üzleti Fóruma szeptember 24-én kerül megrendezésre Budapesten. \nA rendezvényen előadást tart több francia nagyvállalat (Schneider Electric Zrt; Auchan Magyarország Kft.; Engie Magyarország Kft.) beszerzési vezetője és ismerteti a beszállítóvá válás általános lehetőségeit\, valamint a francia piacon sikeres hazai vállalkozások (Thermowatt Kft.\, Magnus Aircraft Corporation) mutatják be a piacra jutással kapcsolatos jó tapasztalataikat. \nHa érdekli Önt a francia piac\, és szívesen találkozna a programban szereplő magyarországi nagy francia vállalatok beszerzési képviselőivel\, akkor várjuk jelentkezését! \nIdőpont\n2020. szeptember 24. (csütörtök) 09:15-13:30\nRegisztráció: 08:45-től \nA részvétel ingyenes\, azonban előzetes regisztrációhoz kötött.\n\nKérjük\, hogy részvételi szándékát legkésőbb 2020. szeptember 20-ig jelezze az alábbi\ne-mail címen: edina.kertesi@ccifrance-hongrie.org. A regisztrációt e-mailen igazolják vissza. \nParkolás: egyénileg \nA rendezvény nem sajtónyilvános. \nA helyszínen kézfertőtlenítő a rendezvény teljes időtartama alatt biztosított. \nProgram \n08:45 Érkezés\, regisztráció \n09:15 – 9:30 Megnyitó\nŐexcellenciája Pascale Andréani\, Franciaország magyarországi nagykövete (felkérés alatt) \n09:30 – 10.30 Nyitóelőadások\, MoU aláírás\nA HEPA szerepe és eszközrendszere a hazai vállalkozások exportsikereinek előmozdításában\nElőadó: Hendrich Balázs\, vezérigazgató – HEPA Magyar Exportfejlesztési Ügynökség\nHogyan tud hozzájárulni a Magyar-Francia Kereskedelmi és Iparkamara tevékenységével a magyar-francia üzleti kapcsolatok fejlődéséhez? \nElőadó: Ducrot Ágnes\, igazgató – Magyar-Francia Kereskedelmi és Iparkamara\nA stratégiai partnerségi megállapodás aláírása a HEPA Magyar Exportfejlesztési Ügynökség és a \nMagyar-Francia Kereskedelmi és Iparkamara között10:30 – 10:45 Kávészünet \n10:45 – 12:00 Francia nagyvállalatok\, valamint a francia piacon sikeressé vált hazai vállalatok előadásai\nA Schneider Electric Zrt. beszerzési tevékenységének bemutatása\nElőadó: Oltvai Márton\, magyarországi beszerzési igazgató – Schneider Electric Zrt. \nAz Auchan Magyarország Kft. beszerzési tevékenységének bemutatása\nElőadó: Budai János\, indirekt beszerzési igazgató – Auchan Magyarország Kft. \nAz Engie Magyarország Kft. beszerzési tevékenységének bemutatása\nElőadó: dr. Czipf Csongor\, ügyvezető igazgató – Engie Magyarország Kft. \nHogyan legyünk sikeresek a francia piacon? – A Thermowatt Kft. franciaországi projektjének bemutatása\nElőadó: Kiss Pál\, ügyvezető igazgató – Thermowatt Kft. \nHogyan legyünk sikeresek a francia piacon? – A Magnus Aircraft Corporation franciaországi projektjének bemutatása\nElőadó: Hazafi Sándor\, értékesítési- és marketing igazgató – Magnus Aircraft Corporation \n12:00 – 13:30 Büféebéd & networking \n 
URL:https://pbkik.hu/esemeny/francia-magyar-uzleti-forum-budapesten/
LOCATION:Krisztina krt. 41-43.\, Budapest\, 1013
END:VEVENT
END:VCALENDAR