BEGIN:VCALENDAR
VERSION:2.0
PRODID:-//Pécs-Baranyai Kereskedelmi és Iparkamara - ECPv6.15.20//NONSGML v1.0//EN
CALSCALE:GREGORIAN
METHOD:PUBLISH
X-ORIGINAL-URL:https://pbkik.hu
X-WR-CALDESC:Események Pécs-Baranyai Kereskedelmi és Iparkamara
REFRESH-INTERVAL;VALUE=DURATION:PT1H
X-Robots-Tag:noindex
X-PUBLISHED-TTL:PT1H
BEGIN:VTIMEZONE
TZID:Europe/Helsinki
BEGIN:DAYLIGHT
TZOFFSETFROM:+0200
TZOFFSETTO:+0300
TZNAME:EEST
DTSTART:20180325T010000
END:DAYLIGHT
BEGIN:STANDARD
TZOFFSETFROM:+0300
TZOFFSETTO:+0200
TZNAME:EET
DTSTART:20181028T010000
END:STANDARD
BEGIN:DAYLIGHT
TZOFFSETFROM:+0200
TZOFFSETTO:+0300
TZNAME:EEST
DTSTART:20190331T010000
END:DAYLIGHT
BEGIN:STANDARD
TZOFFSETFROM:+0300
TZOFFSETTO:+0200
TZNAME:EET
DTSTART:20191027T010000
END:STANDARD
BEGIN:DAYLIGHT
TZOFFSETFROM:+0200
TZOFFSETTO:+0300
TZNAME:EEST
DTSTART:20200329T010000
END:DAYLIGHT
BEGIN:STANDARD
TZOFFSETFROM:+0300
TZOFFSETTO:+0200
TZNAME:EET
DTSTART:20201025T010000
END:STANDARD
END:VTIMEZONE
BEGIN:VEVENT
DTSTART;VALUE=DATE:20191120
DTEND;VALUE=DATE:20191123
DTSTAMP:20260420T102419
CREATED:20190603T062845Z
LAST-MODIFIED:20190603T062845Z
UID:10001841-1574208000-1574467199@pbkik.hu
SUMMARY:Smart Manufacturing - nemzetközi üzletember-találkozó
DESCRIPTION:A Smart Manufacturing 2019 (SMM 2019) konferencia és nemzetközi üzletember-találkozó lehetőséget ad arra\, hogy személyesen találkozzon a smart manufacturing és az ipar 4.0 területén kiemelkő eredményeket elért vállalati vezetőkkel\, kutatókkal és állami szervekkel. \n \n \nA rendezvényt a Calabria Egyetem kutatócsoportjai\, az Enterprise Europe Network munkatársai\, a SPIN és számos más\, az Ipar 4.0 programban érdekelt fél szervezi.\n \n  \n  \nA Smart Manufacturing 2019 programja: \n\nAz ISM2019 konferencia\, ahol eddig nem publikált cikkek kerülnek bemutatásra az Ipar 4.0 és a Smart Manufacturing témájában\,\nAz invNET\, amely  társadalmi és környezeti hatásokkal járó projektek megvalósításában támogatja a vállalatokat és startupokat\,\nA nemzetközi üzletember-találkozó\,\nA WIN-LOG 2019 workshop – vállalatok és K+F projektek számára.\n\n  \nRegisztráció a SMM2019 nemzetközi üzletember-találkozóra. \nA rendezvény hivatalos oldala.
URL:https://pbkik.hu/esemeny/smart-manufacturing-nemzetkozi-uzletember-talalkozo/
LOCATION:Amantea\, Olaszország
ATTACH;FMTTYPE=image/png:https://pbkik.hu/wp-content/uploads/2019/06/cropped-Senza-nome.png
END:VEVENT
END:VCALENDAR