BEGIN:VCALENDAR
VERSION:2.0
PRODID:-//Pécs-Baranyai Kereskedelmi és Iparkamara - ECPv6.15.20//NONSGML v1.0//EN
CALSCALE:GREGORIAN
METHOD:PUBLISH
X-WR-CALNAME:Pécs-Baranyai Kereskedelmi és Iparkamara
X-ORIGINAL-URL:https://pbkik.hu
X-WR-CALDESC:Események Pécs-Baranyai Kereskedelmi és Iparkamara
REFRESH-INTERVAL;VALUE=DURATION:PT1H
X-Robots-Tag:noindex
X-PUBLISHED-TTL:PT1H
BEGIN:VTIMEZONE
TZID:Europe/Budapest
BEGIN:DAYLIGHT
TZOFFSETFROM:+0100
TZOFFSETTO:+0200
TZNAME:CEST
DTSTART:20220327T010000
END:DAYLIGHT
BEGIN:STANDARD
TZOFFSETFROM:+0200
TZOFFSETTO:+0100
TZNAME:CET
DTSTART:20221030T010000
END:STANDARD
BEGIN:DAYLIGHT
TZOFFSETFROM:+0100
TZOFFSETTO:+0200
TZNAME:CEST
DTSTART:20230326T010000
END:DAYLIGHT
BEGIN:STANDARD
TZOFFSETFROM:+0200
TZOFFSETTO:+0100
TZNAME:CET
DTSTART:20231029T010000
END:STANDARD
BEGIN:DAYLIGHT
TZOFFSETFROM:+0100
TZOFFSETTO:+0200
TZNAME:CEST
DTSTART:20240331T010000
END:DAYLIGHT
BEGIN:STANDARD
TZOFFSETFROM:+0200
TZOFFSETTO:+0100
TZNAME:CET
DTSTART:20241027T010000
END:STANDARD
BEGIN:DAYLIGHT
TZOFFSETFROM:+0100
TZOFFSETTO:+0200
TZNAME:CEST
DTSTART:20250330T010000
END:DAYLIGHT
BEGIN:STANDARD
TZOFFSETFROM:+0200
TZOFFSETTO:+0100
TZNAME:CET
DTSTART:20251026T010000
END:STANDARD
BEGIN:DAYLIGHT
TZOFFSETFROM:+0100
TZOFFSETTO:+0200
TZNAME:CEST
DTSTART:20260329T010000
END:DAYLIGHT
BEGIN:STANDARD
TZOFFSETFROM:+0200
TZOFFSETTO:+0100
TZNAME:CET
DTSTART:20261025T010000
END:STANDARD
END:VTIMEZONE
BEGIN:VTIMEZONE
TZID:Europe/Helsinki
BEGIN:DAYLIGHT
TZOFFSETFROM:+0200
TZOFFSETTO:+0300
TZNAME:EEST
DTSTART:20180325T010000
END:DAYLIGHT
BEGIN:STANDARD
TZOFFSETFROM:+0300
TZOFFSETTO:+0200
TZNAME:EET
DTSTART:20181028T010000
END:STANDARD
BEGIN:DAYLIGHT
TZOFFSETFROM:+0200
TZOFFSETTO:+0300
TZNAME:EEST
DTSTART:20190331T010000
END:DAYLIGHT
BEGIN:STANDARD
TZOFFSETFROM:+0300
TZOFFSETTO:+0200
TZNAME:EET
DTSTART:20191027T010000
END:STANDARD
BEGIN:DAYLIGHT
TZOFFSETFROM:+0200
TZOFFSETTO:+0300
TZNAME:EEST
DTSTART:20200329T010000
END:DAYLIGHT
BEGIN:STANDARD
TZOFFSETFROM:+0300
TZOFFSETTO:+0200
TZNAME:EET
DTSTART:20201025T010000
END:STANDARD
BEGIN:DAYLIGHT
TZOFFSETFROM:+0200
TZOFFSETTO:+0300
TZNAME:EEST
DTSTART:20210328T010000
END:DAYLIGHT
BEGIN:STANDARD
TZOFFSETFROM:+0300
TZOFFSETTO:+0200
TZNAME:EET
DTSTART:20211031T010000
END:STANDARD
BEGIN:DAYLIGHT
TZOFFSETFROM:+0200
TZOFFSETTO:+0300
TZNAME:EEST
DTSTART:20220327T010000
END:DAYLIGHT
BEGIN:STANDARD
TZOFFSETFROM:+0300
TZOFFSETTO:+0200
TZNAME:EET
DTSTART:20221030T010000
END:STANDARD
BEGIN:DAYLIGHT
TZOFFSETFROM:+0200
TZOFFSETTO:+0300
TZNAME:EEST
DTSTART:20230326T010000
END:DAYLIGHT
BEGIN:STANDARD
TZOFFSETFROM:+0300
TZOFFSETTO:+0200
TZNAME:EET
DTSTART:20231029T010000
END:STANDARD
END:VTIMEZONE
BEGIN:VEVENT
DTSTART;VALUE=DATE:20250521
DTEND;VALUE=DATE:20250524
DTSTAMP:20260419T233848
CREATED:20250325T143232Z
LAST-MODIFIED:20250325T144044Z
UID:10003088-1747785600-1748044799@pbkik.hu
SUMMARY:AUTOPROMOTEC 2025
DESCRIPTION:A Promotec és a Unioncamere Emilia-Romagna az Enterprise Europe Networkkel együttműködve közvetítői eseményt szervez az AUTOPROMOTEC 2025 – Nemzetközi autóipari felszerelések és utángyártott termékek kiállítása (Bologna\, Olaszország\, 2025. május 21-24.) keretében.\nA közvetítői esemény jó lehetőséget kínál a nemzetközi üzleti és technológiai partnerségi megállapodások fellendítésére. \n  \nA közvetítői eseményen való részvétel egyedülálló lehetőséget kínál: \n\nüzleti és/vagy technológiai partnerség létrehozására\nminőségi partnerség kiépítésére\ntechnológiáit/projektötleteit/szolgáltatásait mutathatja be\ntalálkozzon az európai K+F projektek potenciális együttműködési partnereivel\nismerje meg az új technológiákat és megoldásokat\n\nRegisztráció: https://autopromotec-2025.b2match.io/ 
URL:https://pbkik.hu/esemeny/autopromotec-2025/
LOCATION:Bologna\, Olaszország
ATTACH;FMTTYPE=image/jpeg:https://pbkik.hu/wp-content/uploads/2025/03/autopromotec.jpg
END:VEVENT
BEGIN:VEVENT
DTSTART;VALUE=DATE:20240419
DTEND;VALUE=DATE:20240422
DTSTAMP:20260419T233848
CREATED:20240118T083431Z
LAST-MODIFIED:20240118T083650Z
UID:10002887-1713484800-1713743999@pbkik.hu
SUMMARY:Cosmofarma - Gyógyszeripari kiállítás
DESCRIPTION:A Cosmofarma Európa egyik vezető gyógyszeripari kiállítása\, amely több mint 400 kiállítóval\, 26 ezer résztvevővel\, valamint közel 100 szakmai előadással biztosít lehetőséget az iparág legújabb tendenciáinak és lehetőségeinek megismerésére\, illetve üzletfejlesztésre és kapcsolatépítésre. \nKiemelet szektorok: \n\nhagyományos és természetes gyógyászat\ntáplálékkiegészítők\nszépségápolás\ngyógyszertári szolgáltatások\n\nRészvételi díj: \nKiállítók számára: \n\nMinimum standméret 16 m2\, a stand díja 6.000 euró (berendezve)\nLehetőség van akár két cég számára is kiállítani\, ebben az esetben a minimum standméret 24 m2\, ára 6.200 euró; a társkiállító cég számára + 1.000 euró a regisztrációs díj\n\nLátogatók számára a belépő díja: 30 Euró/nap \n2023-as vásár résztvevői: https://eventi.senaf.it/preview-espositori.php?ide=1208 \nTovábbi információk: een@pbkik.hu
URL:https://pbkik.hu/esemeny/cosmofarma-gyogyszeripari-kiallitas/
LOCATION:Bologna\, Olaszország
ATTACH;FMTTYPE=image/png:https://pbkik.hu/wp-content/uploads/2024/01/cosmofarma.png
END:VEVENT
BEGIN:VEVENT
DTSTART;VALUE=DATE:20240417
DTEND;VALUE=DATE:20240420
DTSTAMP:20260419T233848
CREATED:20240118T083757Z
LAST-MODIFIED:20240118T084139Z
UID:10002888-1713312000-1713571199@pbkik.hu
SUMMARY:Exposanità - Az olasz egészségügyi szektor meghatározó rendezvénye
DESCRIPTION:A 23. alkalommal megrendezésre kerülő Exposanità\, az olasz egészségügyi szektor\, gazdasági szempontból egyik legfontosabb eseménye\, amelyen az ágazat összes meghatározó szereplője – gyártók\, beszállítók\, egészségügyi intézmények\, kutatók\, stb. – képviselteti magát. A kiállítás lehetőséget teremt a helyi viszonyok\, tendenciák\, szabályozások és fő szereplők megismerésére\, valamint innovatív kutatási eredmények/termékek/szolgáltatások bemutatására. Így komoly kiugrási pontot jelenthet azon magyar egészségügyi szereplők számára\, amelyek célul tűzték ki az olasz piacra való belépést. \nKiemelt szektorok: \n\nkórházi technológiák és termékek\nortopéd és rehabilitációs termékeke és szolgáltatások\ndiagnosztikai berendezések\negészségügyi informatika és telemedicina\nidősgondozási megoldások\, termékek\, szolgáltatások\n\nRészvételi díj: \nAz eseményen először kiállító cégeknek\, 3 650 euró fejében lehetőségük van igénybe venni a „Formula Start” csomagot\, amely egy 8 m2-es alapterületű kompletten berendezett standot jelent. \nTovábbi információk: een@pbkik.hu
URL:https://pbkik.hu/esemeny/exposanita-az-olasz-egeszsegugyi-szektor-meghatarozo-rendezvenye/
LOCATION:Bologna\, Olaszország
ATTACH;FMTTYPE=image/png:https://pbkik.hu/wp-content/uploads/2024/01/expo.png
END:VEVENT
BEGIN:VEVENT
DTSTART;VALUE=DATE:20240306
DTEND;VALUE=DATE:20240309
DTSTAMP:20260419T233848
CREATED:20240118T082743Z
LAST-MODIFIED:20240205T085621Z
UID:10002885-1709683200-1709942399@pbkik.hu
SUMMARY:MECSPE - Nemzetközi feldolgozóipari szakkiállítás
DESCRIPTION:A 22. alkalommal megrendezésre kerülő MECSPE\, Európa egyik legjelentősebb innovatív gép-szerszámipari kiállítása. Az esemény fő témái a képzés\, a digitalizáció\, valamint a fenntarthatóság\, amelyen különböző iparági aspektusait 13 különböző pavilonban ismerhetik majd meg a látogatók. \nEddig regisztrált kiállítók: https://www.mecspe.com/it/anteprima-espositori-2023/ \nKöltségek \n\nLátogatói belépő ingyenes\, pusztán előzetes regisztráció szükséges\nKiállítói díj: kb. 200 euró (részletek egyéni igények alapján kerülnek megállapításra)\n\nTovábbi információk: een@pbkik.hu
URL:https://pbkik.hu/esemeny/mecspe-nemzetkozi-feldolgozoipari-szakkiallitas/
LOCATION:Bologna\, Olaszország
ATTACH;FMTTYPE=image/png:https://pbkik.hu/wp-content/uploads/2024/01/mecspe.png
END:VEVENT
BEGIN:VEVENT
DTSTART;VALUE=DATE:20231011
DTEND;VALUE=DATE:20231014
DTSTAMP:20260419T233848
CREATED:20230704T115555Z
LAST-MODIFIED:20230704T115829Z
UID:10002813-1696982400-1697241599@pbkik.hu
SUMMARY:DronItaly - polgári és professzionális használatra szánt drónok rendezvénye
DESCRIPTION:A polgári és professzionális használatra szánt drónokhoz kapcsolódó esemény bemutatja az ágazat fejlesztéseit\, innovációt\, valamint az aktuális szabályozási kérdéseket. A Dronitaly esemény lehetőséget nyújt az ágazatban működő vállalatok\, egyesületek és szakmai szervek találkozására\, az aktuális témák megvitatására\, valamint B2B és workshopok szervezésére. \nRészvételi díj: \n\nKiállítóként:\n\n16 m²-es két cég számára megfelelő stand: 500 € + áfa\n\n\nLátogatóként: előzetes regisztrációt követően ingyenes\n\nAmennyiben a lehetőség felkeltette érdeklődésüket\, kérjük\, hogy további részletek\, valamint a részvétel megvalósítása kapcsán vegyék fel a kapcsolatot az alábbi elérhetőségek bármelyikén: \n\ntelefon: 0039 379 278 4523 (Paschek Dániel külgazdasági attasé)\ne-mail: mil@mfa.gov.hu\, daniel.paschek@mfa.gov.hu\n\nTovábbi információ
URL:https://pbkik.hu/esemeny/dronitaly-polgari-es-professzionalis-hasznalatra-szant-dronok-rendezvenye/
LOCATION:Bologna\, Olaszország
END:VEVENT
BEGIN:VEVENT
DTSTART;TZID=Europe/Helsinki:20220513T080000
DTEND;TZID=Europe/Helsinki:20220515T170000
DTSTAMP:20260419T233848
CREATED:20220309T093104Z
LAST-MODIFIED:20220309T093950Z
UID:10002632-1652428800-1652634000@pbkik.hu
SUMMARY:Cosmofarma - gyógyszerészeti szakkiállítás
DESCRIPTION:A Cosmofarma Európa egyik vezető gyógyszerészeti kiállítása\, ami több mint 400 kiállítóval több ezer résztvevővel\, valamint 80 szakmai előadással biztosít lehetőséget az iparág legújabb tendenciáinak\, szabályozásainak\, valamint lehetőségeinek megismerésére\, üzletfejlesztésre\, illetve kapcsolatépítésre. \nIdőpont: 2022. május 13-15. \nHelyszín: Bologna\, Olaszország \nKiemelt szektorok: \n\nhagyományos és természetes gyógyászat\ntáplálékkiegészítők\nszépségápolás\ngyógyszertári szolgáltatások\n\nRészvételi díj: \n\nKiállítók számára:\n\n\n\n\nStand mérete\nÁr (berendezve)\n\n\n9 m²\n4 200 euró\n\n\n12 m²\n5 100 euró\n\n\n16m²\n6 200 euró\n\n\n\n\nLátogatók számára: 30 Euró + áfa / nap\n\nAmennyiben a lehetőség felkeltette érdeklődésüket az alábbi elérhetőségeken kaphatnak további információt: \n\ntelefon: 0039 02-4984731 (Dániel Paschek külgazdasági attasé)\ne-mail: trade.mil@mfa.gov.hu\, daniel.paschek@mfa.gov.hu\n\nTovábbi információ: www.cosmofarma.com \n 
URL:https://pbkik.hu/esemeny/cosmofarma-gyogyszereszeti-szakkiallitas/
LOCATION:Bologna\, Olaszország
END:VEVENT
BEGIN:VEVENT
DTSTART;VALUE=DATE:20190606
DTEND;VALUE=DATE:20190608
DTSTAMP:20260419T233848
CREATED:20190404T112254Z
LAST-MODIFIED:20190919T132559Z
UID:10001715-1559779200-1559951999@pbkik.hu
SUMMARY:Nemzetközi üzletember-találkozók Bolognában
DESCRIPTION:Az esemény az R2B – Research to Business 2019. égisze alatt\, az  ipari kutatások és innovációs kompetenciák nemzetközi kiállításának 14. kiadásának keretében zajlik. Az R2B 2019. célja\, hogy új üzleti lehetőségeket teremtsen a kutatási és üzleti rendszerek között. \n \nTémák: \n\nAgrofood\nÉpítőipar: tervezés és kivitelezés\nEnergia és fenntartható fejlődés\nKulturális és kreatív iparágak\nÉlettudományok és jólét\nSzolgáltatás Innováció és Big Data\n\nMechatronika és közlekedés\n\n  \n\n\n\nDátum\nIdőpont\nSzekció\n\n\n2019. június 5.\n13:30-tól\nRegisztráció\n\n\n14:20 – 16:00\nCluster2Cluster | Workshop\n\n\n16:00 – 18:30\nCluster2Cluster | Special Meetings\n\n\n2019. június 6.\n10:00-tól\nRegisztráció\n\n\n14:00 – 17:30\nB2B Meetings|  1\n\n\n2019. június 7.\nFrom 9:00 on\nRegisztráció\n\n\n10:00 – 13:30\nB2B Meetings | 2\n\n\n13:30 – 17:30\nB2B Meetings | 3\n\n\n\n  \nTovábbi információ az esemény hivatalos honlapján.
URL:https://pbkik.hu/esemeny/nemzetkozi-uzletember-talalkozok-bolognaban/
LOCATION:Bologna\, Olaszország
END:VEVENT
BEGIN:VEVENT
DTSTART;VALUE=DATE:20190522
DTEND;VALUE=DATE:20190527
DTSTAMP:20260419T233848
CREATED:20190121T123937Z
LAST-MODIFIED:20190919T132433Z
UID:10001621-1558483200-1558915199@pbkik.hu
SUMMARY:Autóipari berendezések nemzetközi kiállítása és B2B-k Bolognában
DESCRIPTION:Az AUTOPROMOTEC az autóipar világméretű bemutatója\, amely számos területen vonzza a legmagasabb színvonalú kiállítókat és az összes autóiparhoz kapcsolódó szolgáltatót.\n \n \nA rendezvény időpontja: 2019. május 22-26. \n  \nA képviselt ágazatok: \n• Autójavító műhelyek\, járműjavító műhelyek\, gépjármű villanyszerelők\, gumiabroncs-kiskereskedők\, autókereskedők\, benzinkutak\, autómosók és speciális közlekedési eszközök javítási központjai\, \n• Gépek\, berendezések és anyagok gumiabroncs-szakemberek számára\, \n• A gumiabroncsok értékesítésére és javítására szolgáló berendezések\, anyagok és termékek\, \n• Gépek és berendezések motorjavításhoz\, \n• Alkatrészek\, \n• Autószerviz. \n  \nAzon cégeknek\, akik Olaszországból technológiát\, eszközt\, alkatrészt terveznek vásárolni lehetőségük adódik pályázni ingyenes részvételre\, mely fedezi a : \n1) Szállást 3 éjszakára\,\n2) Belépőjegyet a kiállításra\,\n3) Ingyenes transzfert a szálloda és a vásár között\,\n4) Ebédet a találkozók alatt\,\n5) Gálavacsorát. \n  \nBővebb információ a https://www.autopromotec.com/en/ honlapon érhető el. \n  \nAz AUTOPROMOTEC angol nyelvű leírása.
URL:https://pbkik.hu/esemeny/autoipari-berendezesek-nemzetkozi-kiallitasa-es-b2b-k-bolognaban/
LOCATION:Bologna\, Olaszország
END:VEVENT
END:VCALENDAR