BEGIN:VCALENDAR
VERSION:2.0
PRODID:-//Pécs-Baranyai Kereskedelmi és Iparkamara - ECPv6.15.20//NONSGML v1.0//EN
CALSCALE:GREGORIAN
METHOD:PUBLISH
X-ORIGINAL-URL:https://pbkik.hu
X-WR-CALDESC:Események Pécs-Baranyai Kereskedelmi és Iparkamara
REFRESH-INTERVAL;VALUE=DURATION:PT1H
X-Robots-Tag:noindex
X-PUBLISHED-TTL:PT1H
BEGIN:VTIMEZONE
TZID:Europe/Budapest
BEGIN:DAYLIGHT
TZOFFSETFROM:+0100
TZOFFSETTO:+0200
TZNAME:CEST
DTSTART:20220327T010000
END:DAYLIGHT
BEGIN:STANDARD
TZOFFSETFROM:+0200
TZOFFSETTO:+0100
TZNAME:CET
DTSTART:20221030T010000
END:STANDARD
BEGIN:DAYLIGHT
TZOFFSETFROM:+0100
TZOFFSETTO:+0200
TZNAME:CEST
DTSTART:20230326T010000
END:DAYLIGHT
BEGIN:STANDARD
TZOFFSETFROM:+0200
TZOFFSETTO:+0100
TZNAME:CET
DTSTART:20231029T010000
END:STANDARD
BEGIN:DAYLIGHT
TZOFFSETFROM:+0100
TZOFFSETTO:+0200
TZNAME:CEST
DTSTART:20240331T010000
END:DAYLIGHT
BEGIN:STANDARD
TZOFFSETFROM:+0200
TZOFFSETTO:+0100
TZNAME:CET
DTSTART:20241027T010000
END:STANDARD
END:VTIMEZONE
BEGIN:VEVENT
DTSTART;VALUE=DATE:20231011
DTEND;VALUE=DATE:20231014
DTSTAMP:20260419T161148
CREATED:20230705T085549Z
LAST-MODIFIED:20230705T090644Z
UID:10002819-1696982400-1697241599@pbkik.hu
SUMMARY:H2O - nemzetközi vízügyi szakkiállítás
DESCRIPTION:A H2O több mint 30 éve az olasz és nemzetközi vízipar egyik fontos eseménye. A kétévente megrendezésre kerülő nemzetközi vízügyi kiállítás lehetővé teszi az intézmények\, egyesületek és cégek közötti kapcsolatok és partnerségek kialakítását és erősítését\, az esemény fontos találkozási pont az ágazatban. Az idei kiállítás főbb témái többek között a víz kinyerése\, a csatornázás\, víztárolás\, öntözés\, valamint mindezen folyamatok automatizálása. \nRészvételi díj: \n\nKiállítóként: 16 m²-es két cég számára megfelelő stand: 2.500 € + áfa\nLátogatóként: előzetes regisztrációt követően ingyenes\n\nAmennyiben a lehetőség felkeltette érdeklődésüket\, kérjük\, hogy további részletek\, valamint a részvétel megvalósítása kapcsán vegyék fel a kapcsolatot a milánói főkonzulátussal az alábbi elérhetőségek bármelyikén: \n\ntelefon: 00 39 379 278 4523 (Paschek Dániel külgazdasági attasé)\n\ne-mail: trade.mil@mfa.gov.hu\, daniel.paschek@mfa.gov.hu \nTovábbi információ: www.accadueo.com
URL:https://pbkik.hu/esemeny/h2o-nemzetkozi-vizugyi-szakkiallitas/
LOCATION:BolognaFiere\, Viale della Fiera 20\, Bologna\, 40127\, Olaszország
ATTACH;FMTTYPE=image/png:https://pbkik.hu/wp-content/uploads/2023/07/accadueo2.png
END:VEVENT
END:VCALENDAR