BEGIN:VCALENDAR
VERSION:2.0
PRODID:-//Pécs-Baranyai Kereskedelmi és Iparkamara - ECPv6.15.20//NONSGML v1.0//EN
CALSCALE:GREGORIAN
METHOD:PUBLISH
X-WR-CALNAME:Pécs-Baranyai Kereskedelmi és Iparkamara
X-ORIGINAL-URL:https://pbkik.hu
X-WR-CALDESC:Események Pécs-Baranyai Kereskedelmi és Iparkamara
REFRESH-INTERVAL;VALUE=DURATION:PT1H
X-Robots-Tag:noindex
X-PUBLISHED-TTL:PT1H
BEGIN:VTIMEZONE
TZID:Europe/Budapest
BEGIN:DAYLIGHT
TZOFFSETFROM:+0100
TZOFFSETTO:+0200
TZNAME:CEST
DTSTART:20230326T010000
END:DAYLIGHT
BEGIN:STANDARD
TZOFFSETFROM:+0200
TZOFFSETTO:+0100
TZNAME:CET
DTSTART:20231029T010000
END:STANDARD
BEGIN:DAYLIGHT
TZOFFSETFROM:+0100
TZOFFSETTO:+0200
TZNAME:CEST
DTSTART:20240331T010000
END:DAYLIGHT
BEGIN:STANDARD
TZOFFSETFROM:+0200
TZOFFSETTO:+0100
TZNAME:CET
DTSTART:20241027T010000
END:STANDARD
BEGIN:DAYLIGHT
TZOFFSETFROM:+0100
TZOFFSETTO:+0200
TZNAME:CEST
DTSTART:20250330T010000
END:DAYLIGHT
BEGIN:STANDARD
TZOFFSETFROM:+0200
TZOFFSETTO:+0100
TZNAME:CET
DTSTART:20251026T010000
END:STANDARD
END:VTIMEZONE
BEGIN:VEVENT
DTSTART;TZID=Europe/Budapest:20240829T090000
DTEND;TZID=Europe/Budapest:20240829T120000
DTSTAMP:20260419T200139
CREATED:20240710T094021Z
LAST-MODIFIED:20240710T094021Z
UID:10002970-1724922000-1724932800@pbkik.hu
SUMMARY:Honnan és hogyan szerezzünk tőkét üzleti céljaink megvalósításához? - képzés
DESCRIPTION:Képzés ideje: 2024.08.29.\, 09:00 – 12:10\nHelyszín: EIT Digital Budapest CLC\, 1117 Budapest\, Bogdánfy u. 10a\nElőadó: Málnay Barnabás\nKépzés formája: hibrid\nMinimum létszám: 4\nA képzőhely felnőttképzési tevékenységének engedélyszáma: E/2021/000005 \nLeírás: \n„A dinamikus növekedés külső finanszírozással egyszerűbb. De a Te cégednek\, startupodnak erre van szüksége? Jól jönne iránymutatás a kockázati tőke – angyal tőke – token kibocsátás – közösségi finanszírozás – mikrohitel lehetőségek tengerében? Melyik a számodra legmegfelelőbb mód? Hogyan készülhetsz fel rá és mire számíthatsz? Ebben segít ez a tréning. \nKépzés célja: \nHogy tisztában legyenek a kurzuson részt vevők a vállalkozások és innovációs projektek finanszírozási lehetőségeivel\, és különösképpen a kockázati tőke különböző formáival és sajátos logikájával.  \nTartalom: \nA dinamikus növekedéshez mindig jól jön\, sőt gyakran elengedhetetlen a külső finanszírozás. De milyen forrásai\, fajtái léteznek a külső finanszírozásnak\, és milyen esetben melyiket érdemes megcélozni? A kurzus szemelvényezi a különböző finanszírozási formákat a bankhiteltől a pályázati forrásokon és közösségi finanszírozáson át a kockázati tőkebevonásig\, az utóbbira koncentrálva az idő jelentős részében. A kockázati tőke logikájának bemutatása után a tőkebevonás folyamatával és sajátosságaival is megismerteti a résztvevőket\, illetve a kockázati tőkésekkel való megegyezést formába öntő ún. „term sheet”-ek legfontosabb elemeivel\, és praktikus tanácsokat ad a tőkebevonáshoz való felkészüléshez.  \nA képzés díja*: 0 Ft\nA képzés piaci értéke (per fő): 60.000 Ft\nA DigitalTech EDIH által biztosított kedvezmény mértéke: 100%\, melyből az átadott hazai állami támogatás (De Minimis) mértéke: 50%\n \nInformáció:\n*A képzés kis és közép vállalkozások számára térítésmentes\, nem jár pénzügyi tranzakcióval\, amennyiben a vállalkozás rendelkezik a képzés igénybevételéhez szükséges mértékű még fel nem használt De Minimis kerettel\, melyről a regisztráció során nyilatkozik. Tudj meg többet a De Minimis keretről és annak felhasználásáról ezen a linken.\nA képzés közintézmények részére teljesen ingyenes. \nA képzés szervezője fenntartja a jogot a képzés elhalasztására\, amennyiben a képzésre jelentkezők létszáma nem haladja meg a megjelölt minimum létszámot. Továbbá a jogot arra\, hogy a képzés leírásában olvasható bárminemű információt módosítson. \nAz általános szerződési feltételekről további információk ezen a linken érhetők el. \nA képzésekre való jelentkezés előfeltétele a felhasználói fiókregisztráció.\nTovábbi információ
URL:https://pbkik.hu/esemeny/honnan-es-hogyan-szerezzunk-toket-uzleti-celjaink-megvalositasahoz-kepzes/
LOCATION:EIT Digital Budapest CLC\, Bogdánfy u. 10a\, Budapest\, Pest vármegye\, 1117\, Magyarország
ATTACH;FMTTYPE=image/jpeg:https://pbkik.hu/wp-content/uploads/2024/07/uzletfejl.jpg
END:VEVENT
BEGIN:VEVENT
DTSTART;TZID=Europe/Budapest:20240723T090000
DTEND;TZID=Europe/Budapest:20240723T120000
DTSTAMP:20260419T200139
CREATED:20240710T084424Z
LAST-MODIFIED:20240710T084424Z
UID:10002968-1721725200-1721736000@pbkik.hu
SUMMARY:Mitől jó egy üzleti ötlet? Ötletelési technikák a Design Thinking-től az epifániához vezető négy lépésig
DESCRIPTION:Képzés ideje: 2024.07.23. Kedd 09:00 – 12:10\nHelyszín: EIT Digital Budapest CLC\, 1117 Budapest\, Bogdánfy u. 10a\nElőadó: Málnay Barnabás – üzletfejlesztési vezető\, ELTE IK\nKépzés formája: személyes\nMinimum létszám: 4\nA képzőhely felnőttképzési tevékenységének engedélyszáma: E/2021/000005 \nKépzés célja: \nHogy megismertesse a résztvevőket az üzleti életben használatos ötletelési technikákkal\, és végigvezesse a résztvevőket az egyik leggyakrabban használt módszertanon\, a „Design Thinking”-ként ismert megközelítésen. A képzést elvégzők képesek lesznek szisztematikusan megtalálni a lehető leggyorsabb utat a megalapozott döntéshez\, hogy érdemes-e időt és energiát szánni egy adott üzleti ötlet megvalósítására. \nTartalom: \nA workshop ötvözi az elméleti képzést a gyakorlati készségfejlesztéssel. Rövid elméleti bevezetéssel és az abban átadott tudás elmélyítését szolgáló gyakorlatokkal kezdődik\, amit a Design Thinking módszertan vázlatos\, ám metodikus alkalmazása követ a résztvevők által hozott (és előzetesen elküldött) egy vagy két konkrét üzlet-\, illetve termékfejlesztési kihívásra. A cél\, hogy egyrészt gyakorlatra és kompetenciára tegyenek szert a résztvevők az ötletelés és probléma megoldás egyik leggyakrabban használt módszertanának alkalmazásában\, másrészt elkezdjenek megoldani egy (vagy két) valódi üzleti problémát a módszertan által javasolt lépések egymásutánjában. A workshop utolsó fél órájában a Design Thinking alternatíváiról lesz szó\, köztük a Lean ügyfélfejlesztés elméletén és gyakorlatán vezeti végig vázlatosan a képzésvezető a hallgatóságot. \nHabár a félnapos workhoptól nem várható el\, hogy önmagában egy teljeskörű és kidolgozott megoldást adjon egy(-egy) valódi üzleti problémára\, arra hasznos lehet\, hogy „irányba állítsa” a probléma megoldásán dolgozó csapattagokat\, továbbgondolásra érdemes új perspektívákat tárjon fel előttük\, és a kezükbe adjon egy bevált\, máskor is használható módszertant. \nA képzés díja*: 0 Ft\nA képzés piaci értéke (per fő): 60.000 Ft\nA DigitalTech EDIH által biztosított kedvezmény mértéke: 100%\, melyből az átadott hazai állami támogatás (De Minimis) mértéke: 50%\n \nInformáció:\n*A képzés kis és közép vállalkozások számára térítésmentes\, nem jár pénzügyi tranzakcióval\, amennyiben a vállalkozás rendelkezik a képzés igénybevételéhez szükséges mértékű még fel nem használt De Minimis kerettel\, melyről a regisztráció során nyilatkozik. Tudj meg többet a De Minimis keretről és annak felhasználásáról ezen a linken.\nA képzés közintézmények részére teljesen ingyenes. \nA képzés szervezője fenntartja a jogot a képzés elhalasztására\, amennyiben a képzésre jelentkezők létszáma nem haladja meg a megjelölt minimum létszámot. Továbbá a jogot arra\, hogy a képzés leírásában olvasható bárminemű információt módosítson. \nAz általános szerződési feltételekről további információk ezen a linken érhetők el. \nA képzésekre való jelentkezés előfeltétele a felhasználói fiókregisztráció.\nTovábbi információ
URL:https://pbkik.hu/esemeny/mitol-jo-egy-uzleti-otlet-otletelesi-technikak-a-design-thinking-tol-az-epifaniahoz-vezeto-negy-lepesig/
LOCATION:EIT Digital Budapest CLC\, Bogdánfy u. 10a\, Budapest\, Pest vármegye\, 1117\, Magyarország
ATTACH;FMTTYPE=image/jpeg:https://pbkik.hu/wp-content/uploads/2024/07/uzletfejlesztes.jpg
END:VEVENT
BEGIN:VEVENT
DTSTART;TZID=Europe/Budapest:20240719T100000
DTEND;TZID=Europe/Budapest:20240719T150000
DTSTAMP:20260419T200139
CREATED:20240710T083241Z
LAST-MODIFIED:20240710T083241Z
UID:10002966-1721383200-1721401200@pbkik.hu
SUMMARY:A kiberbiztonság jogi szabályozása\, vonatkozó szabványok és irányelvek - képzés
DESCRIPTION:Képzés ideje: 2024.07.19.\, péntek\, 10:00 – 15:00\nHelyszín: EIT Digital Budapest CLC\, 1117 Budapest\, Bogdánfy u. 10a\nElőadó: Bencsik András\nKépzés formája: hibrid\nMinimum létszám: 4\nA képzőhely felnőttképzési tevékenységének engedélyszáma: E/2021/000005 \nA képzés célja:\nA tréning célja áttekinteni a nemzetközi és hazai\, kiberbiztonsággal kapcsolatos irányelveket\, szabályozásokat és törvényeket\, pl. az EU NIS2 irányelve\, a megyer információbiztonsági törvény\, illetve az EU adatvédelmi rendelete (GDPR). A fentiek mellett a tréning során bemutatjuk a legfontosabb kiberbiztonsági szabványokat (pl. az ISO 27000 szabvány soroyat) és az ENISA legjobb gyakorlatokat összefoglaló ajánlásait \nTartalom:\n\nBevezető a kiberbiztonság jogi szabályozásába\nA EU NIS1 és NIS2 irányelve\nÁltalános adatvédelmi rendelet (GDPR)\nMagyarország kiberbiztonsági jogi kerete\nISO27000 szabvány-család\nAz ENISA ajánlásai és programja\n\nA képzés díja*: 0 Ft\nA képzés piaci értéke (per fő): 80.000 Ft\nA DigitalTech EDIH által biztosított kedvezmény mértéke: 100%\, melyből az átadott hazai állami támogatás (De Minimis) mértéke: 50%\n \nInformáció:\n*A képzés kis és közép vállalkozások számára térítésmentes\, nem jár pénzügyi tranzakcióval\, amennyiben a vállalkozás rendelkezik a képzés igénybevételéhez szükséges mértékű még fel nem használt De Minimis kerettel\, melyről a regisztráció során nyilatkozik. Tudj meg többet a De Minimis keretről és annak felhasználásáról ezen a linken.\nA képzés közintézmények részére teljesen ingyenes. \nA képzés szervezője fenntartja a jogot a képzés elhalasztására\, amennyiben a képzésre jelentkezők létszáma nem haladja meg a megjelölt minimum létszámot. Továbbá a jogot arra\, hogy a képzés leírásában olvasható bárminemű információt módosítson. \nAz általános szerződési feltételekről további információk ezen a linken érhetők el. \nA képzésekre való jelentkezés előfeltétele a felhasználói fiókregisztráció.\nAmennyiben már rendelkezel felhasználói fiókkal\, jelentkezz be ezen az oldalon. A felhasználói fiókregisztrációhoz kattints ide. \nTovábbi információ
URL:https://pbkik.hu/esemeny/a-kiberbiztonsag-jogi-szabalyozasa-vonatkozo-szabvanyok-es-iranyelvek-kepzes/
LOCATION:EIT Digital Budapest CLC\, Bogdánfy u. 10a\, Budapest\, Pest vármegye\, 1117\, Magyarország
ATTACH;FMTTYPE=image/jpeg:https://pbkik.hu/wp-content/uploads/2024/07/kiberbizt.jpg
END:VEVENT
BEGIN:VEVENT
DTSTART;TZID=Europe/Budapest:20240718T090000
DTEND;TZID=Europe/Budapest:20240718T160000
DTSTAMP:20260419T200139
CREATED:20240710T093600Z
LAST-MODIFIED:20240710T093600Z
UID:10002969-1721293200-1721318400@pbkik.hu
SUMMARY:Pénzügyi folyamatok digitalizálása\, Blokklánc technológia és vállalati folyamatok\, munkafolyamatok integrálása - képzés
DESCRIPTION:Képzés ideje: 2024.07.18.\, 09:00 – 16:00\nHelyszín: EIT Digital Budapest CLC\, 1117 Budapest\, Bogdánfy u. 10a\nElőadók: Dr. Molnár Bálint\, egyetemi docens\nKépzés formája: hibrid\nMinimum létszám: 6\nA képzőhely felnőttképzési tevékenységének engedélyszáma: E/2021/000005 \nTartalom:\n\n fókuszcsoport: a készpénzes fizetés alternatíváit fontolgató kereskedők (NAV pénztárgépekkel és jogos számlakibocsátással felszerelt fizetési/átvételi pontok). \n\n\nkülönféle fizetési megoldások; érvek és ellenérvek; \nüzleti szempontok (vevőkör stb.); \nműszaki szempontok (működés\, biztonság stb.) \na fizetési megoldások pénzügyi és egyéb követelményei; \ndemo beszerzési projekt. \n\n\n fókuszcsoport: fizetési megoldások szolgáltatói kereskedőknek: beleértve (1) kártyakibocsátókat\, (2) tranzakciók feldolgozóit\, (3) online bolt webfejlesztőit\, webtárhely és egyéb informatikai szolgáltatókat. \n\n\na fizetési megoldások áttekintése világszerte; \nüzleti és technológiai szempontok\, főbb funkcionális és nem funkcionális követelmények áttekintése. \n\n\n fókuszcsoport: pénzügy/számvitel. \n\n\nüzleti folyamatok és műszaki megoldások (tranzakciók\, elszámolások stb.) áttekintése; \nfizetési megoldások kezelése/ellenőrzése; \nszabályozási és biztonsági szempontok\, csalásmegelőzés; \náttekintés a kriptovalutákról. \n\nA képzés díja*: 0 Ft\nA képzés piaci értéke (per fő): 72.000 Ft\nA DigitalTech EDIH által biztosított kedvezmény mértéke: 100%\, melyből az átadott hazai állami támogatás (De Minimis) mértéke: 50%\n \nInformáció:\n*A képzés kis és közép vállalkozások számára térítésmentes\, nem jár pénzügyi tranzakcióval\, amennyiben a vállalkozás rendelkezik a képzés igénybevételéhez szükséges mértékű még fel nem használt De Minimis kerettel\, melyről a regisztráció során nyilatkozik. Tudj meg többet a De Minimis keretről és annak felhasználásáról ezen a linken.\nA képzés közintézmények részére teljesen ingyenes. \nA képzés szervezője fenntartja a jogot a képzés elhalasztására\, amennyiben a képzésre jelentkezők létszáma nem haladja meg a megjelölt minimum létszámot. Továbbá a jogot arra\, hogy a képzés leírásában olvasható bárminemű információt módosítson. \nAz általános szerződési feltételekről további információk ezen a linken érhetők el. \nA képzésekre való jelentkezés előfeltétele a felhasználói fiókregisztráció.\nTovábbi információ
URL:https://pbkik.hu/esemeny/penzugyi-folyamatok-digitalizalasa-blokklanc-technologia-es-vallalati-folyamatok-munkafolyamatok-integralasa-kepzes/
LOCATION:EIT Digital Budapest CLC\, Bogdánfy u. 10a\, Budapest\, Pest vármegye\, 1117\, Magyarország
ATTACH;FMTTYPE=image/jpeg:https://pbkik.hu/wp-content/uploads/2024/07/fintechh.jpg
END:VEVENT
BEGIN:VEVENT
DTSTART;TZID=Europe/Budapest:20240716T100000
DTEND;TZID=Europe/Budapest:20240716T170000
DTSTAMP:20260419T200139
CREATED:20240710T083800Z
LAST-MODIFIED:20240710T083800Z
UID:10002967-1721124000-1721149200@pbkik.hu
SUMMARY:Adatelemzés a pénzügyekben\, trendek\, előrejelzés - képzés
DESCRIPTION:Képzés ideje: 2024.07.16.\, 10:00 – 17:00\nHelyszín: EIT Digital Budapest CLC\, 1117 Budapest\, Bogdánfy u. 10a\nElőadók: Erdélyi Katalin\nKépzés formája: személyes\nMinimum létszám: 4\nA képzőhely felnőttképzési tevékenységének engedélyszáma: E/2021/000005 \nA képzés célja:\nA tanfolyam célja a pénzügyi adatelemzés bemutatása valós felhasználási eseteken keresztül\, kezdve az adattudomány\, az adatelemzés\, az üzleti intelligencia és a mesterséges intelligencia\, a gépi tanulás gyakorlati áttekintésével. A résztvevők megismerik és megértik a pénzügyi idősorelemzés\, az algoritmikus kereskedés\, a prediktív analitika\, a pénzügyi döntéshozatalt támogató előrejelzés és a csalásfelfedezés alapjait. A workshop elvégzése után a résztvevők képesek lesznek pénzügyi adatelemzési és mesterséges intelligencia projektek definiálására és megtervezésére.  \nA képzés díja*: 0 Ft\nA képzés piaci értéke (per fő): 72.000 Ft\nA DigitalTech EDIH által biztosított kedvezmény mértéke: 100%\, melyből az átadott hazai állami támogatás (De Minimis) mértéke: 50%\n \nInformáció:\n*A képzés kis és közép vállalkozások számára térítésmentes\, nem jár pénzügyi tranzakcióval\, amennyiben a vállalkozás rendelkezik a képzés igénybevételéhez szükséges mértékű még fel nem használt De Minimis kerettel\, melyről a regisztráció során nyilatkozik. Tudj meg többet a De Minimis keretről és annak felhasználásáról ezen a linken.\nA képzés közintézmények részére teljesen ingyenes. \nA képzés szervezője fenntartja a jogot a képzés elhalasztására\, amennyiben a képzésre jelentkezők létszáma nem haladja meg a megjelölt minimum létszámot. Továbbá a jogot arra\, hogy a képzés leírásában olvasható bárminemű információt módosítson. \nAz általános szerződési feltételekről további információk ezen a linken érhetők el. \nA képzésekre való jelentkezés előfeltétele a felhasználói fiókregisztráció.\nTovábbi információ
URL:https://pbkik.hu/esemeny/adatelemzes-a-penzugyekben-trendek-elorejelzes-kepzes/
LOCATION:EIT Digital Budapest CLC\, Bogdánfy u. 10a\, Budapest\, Pest vármegye\, 1117\, Magyarország
ATTACH;FMTTYPE=image/jpeg:https://pbkik.hu/wp-content/uploads/2024/07/fintech.jpg
END:VEVENT
END:VCALENDAR