BEGIN:VCALENDAR
VERSION:2.0
PRODID:-//Pécs-Baranyai Kereskedelmi és Iparkamara - ECPv6.15.20//NONSGML v1.0//EN
CALSCALE:GREGORIAN
METHOD:PUBLISH
X-WR-CALNAME:Pécs-Baranyai Kereskedelmi és Iparkamara
X-ORIGINAL-URL:https://pbkik.hu
X-WR-CALDESC:Események Pécs-Baranyai Kereskedelmi és Iparkamara
REFRESH-INTERVAL;VALUE=DURATION:PT1H
X-Robots-Tag:noindex
X-PUBLISHED-TTL:PT1H
BEGIN:VTIMEZONE
TZID:Europe/Budapest
BEGIN:DAYLIGHT
TZOFFSETFROM:+0100
TZOFFSETTO:+0200
TZNAME:CEST
DTSTART:20220327T010000
END:DAYLIGHT
BEGIN:STANDARD
TZOFFSETFROM:+0200
TZOFFSETTO:+0100
TZNAME:CET
DTSTART:20221030T010000
END:STANDARD
BEGIN:DAYLIGHT
TZOFFSETFROM:+0100
TZOFFSETTO:+0200
TZNAME:CEST
DTSTART:20230326T010000
END:DAYLIGHT
BEGIN:STANDARD
TZOFFSETFROM:+0200
TZOFFSETTO:+0100
TZNAME:CET
DTSTART:20231029T010000
END:STANDARD
BEGIN:DAYLIGHT
TZOFFSETFROM:+0100
TZOFFSETTO:+0200
TZNAME:CEST
DTSTART:20240331T010000
END:DAYLIGHT
BEGIN:STANDARD
TZOFFSETFROM:+0200
TZOFFSETTO:+0100
TZNAME:CET
DTSTART:20241027T010000
END:STANDARD
END:VTIMEZONE
BEGIN:VTIMEZONE
TZID:Europe/Helsinki
BEGIN:DAYLIGHT
TZOFFSETFROM:+0200
TZOFFSETTO:+0300
TZNAME:EEST
DTSTART:20180325T010000
END:DAYLIGHT
BEGIN:STANDARD
TZOFFSETFROM:+0300
TZOFFSETTO:+0200
TZNAME:EET
DTSTART:20181028T010000
END:STANDARD
BEGIN:DAYLIGHT
TZOFFSETFROM:+0200
TZOFFSETTO:+0300
TZNAME:EEST
DTSTART:20190331T010000
END:DAYLIGHT
BEGIN:STANDARD
TZOFFSETFROM:+0300
TZOFFSETTO:+0200
TZNAME:EET
DTSTART:20191027T010000
END:STANDARD
BEGIN:DAYLIGHT
TZOFFSETFROM:+0200
TZOFFSETTO:+0300
TZNAME:EEST
DTSTART:20200329T010000
END:DAYLIGHT
BEGIN:STANDARD
TZOFFSETFROM:+0300
TZOFFSETTO:+0200
TZNAME:EET
DTSTART:20201025T010000
END:STANDARD
END:VTIMEZONE
BEGIN:VEVENT
DTSTART;TZID=Europe/Budapest:20231130T090000
DTEND;TZID=Europe/Budapest:20231130T150000
DTSTAMP:20260420T115457
CREATED:20231107T093719Z
LAST-MODIFIED:20231107T094406Z
UID:10002403-1701334800-1701356400@pbkik.hu
SUMMARY:Kamarai Beszállítói Fórum - Heves Vármegyei Kereskedelmi és Iparkamara
DESCRIPTION:A Heves Vármegyei Kereskedelmi és Iparkamara idén ősszel is megrendezi a Kamarai Beszállítói Fórumot. Regisztráljon Ön is\, ahol személyesen tárgyalhat \n\nbeszállítói lehetőségekről nagyvállalatokkal\,\ntechnológiai kooperációról\, további együttműködésekről a többi beszállítóval.\n\n \nA program célja\, erősíteni a helyi beszállítói láncokat. A programon lehetőség nyílik üzleti tárgyalásokat folytatni a vállalkozások beszerzőivel. \nAmennyiben szeretne Ön is tárgyalni a beszállítói lehetőségről egy-vagy több vállalkozás beszerzőivel\, regisztráljon a DÍJMENTES beszállítói fórumra! \nIdőpont: 2023. november 30. (csütörtök) 9:00 óra \nHelyszín: Heves Vármegyei Kereskedelmi és Iparkamara (Eger\, Faiskola u. 15.) \n  \nSzemélyes tárgyalásokra az alábbi cégek beszerzőivel lesz lehetőség:  \n\nApollo Tyres (Hungary) Kft. – Gumiabroncsgyártás\nAutomotive Steering Column Kft. – Kormányoszlopok gyártása\nEmerson Automation FCP Kft. – Pneumatikus elemek gyártása\nHevesgép Kft. – Mezőgazdasági gépek gyártása\nRobert Bosch Kft. – A cégcsoport 4 üzleti területe: mobilitási megoldások\, ipari technika\, fogyasztási cikkek\, energia- és épülettechnika.\nSanatmetal Kft. – Orvosi implantátumok gyártása\nVilati Gyártó Zrt. – Fémszerkezetgyártás és elektronikai szerelés\nZF Hungária Kft. – Sebességváltók gyártása\n\nTovábbi részletek: IDE KATTINTVA \n  \nA részvétel díjmentes\, de előzetes regisztrációhoz kötött. \nJelentkezési határidő: 2023. november 22. szerda munkaidő vége \nREGISZTRÁCIÓ
URL:https://pbkik.hu/esemeny/kamarai-beszallitoi-forum-heves-varmegyei-kereskedelmi-es-iparkamara/
LOCATION:Heves Vármegyei Kereskedelmi és Iparkamara\, Faiskola u. 15.\, Eger\, Heves Megye\, Magyarország
END:VEVENT
BEGIN:VEVENT
DTSTART;TZID=Europe/Helsinki:20191205T090000
DTEND;TZID=Europe/Helsinki:20191205T140000
DTSTAMP:20260420T115457
CREATED:20191118T135729Z
LAST-MODIFIED:20200204T160730Z
UID:10001976-1575536400-1575554400@pbkik.hu
SUMMARY:Egri Kamarai Beszállítói Fórum
DESCRIPTION:A Heves Megyei Kereskedelmi és Iparkamara idén ősszel is megrendezi a Kamarai Beszállítói Fórumot\, ahol a Heves megyei nagyvállalatok mellett francia cégek is keresik jövőbeli üzleti partnereiket – a fémmegmunkálástól a vendéglátással kapcsolatos szolgáltatásokig.\n \nVárják Önt is a fórumra\, ahol lehetősége van személyes üzleti tárgyalásokra az alábbi nagyvállalatokkal és más cégekkel is.\n\nAventics Hungary Kft.\nHotel Eger&Park****\nMátrametál Kft.\nZF Hungária Kft.\nMagyar-Francia Kereskedelmi és Iparkamara\n\n  \nA rendezvény időpontja és helyszíne: \n2019. december 5. (csütörtök) 9:00 – 14:00 óra \nHeves Megyei Kereskedelmi és Iparkamara (Eger\, Faiskola u. 15.) \n  \nA rendezvény ingyenes\, de regisztrációhoz kötött\, mely felület IDE kattintva elérhető. \nA jelentkezési határidő: 2019. november 29. 16:00 óra. \n  \nA részletes program: \nhkik.hu/hu/content/jelentkezzen-heves-megyei-beszallitoi-forumra
URL:https://pbkik.hu/esemeny/egri-kamarai-beszallitoi-forum/
LOCATION:Heves Vármegyei Kereskedelmi és Iparkamara\, Faiskola u. 15.\, Eger\, Heves Megye\, Magyarország
END:VEVENT
END:VCALENDAR