BEGIN:VCALENDAR
VERSION:2.0
PRODID:-//Pécs-Baranyai Kereskedelmi és Iparkamara - ECPv6.15.20//NONSGML v1.0//EN
CALSCALE:GREGORIAN
METHOD:PUBLISH
X-WR-CALNAME:Pécs-Baranyai Kereskedelmi és Iparkamara
X-ORIGINAL-URL:https://pbkik.hu
X-WR-CALDESC:Események Pécs-Baranyai Kereskedelmi és Iparkamara
REFRESH-INTERVAL;VALUE=DURATION:PT1H
X-Robots-Tag:noindex
X-PUBLISHED-TTL:PT1H
BEGIN:VTIMEZONE
TZID:Europe/Helsinki
BEGIN:DAYLIGHT
TZOFFSETFROM:+0200
TZOFFSETTO:+0300
TZNAME:EEST
DTSTART:20190331T010000
END:DAYLIGHT
BEGIN:STANDARD
TZOFFSETFROM:+0300
TZOFFSETTO:+0200
TZNAME:EET
DTSTART:20191027T010000
END:STANDARD
BEGIN:DAYLIGHT
TZOFFSETFROM:+0200
TZOFFSETTO:+0300
TZNAME:EEST
DTSTART:20200329T010000
END:DAYLIGHT
BEGIN:STANDARD
TZOFFSETFROM:+0300
TZOFFSETTO:+0200
TZNAME:EET
DTSTART:20201025T010000
END:STANDARD
BEGIN:DAYLIGHT
TZOFFSETFROM:+0200
TZOFFSETTO:+0300
TZNAME:EEST
DTSTART:20210328T010000
END:DAYLIGHT
BEGIN:STANDARD
TZOFFSETFROM:+0300
TZOFFSETTO:+0200
TZNAME:EET
DTSTART:20211031T010000
END:STANDARD
END:VTIMEZONE
BEGIN:VEVENT
DTSTART;TZID=Europe/Helsinki:20201106T180000
DTEND;TZID=Europe/Helsinki:20201106T220000
DTSTAMP:20260419T155524
CREATED:20201026T111827Z
LAST-MODIFIED:20201026T112328Z
UID:10001824-1604685600-1604700000@pbkik.hu
SUMMARY:Két sztárséf vacsoraestje közös konyhában a Hosszú Tányér gourmet-házban
DESCRIPTION:A Hosszú Tányér Gourmet-házban ismét különleges eseményre készülnek.  2020. november 6-án (pénteken) és 7-én (szombaton) 18 órakor Kun Péter séf Bereznay Tamást látja vendégül konyhájában.\n \n \n\nA közös főzésen 8 fogás készül\, mindkét séf 1-1 előétellel\, levessel\, főétellel és desszerttel rukkol elő. A fogásokról a vendégek fogják majd kitalálni az asztalon\, hogy melyik\, kinek a keze munkája.\n\nA vacsorest italsorát Rácz Lilla saját készítésű pezsgőjéből és Latorczai László limitált példányszámú\, prémium boraiból állították össze. A vacsoracsomag ára: 35.000.-/fő.\nMindkét napon 20 fő részére tudnak helyet biztosítani\, a beérkező foglalások sorrendjében.\n\nJegyvásárlás\, asztalfoglalás: 06 706177444 vagy foglalas@hosszutanyer.hu
URL:https://pbkik.hu/esemeny/ket-sztarsef-vacsoraestje-kozos-konyhaban-a-hosszu-tanyer-gourmet-hazban/
LOCATION:Hosszú Tányér\, Magyarország
END:VEVENT
END:VCALENDAR