BEGIN:VCALENDAR
VERSION:2.0
PRODID:-//Pécs-Baranyai Kereskedelmi és Iparkamara - ECPv6.15.20//NONSGML v1.0//EN
CALSCALE:GREGORIAN
METHOD:PUBLISH
X-ORIGINAL-URL:https://pbkik.hu
X-WR-CALDESC:Események Pécs-Baranyai Kereskedelmi és Iparkamara
REFRESH-INTERVAL;VALUE=DURATION:PT1H
X-Robots-Tag:noindex
X-PUBLISHED-TTL:PT1H
BEGIN:VTIMEZONE
TZID:Europe/Budapest
BEGIN:DAYLIGHT
TZOFFSETFROM:+0100
TZOFFSETTO:+0200
TZNAME:CEST
DTSTART:20220327T010000
END:DAYLIGHT
BEGIN:STANDARD
TZOFFSETFROM:+0200
TZOFFSETTO:+0100
TZNAME:CET
DTSTART:20221030T010000
END:STANDARD
BEGIN:DAYLIGHT
TZOFFSETFROM:+0100
TZOFFSETTO:+0200
TZNAME:CEST
DTSTART:20230326T010000
END:DAYLIGHT
BEGIN:STANDARD
TZOFFSETFROM:+0200
TZOFFSETTO:+0100
TZNAME:CET
DTSTART:20231029T010000
END:STANDARD
BEGIN:DAYLIGHT
TZOFFSETFROM:+0100
TZOFFSETTO:+0200
TZNAME:CEST
DTSTART:20240331T010000
END:DAYLIGHT
BEGIN:STANDARD
TZOFFSETFROM:+0200
TZOFFSETTO:+0100
TZNAME:CET
DTSTART:20241027T010000
END:STANDARD
END:VTIMEZONE
BEGIN:VTIMEZONE
TZID:Europe/Helsinki
BEGIN:DAYLIGHT
TZOFFSETFROM:+0200
TZOFFSETTO:+0300
TZNAME:EEST
DTSTART:20190331T010000
END:DAYLIGHT
BEGIN:STANDARD
TZOFFSETFROM:+0300
TZOFFSETTO:+0200
TZNAME:EET
DTSTART:20191027T010000
END:STANDARD
BEGIN:DAYLIGHT
TZOFFSETFROM:+0200
TZOFFSETTO:+0300
TZNAME:EEST
DTSTART:20200329T010000
END:DAYLIGHT
BEGIN:STANDARD
TZOFFSETFROM:+0300
TZOFFSETTO:+0200
TZNAME:EET
DTSTART:20201025T010000
END:STANDARD
BEGIN:DAYLIGHT
TZOFFSETFROM:+0200
TZOFFSETTO:+0300
TZNAME:EEST
DTSTART:20210328T010000
END:DAYLIGHT
BEGIN:STANDARD
TZOFFSETFROM:+0300
TZOFFSETTO:+0200
TZNAME:EET
DTSTART:20211031T010000
END:STANDARD
BEGIN:DAYLIGHT
TZOFFSETFROM:+0200
TZOFFSETTO:+0300
TZNAME:EEST
DTSTART:20220327T010000
END:DAYLIGHT
BEGIN:STANDARD
TZOFFSETFROM:+0300
TZOFFSETTO:+0200
TZNAME:EET
DTSTART:20221030T010000
END:STANDARD
BEGIN:DAYLIGHT
TZOFFSETFROM:+0200
TZOFFSETTO:+0300
TZNAME:EEST
DTSTART:20230326T010000
END:DAYLIGHT
BEGIN:STANDARD
TZOFFSETFROM:+0300
TZOFFSETTO:+0200
TZNAME:EET
DTSTART:20231029T010000
END:STANDARD
END:VTIMEZONE
BEGIN:VEVENT
DTSTART;VALUE=DATE:20230925
DTEND;VALUE=DATE:20230927
DTSTAMP:20260419T215650
CREATED:20230613T110141Z
LAST-MODIFIED:20230728T075005Z
UID:10002351-1695600000-1695772799@pbkik.hu
SUMMARY:Skandináv innovációs vásár 2023
DESCRIPTION:Koppenhágában rendezik meg szeptember 25-26-án a Nordic Innovation Fair rendezvényét\, ahol az innovációs szereplőknek ingyenes és egyedülálló partnerkereső és kapcsolatépítési lehetőséget kínálnak. \n\nAz Enterprise Europe Network nemzetközi vállalkozásfejlesztési hálózat társszervezésével megvalósuló rendezvényen svéd\, norvég\, finn\, izlandi és dán kutatók és spin-out vállalkozások mutatják be találmányaikat azzal a céllal\, hogy üzleti lehetőségeket találjanak licencelésre\, közös fejlesztésre\, kutatási együttműködésre\, finanszírozásra és / vagy befektetésre. \nAz idei kategóriák a következők:\n– Orvostechnika és diagnosztika\n– Biotechnológia és gyógyszeripar\n– Greentech és élelmiszeripar\n– Digitális megoldások \nIdőpont: 2023. szeptember 25-26.\nHelyszín: Industrien Hus\, Koppenhága\, Dánia\nRegisztrációs határidő: szeptember 24. \nA rendezvénnyel kapcsolatos további részletek az esemény hivatalos oldalán érhetők el. \nREGISZTRÁCIÓ \nAGENDA \nÉrdeklődés esetén keressen minket a een@pbkik.hu e-mail címen
URL:https://pbkik.hu/esemeny/skandinav-innovacios-vasar-2023/
LOCATION:INDUSTRIENS HUS\, H.C. Andersens Boulevard 18\, Koppenhága\, DK-1787\, Dánia
END:VEVENT
BEGIN:VEVENT
DTSTART;VALUE=DATE:20220926
DTEND;VALUE=DATE:20220928
DTSTAMP:20260419T215650
CREATED:20220325T132644Z
LAST-MODIFIED:20220523T110322Z
UID:10002647-1664150400-1664323199@pbkik.hu
SUMMARY:Skandináv innovációs kiállítás 2022
DESCRIPTION:Az Enterprise Europe Network társszervezésében kerül megrendezésre a Nordic Innovation Fair 2022 nemzetközi üzletember találkozó. \n \nAz északi tudósok\, a nemzetközi befektetők és vállalkozások közötti kapcsolatteremtésre 2022. szeptember 27-én Koppenhágában kerül sor. A svéd\, norvég\, finn és dán kutatók és vállalkozások bemutatják találmányaikat azzal a céllal\, hogy üzleti lehetőségeket találjanak licencelésre\, közös fejlesztésre\, kutatási együttműködésre\, finanszírozásra és/vagy befektetésre. \nRegisztrációra április 15-től van lehetőség\, a részvétel ingyenes. \nREGISZTRÁCIÓ\n 
URL:https://pbkik.hu/esemeny/skandinav-innovacios-kiallitas-2022/
LOCATION:INDUSTRIENS HUS\, H.C. Andersens Boulevard 18\, Koppenhága\, DK-1787\, Dánia
ATTACH;FMTTYPE=image/png:https://pbkik.hu/wp-content/uploads/2022/03/Nordic-Innovation-Fair-2022.png
END:VEVENT
BEGIN:VEVENT
DTSTART;VALUE=DATE:20200923
DTEND;VALUE=DATE:20200924
DTSTAMP:20260419T215650
CREATED:20200305T111251Z
LAST-MODIFIED:20200421T115301Z
UID:10002033-1600819200-1600905599@pbkik.hu
SUMMARY:A jövő technológiái - nemzetközi IP kiállítás és üzletember találkozó Dániában
DESCRIPTION:„Danish IP Fair – The Next Big Thing” néven nemzetközi üzletember találozóra kerül sor az Enterprise Europe Network  szervezésében \n \nA rendezvényen több\, mint 80 fejlesztés\, találmány kerül bemutatásra\, ahol egyetemek\, kutatóintézetek és gazdasági szereplők találhatnak egymásra\, lehetőséget biztosítva projektötletek\, további üzleti és technológiai együttműködések kialakítására\, licensz vásárlási\, befektetési lehetőségekre. \nKiemelt kategóriák: \n\nFenntarthatóság & korszerű anyagok\nMedtech & diagnosztika\nBiotech & gyógyszeripar\nDigitalizáció\, AI\, robotika\n\n\nA résztvevők listája és az üzleti ajánlatok szintén megtekinthetők a rendezvény honlapon\, illetve egyúttal lehetősége van a résztvevőknek tárgyalások foglalására. \nA kiutaás és szállás önköltséges\, és önállóan szervezendő. \nDanish IP Fair 2020\nTovábbi információ:  eenpecs@pbkik.hu \n\n 
URL:https://pbkik.hu/esemeny/danish-ip-fair/
LOCATION:INDUSTRIENS HUS\, H.C. Andersens Boulevard 18\, Koppenhága\, DK-1787\, Dánia
ATTACH;FMTTYPE=image/jpeg:https://pbkik.hu/wp-content/uploads/2020/03/danish-ip.jpg
END:VEVENT
END:VCALENDAR