BEGIN:VCALENDAR
VERSION:2.0
PRODID:-//Pécs-Baranyai Kereskedelmi és Iparkamara - ECPv6.15.20//NONSGML v1.0//EN
CALSCALE:GREGORIAN
METHOD:PUBLISH
X-ORIGINAL-URL:https://pbkik.hu
X-WR-CALDESC:Események Pécs-Baranyai Kereskedelmi és Iparkamara
REFRESH-INTERVAL;VALUE=DURATION:PT1H
X-Robots-Tag:noindex
X-PUBLISHED-TTL:PT1H
BEGIN:VTIMEZONE
TZID:Europe/Helsinki
BEGIN:DAYLIGHT
TZOFFSETFROM:+0200
TZOFFSETTO:+0300
TZNAME:EEST
DTSTART:20180325T010000
END:DAYLIGHT
BEGIN:STANDARD
TZOFFSETFROM:+0300
TZOFFSETTO:+0200
TZNAME:EET
DTSTART:20181028T010000
END:STANDARD
BEGIN:DAYLIGHT
TZOFFSETFROM:+0200
TZOFFSETTO:+0300
TZNAME:EEST
DTSTART:20190331T010000
END:DAYLIGHT
BEGIN:STANDARD
TZOFFSETFROM:+0300
TZOFFSETTO:+0200
TZNAME:EET
DTSTART:20191027T010000
END:STANDARD
BEGIN:DAYLIGHT
TZOFFSETFROM:+0200
TZOFFSETTO:+0300
TZNAME:EEST
DTSTART:20200329T010000
END:DAYLIGHT
BEGIN:STANDARD
TZOFFSETFROM:+0300
TZOFFSETTO:+0200
TZNAME:EET
DTSTART:20201025T010000
END:STANDARD
END:VTIMEZONE
BEGIN:VEVENT
DTSTART;VALUE=DATE:20190526
DTEND;VALUE=DATE:20190530
DTSTAMP:20260420T223148
CREATED:20190409T063551Z
LAST-MODIFIED:20190919T132524Z
UID:10001588-1558828800-1559174399@pbkik.hu
SUMMARY:Üzleti delegáció Izraelbe
DESCRIPTION:Izrael a Közel-Kelet egyik legfejlettebb országa gazdasági és ipari tekintetben. Hazánk és Izrael fontos gazdasági és tudományos együttműködő partnerei egymásnak. Az izraeli cégek a legmodernebb technológiákat fejlesztik és használják\, és a magyar gazdaság\, valamint vállalatok érdeke\, hogy az izraeli cégekkel minél szorosabban együttműködjenek. \n \n  \nA kiutazás célja hazánk és Izrael vállalkozói közötti együttműködési lehetőségek feltérképezése\, új üzleti kapcsolatok kialakítása elsősorban az innováció területén\, valamint a  New Tech 2019 Kiállításon való részvétel. \n  \nCélcsoport\nIzrael iránt érdeklődő exportorientált vállalkozások\, amelyek lehetőség szerint az alábbi területeken tevékenykednek: \n\negészségipar\norvostechnikai berendezések gyártása\nbiotechnológia\ndigitális egészségipar\nICT\nelektronika\ntudományos kutatások\nfelsőoktatás\n\n  \nTervezett programok \n\ntalálkozó a Jeruzsálemi Kereskedelmi Kamara képviselőivel Magyarország Külgazdasági Képviseletén Jeruzsálemben\nHiCenter (https://hicenter.co.il/) technológiai inkubátor látogatása Haifában\nRambam MedTech (http://www.rambammedtech.com/) orvosi innovációs intézmény látogatása Haifában\nMaccabi Haifa Accelerator látogatása (https://accelerators.hypesportsinnovation.com/mhfc/)\nBeWell Haifa (https://www.haifaup.co.il/community/bewell-haifa-israel-innovation-institute/ ) intézet látogatása (egészségipar) üzleti fórum és networking az Izraeli Kereskedelmi Kamarák Szövetségének (FICC) szervezésében Tel-Avivban látogatás a New Tech Exhibition 2019-re\n\n  \nTervezett szakmai program. \n  \nMiért érdemes részt venni? \n\ningyenes részvétel a szakmai programokon\ntájékozódási lehetőség Izrael gazdasági és üzleti környezetéről\, a gazdasági\negyüttműködési lehetőségekről\ntárgyalási lehetőség potenciális izraeli üzleti partnerekkel\n\n  \nA részvétel feltételei \n\nexportorientált cégprofil\nkamarai regisztráció\nelőnyben részesülnek az MKIK bilaterális tagozatainak tagvállalatai és az önkéntes kamarai tagok\n\nSzervezők\nA Magyar Kereskedelmi és Iparkamara\, Magyarország Nagykövetsége Tel-Avivban\, az Izraeli Kereskedelmi Kamarák Szövetsége\, valamint a Jeruzsálemi Kereskedelmi Kamara. \n  \nJelentkezés és bővebb információ \nA jelentkezéshez az alábbiakban felsorolt 2 dokumentumot kitöltve\, 2019. április 22-ig a baki.magdolna@mkik.hu e-mail címre várjuk. \n\njelentkezési lap\,\nangol nyelvű cégprofil.\n\nA jelentkezést csak a 2 melléklet együttes megküldésével fogadjuk el. \n  \nAz üzleti delegáció minimum 8 fő érdeklődése esetén valósul meg\, ezért kérjük\, hogy foglalásukat csak visszajelzésünket követően véglegesítsék. \n  \nKapcsolattartó: Baki Magdolna\, e-mail: baki.magdolna@mkik.hu\, tel: (1) 474 5146
URL:https://pbkik.hu/esemeny/uzleti-delegacio-izraelbe/
LOCATION:Izrael\, Izrael
ATTACH;FMTTYPE=image/jpeg:https://pbkik.hu/wp-content/uploads/2019/03/mkik_logo_1.jpg
END:VEVENT
END:VCALENDAR