BEGIN:VCALENDAR
VERSION:2.0
PRODID:-//Pécs-Baranyai Kereskedelmi és Iparkamara - ECPv6.15.20//NONSGML v1.0//EN
CALSCALE:GREGORIAN
METHOD:PUBLISH
X-WR-CALNAME:Pécs-Baranyai Kereskedelmi és Iparkamara
X-ORIGINAL-URL:https://pbkik.hu
X-WR-CALDESC:Események Pécs-Baranyai Kereskedelmi és Iparkamara
REFRESH-INTERVAL;VALUE=DURATION:PT1H
X-Robots-Tag:noindex
X-PUBLISHED-TTL:PT1H
BEGIN:VTIMEZONE
TZID:Europe/Budapest
BEGIN:DAYLIGHT
TZOFFSETFROM:+0100
TZOFFSETTO:+0200
TZNAME:CEST
DTSTART:20220327T010000
END:DAYLIGHT
BEGIN:STANDARD
TZOFFSETFROM:+0200
TZOFFSETTO:+0100
TZNAME:CET
DTSTART:20221030T010000
END:STANDARD
BEGIN:DAYLIGHT
TZOFFSETFROM:+0100
TZOFFSETTO:+0200
TZNAME:CEST
DTSTART:20230326T010000
END:DAYLIGHT
BEGIN:STANDARD
TZOFFSETFROM:+0200
TZOFFSETTO:+0100
TZNAME:CET
DTSTART:20231029T010000
END:STANDARD
BEGIN:DAYLIGHT
TZOFFSETFROM:+0100
TZOFFSETTO:+0200
TZNAME:CEST
DTSTART:20240331T010000
END:DAYLIGHT
BEGIN:STANDARD
TZOFFSETFROM:+0200
TZOFFSETTO:+0100
TZNAME:CET
DTSTART:20241027T010000
END:STANDARD
END:VTIMEZONE
BEGIN:VEVENT
DTSTART;VALUE=DATE:20231207
DTEND;VALUE=DATE:20231209
DTSTAMP:20260423T045507
CREATED:20231103T093012Z
LAST-MODIFIED:20231103T100535Z
UID:10002402-1701907200-1702079999@pbkik.hu
SUMMARY:Match4Industry - üzleti partnerkereső rendezvény
DESCRIPTION:A Match4Industry eseményre a Kocaeli Congress Centerben kerül sor\, amely a gazdag török ipart mutatja be. A 12. alkalommal megrendezésre kerülő eseményt az ABİGEM East Marmara szervezi a Kocaeli Iparkamarával és az Enterprise Europe Network partnerekkel együttműködve. A Match4Industry két napon át exkluzív üzleti találkozókat kínál a világ minden tájáról érkező résztvevőkkel 2023. december 7-8-án. \nA rendezvényen megjelenő kiemelt szektorok: \n\nAutóipari beszállítás\nFém és gépipar\nMűanyag és gumiipar\nGumiabroncs gyártás\nVegyipar (autóipari festékek és bevonatok\, autóipari ápolószerek)\nÉpítőipar és építőanyagok\nEnergia\nKörnyezetvédelem\nElektronika\nInformációs és kommunikációs technológiák (IKT)\n\nMiért érdemes részt venni a Match4Industry rendezvényen? \n\nSzéles körű nemzetközi partnerhálózat\, amely a rendezvényt megelőzően segíti a vállalatokat\nSzakmai segítségnyújtás az Ön igényeihez igazodó tapasztalatszerzéshez\nÚj piacok és üzleti lehetőségek felfedezése Törökországban és azon túl is\nInnovatív ötletek megoldások és/vagy új termékek kifejlesztéséhez\n\nA részvétel ingyenes\, de előzetes regisztrációhoz kötött. Regisztrálni ITT lehet. \nTovábbi információ
URL:https://pbkik.hu/esemeny/match4industry-uzleti-partnerkereso-rendezveny/
LOCATION:Kocaeli Congress Center\, Sekapark 16.\, Izmit/Kocaeli\, 41100\, Törökország
ATTACH;FMTTYPE=image/png:https://pbkik.hu/wp-content/uploads/2023/11/match.png
END:VEVENT
END:VCALENDAR