BEGIN:VCALENDAR
VERSION:2.0
PRODID:-//Pécs-Baranyai Kereskedelmi és Iparkamara - ECPv6.15.20//NONSGML v1.0//EN
CALSCALE:GREGORIAN
METHOD:PUBLISH
X-WR-CALNAME:Pécs-Baranyai Kereskedelmi és Iparkamara
X-ORIGINAL-URL:https://pbkik.hu
X-WR-CALDESC:Események Pécs-Baranyai Kereskedelmi és Iparkamara
REFRESH-INTERVAL;VALUE=DURATION:PT1H
X-Robots-Tag:noindex
X-PUBLISHED-TTL:PT1H
BEGIN:VTIMEZONE
TZID:Europe/Budapest
BEGIN:DAYLIGHT
TZOFFSETFROM:+0100
TZOFFSETTO:+0200
TZNAME:CEST
DTSTART:20230326T010000
END:DAYLIGHT
BEGIN:STANDARD
TZOFFSETFROM:+0200
TZOFFSETTO:+0100
TZNAME:CET
DTSTART:20231029T010000
END:STANDARD
BEGIN:DAYLIGHT
TZOFFSETFROM:+0100
TZOFFSETTO:+0200
TZNAME:CEST
DTSTART:20240331T010000
END:DAYLIGHT
BEGIN:STANDARD
TZOFFSETFROM:+0200
TZOFFSETTO:+0100
TZNAME:CET
DTSTART:20241027T010000
END:STANDARD
BEGIN:DAYLIGHT
TZOFFSETFROM:+0100
TZOFFSETTO:+0200
TZNAME:CEST
DTSTART:20250330T010000
END:DAYLIGHT
BEGIN:STANDARD
TZOFFSETFROM:+0200
TZOFFSETTO:+0100
TZNAME:CET
DTSTART:20251026T010000
END:STANDARD
END:VTIMEZONE
BEGIN:VEVENT
DTSTART;TZID=Europe/Budapest:20240515T140000
DTEND;TZID=Europe/Budapest:20240515T160000
DTSTAMP:20260420T032137
CREATED:20240220T082858Z
LAST-MODIFIED:20240409T090634Z
UID:10002905-1715781600-1715788800@pbkik.hu
SUMMARY:Merre tart Baranya? – Vállalkozói fórum Komlón
DESCRIPTION:A Pécs-Baranyai Kereskedelmi és Iparkamara\, valamint Komló önkormányzata vállalkozói fórumot szervez. \nAz önkormányzatok és vállalkozások együttműködése elengedhetetlen. Fenntartható\, egymásra épülő és illeszkedő fejlesztésekre van szükség a közeljövőben.  Fontos a helyi önkormányzat és a gazdaságfejlesztési zóna tervezett projektjeinek összehangolása. \nA célok megvalósulása érdekében szakmai térségi települési fórumot szervezünk\, amelyen a települési önkormányzat és a térségben működő vállalkozások egyeztetik fejlesztéspolitikai\, konkrét vállalkozói fejlesztési javaslataikat\, illetve szakértők adnak választ a felmerülő kérdésekre kötetlen beszélgetés formájában. \n  \nIdőpont: 2024. május 15. 14.00 \nHelyszín: Komlói Kaptár Művelődési Központ – 7300 Komló\, 48-as tér 1. B ép.\n \n  \nProgram: \n\nKöszöntő\nPolics József polgármester\, Komló\nDr. Síkfői Tamás elnök\, Pécs-Baranyai Kereskedelmi és Iparkamara\nRabb Szabolcs főtitkár\, Pécs-Baranyai Kereskedelmi és Iparkamara\nTémák\nGazdaságfejlesztési irányok és stratégiai fejlesztések\nA régió meghatározó cégeinek fejlesztései\nA kkv-k fejlesztési és üzletszerzési lehetőségei\, kapcsolódó kamarai szolgáltatások\nTurizmusfejlesztés\nHR körkép – Viapan Group\n\n\nKérdezzen Ön is! – kötetlen beszélgetés a szakértőkkel\n\nSzámítunk részvételére\, hiszen mindannyiunk közös érdeke\, hogy együtt cselekedjünk. \nA rendezvényen való részvétel díjmentes\, de regisztrációhoz kötött. \nA rendezvény nem sajtó nyilvános. \nTovábbi információ: Katona Petra 20/9210-612 \nKérjük részvételi szándékát május 7-ig  az alábbi űrlap kitöltésével jelezze. \n  \n\n\n\n\nVállalkozói fórum - Komló\n\n\n\n\n\n\n\n\nRésztvevő adatai\n\n\n\n    Név\n        *\n    \n    \n    \n    \n\n\n    Résztvevő beosztása\n        *\n    \n    \n    \n    \n\n\n    E-mail\n        *\n    \n    \n    \n    \n\n\n    További résztvevők és beosztásuk\n        \n    \n    \n    \n    \n\n\n\nVállalkozás adatai\n\n\n\n    Cégnév\n        *\n    \n    \n    \n    \n\n\n    Adószám\n        *\n    \n    \n    \n    \n\n\n    Székhely\n        *\n    \n    \n    \n    \n\n\n\n    Kérdezzen Ön is!\n        \n    \n    \n    \n    \n\n\n    Adatkezelési tájékoztató\n        *\n    \n    					\n			 A tájékoztató tartalmát megismertem és elfogadom.\n\n     Adatkezelési tájékoztató \n    \n\n\n	\nBeküldés\n\n\n\n\n\n	\n	\n\n\n\n\n\n\nA projekt a Nemzetgazdasági Minisztérium támogatásával (VF/44/5/2023_PBKIK számú támogatási szerződés szerint) valósul meg.
URL:https://pbkik.hu/esemeny/merre-tart-baranya-vallalkozoi-forum-komlon/
LOCATION:Komlói Kaptár Művelődési Központ\, 48-as tér 1. B épület\, Komló\, Baranya\, 7300\, Magyarország
ATTACH;FMTTYPE=image/png:https://pbkik.hu/wp-content/uploads/2024/02/komlo.png
END:VEVENT
END:VCALENDAR