BEGIN:VCALENDAR
VERSION:2.0
PRODID:-//Pécs-Baranyai Kereskedelmi és Iparkamara - ECPv6.15.20//NONSGML v1.0//EN
CALSCALE:GREGORIAN
METHOD:PUBLISH
X-WR-CALNAME:Pécs-Baranyai Kereskedelmi és Iparkamara
X-ORIGINAL-URL:https://pbkik.hu
X-WR-CALDESC:Események Pécs-Baranyai Kereskedelmi és Iparkamara
REFRESH-INTERVAL;VALUE=DURATION:PT1H
X-Robots-Tag:noindex
X-PUBLISHED-TTL:PT1H
BEGIN:VTIMEZONE
TZID:Europe/Helsinki
BEGIN:DAYLIGHT
TZOFFSETFROM:+0200
TZOFFSETTO:+0300
TZNAME:EEST
DTSTART:20200329T010000
END:DAYLIGHT
BEGIN:STANDARD
TZOFFSETFROM:+0300
TZOFFSETTO:+0200
TZNAME:EET
DTSTART:20201025T010000
END:STANDARD
BEGIN:DAYLIGHT
TZOFFSETFROM:+0200
TZOFFSETTO:+0300
TZNAME:EEST
DTSTART:20210328T010000
END:DAYLIGHT
BEGIN:STANDARD
TZOFFSETFROM:+0300
TZOFFSETTO:+0200
TZNAME:EET
DTSTART:20211031T010000
END:STANDARD
BEGIN:DAYLIGHT
TZOFFSETFROM:+0200
TZOFFSETTO:+0300
TZNAME:EEST
DTSTART:20220327T010000
END:DAYLIGHT
BEGIN:STANDARD
TZOFFSETFROM:+0300
TZOFFSETTO:+0200
TZNAME:EET
DTSTART:20221030T010000
END:STANDARD
END:VTIMEZONE
BEGIN:VEVENT
DTSTART;VALUE=DATE:20210322
DTEND;VALUE=DATE:20210324
DTSTAMP:20260423T125139
CREATED:20200217T162725Z
LAST-MODIFIED:20221122T095214Z
UID:10002026-1616371200-1616543999@pbkik.hu
SUMMARY:Tavola 2020 - prémium élelmiszerek és kézműves gyártók nemzetközi vására
DESCRIPTION:Az Enterprise Europe Network hálózat szervezésében idén is nemzetközi üzletember találkozóra kerül sor Európa vezető élelmiszeripari kiállításán\, ahol a csúcsminőségű élelmiszerek széles választéka mellett jövőbeni üzleti partnereikkel is megismerkedhetnek a résztvevők. \n \nA kiállítás és az üzletember találkozó remek lehetőséget kínál a baranyai élelmiszeripari és vendéglátóipari vállalkozásoknak új üzleti partnerekkel való kapcsolatfelvételre. A rendezvényen mind hazai\, mind külföldi termékekkel ismerkedhetnek meg\, saját szolgáltatásaikat\, termékeiket tudják bemutatni a tárgyalópartnereknek\, akik jellemzően az étterem és vendéglátóipar\, élelmiszer-\, cukrász-\, és szállodaipar képviselőiből állnak. \nAz üzletember találkozóra regisztrált vállalkozások térítésmentesen léphetnek be a kiállítás területére\, vehetnek részt a szakmai programokon és versenyeken\, amennyiben legalább 2 tárgyalási időpontot egyeztettek az online felületen keresztül. \nREGISZTRÁCIÓ\n  \nTovábbi információért keresse az Enterprise Europe Network pécsi irodáját: \neenpecs@pbkik.hu \n 
URL:https://pbkik.hu/esemeny/tavola-2020/
LOCATION:Kortrijk Xpo\, Doorniksesteenweg 216\, Kortrijk\, 8500\, Belgium
ATTACH;FMTTYPE=image/png:https://pbkik.hu/wp-content/uploads/2020/02/TAVOLA_Link-image_1200x628px.png
END:VEVENT
END:VCALENDAR