BEGIN:VCALENDAR
VERSION:2.0
PRODID:-//Pécs-Baranyai Kereskedelmi és Iparkamara - ECPv6.15.20//NONSGML v1.0//EN
CALSCALE:GREGORIAN
METHOD:PUBLISH
X-ORIGINAL-URL:https://pbkik.hu
X-WR-CALDESC:Események Pécs-Baranyai Kereskedelmi és Iparkamara
REFRESH-INTERVAL;VALUE=DURATION:PT1H
X-Robots-Tag:noindex
X-PUBLISHED-TTL:PT1H
BEGIN:VTIMEZONE
TZID:Europe/Helsinki
BEGIN:DAYLIGHT
TZOFFSETFROM:+0200
TZOFFSETTO:+0300
TZNAME:EEST
DTSTART:20170326T010000
END:DAYLIGHT
BEGIN:STANDARD
TZOFFSETFROM:+0300
TZOFFSETTO:+0200
TZNAME:EET
DTSTART:20171029T010000
END:STANDARD
BEGIN:DAYLIGHT
TZOFFSETFROM:+0200
TZOFFSETTO:+0300
TZNAME:EEST
DTSTART:20180325T010000
END:DAYLIGHT
BEGIN:STANDARD
TZOFFSETFROM:+0300
TZOFFSETTO:+0200
TZNAME:EET
DTSTART:20181028T010000
END:STANDARD
BEGIN:DAYLIGHT
TZOFFSETFROM:+0200
TZOFFSETTO:+0300
TZNAME:EEST
DTSTART:20190331T010000
END:DAYLIGHT
BEGIN:STANDARD
TZOFFSETFROM:+0300
TZOFFSETTO:+0200
TZNAME:EET
DTSTART:20191027T010000
END:STANDARD
END:VTIMEZONE
BEGIN:VEVENT
DTSTART;TZID=Europe/Helsinki:20181120T090000
DTEND;TZID=Europe/Helsinki:20181120T150000
DTSTAMP:20260419T201248
CREATED:20181109T124036Z
LAST-MODIFIED:20190213T131000Z
UID:10001561-1542704400-1542726000@pbkik.hu
SUMMARY:Szakmai Robot Szeminárium – A kollaboratív robotok térhódítása
DESCRIPTION:A Vajda Művek Kft. és a dán Universal Roborts gyakorlati bemutatóval egybekötött szakmai robot szemináriumot szervez Pécsett. A szeminárium célja az iparban egyre nagyobb teret hódító kollaboratív robotok globális bemutatása. Az első Universal Robot egy dán egyetemi fejlesztésből született meg\, azóta pedig világszerte piacvezető szerepet tölt be a kollaboratív robotok piacán.   \nAz Universal Robots az első robotgyártó a világon\, aki kifejlesztette az emberrel hatékonyan és biztonságosan együtt dolgozó egyedi robotokat\, amelyek a jelen és a jövő gyártástechnológiai folyamatait teljesen új dimenzióba pozicionálják. A Vajda Művek Kft. egyedi gépgyártó vállalat volt az első Magyarországon\, akit tapasztalata miatt az Universal Robots felkért robotjainak forgalmazására és rendszerbe integrálására. \nA rendezvény kiemelt célja az olyan fontos és releváns műszaki információk és alkalmazási lehetőségek átadása az ipar szerepvállalói számára\, amelyek nagymértékben megoldást nyújthatnak a munkaerőhiány és az automatizálási problémák megoldására. \nProgram: \n09:00   Érkezés\, regisztráció \n09:30   Megnyitó \n09:40   Szeminárium I. \n10:40   Kávészünet \n11:00   Szeminárium II. \n12:00   Ebéd \n13:00   Gyakorlati bemutató \n14:30   Konzultáció\, bemutatkozás \nA szemináriumon való részvétel ingyenes\, de előzetes regisztrációhoz kötött. (A résztvevők befogadása csak korlátozott számban lehetséges.) \nJelentkezés és további információ az alábbi elérhetőségeken: \nNyíri Dániel \nÉrtékesítési Vezető és Tanácsadó \nVajda Művek Kft.\nMobil: + 36 70 628 3012 \nE-mail: nyirid@vajdamuvek.hu \n  \nMeghívó
URL:https://pbkik.hu/esemeny/szakmai-robot-szeminarium-a-kollaborativ-robotok-terhoditasa/
LOCATION:Laterum Hotel\, Hajnóczy u. 37-39.\, Pécs\, 7633\, Magyarország
END:VEVENT
END:VCALENDAR