BEGIN:VCALENDAR
VERSION:2.0
PRODID:-//Pécs-Baranyai Kereskedelmi és Iparkamara - ECPv6.15.20//NONSGML v1.0//EN
CALSCALE:GREGORIAN
METHOD:PUBLISH
X-WR-CALNAME:Pécs-Baranyai Kereskedelmi és Iparkamara
X-ORIGINAL-URL:https://pbkik.hu
X-WR-CALDESC:Események Pécs-Baranyai Kereskedelmi és Iparkamara
REFRESH-INTERVAL;VALUE=DURATION:PT1H
X-Robots-Tag:noindex
X-PUBLISHED-TTL:PT1H
BEGIN:VTIMEZONE
TZID:Europe/Budapest
BEGIN:DAYLIGHT
TZOFFSETFROM:+0100
TZOFFSETTO:+0200
TZNAME:CEST
DTSTART:20230326T010000
END:DAYLIGHT
BEGIN:STANDARD
TZOFFSETFROM:+0200
TZOFFSETTO:+0100
TZNAME:CET
DTSTART:20231029T010000
END:STANDARD
BEGIN:DAYLIGHT
TZOFFSETFROM:+0100
TZOFFSETTO:+0200
TZNAME:CEST
DTSTART:20240331T010000
END:DAYLIGHT
BEGIN:STANDARD
TZOFFSETFROM:+0200
TZOFFSETTO:+0100
TZNAME:CET
DTSTART:20241027T010000
END:STANDARD
BEGIN:DAYLIGHT
TZOFFSETFROM:+0100
TZOFFSETTO:+0200
TZNAME:CEST
DTSTART:20250330T010000
END:DAYLIGHT
BEGIN:STANDARD
TZOFFSETFROM:+0200
TZOFFSETTO:+0100
TZNAME:CET
DTSTART:20251026T010000
END:STANDARD
END:VTIMEZONE
BEGIN:VTIMEZONE
TZID:Europe/Helsinki
BEGIN:DAYLIGHT
TZOFFSETFROM:+0200
TZOFFSETTO:+0300
TZNAME:EEST
DTSTART:20220327T010000
END:DAYLIGHT
BEGIN:STANDARD
TZOFFSETFROM:+0300
TZOFFSETTO:+0200
TZNAME:EET
DTSTART:20221030T010000
END:STANDARD
BEGIN:DAYLIGHT
TZOFFSETFROM:+0200
TZOFFSETTO:+0300
TZNAME:EEST
DTSTART:20230326T010000
END:DAYLIGHT
BEGIN:STANDARD
TZOFFSETFROM:+0300
TZOFFSETTO:+0200
TZNAME:EET
DTSTART:20231029T010000
END:STANDARD
BEGIN:DAYLIGHT
TZOFFSETFROM:+0200
TZOFFSETTO:+0300
TZNAME:EEST
DTSTART:20240331T010000
END:DAYLIGHT
BEGIN:STANDARD
TZOFFSETFROM:+0300
TZOFFSETTO:+0200
TZNAME:EET
DTSTART:20241027T010000
END:STANDARD
END:VTIMEZONE
BEGIN:VEVENT
DTSTART;VALUE=DATE:20240528
DTEND;VALUE=DATE:20240531
DTSTAMP:20260425T185807
CREATED:20240503T063217Z
LAST-MODIFIED:20240506T122819Z
UID:10002929-1716854400-1717113599@pbkik.hu
SUMMARY:London-Dublin Smart City Road Show 2024
DESCRIPTION:2024. május 28-30-án London-Dublin smart city road show 2024 üzleti delegációs útra kerül sor. \nProgram:\nMÁJUS 28. KEDD – LONDON BUSINESS TRIP\n08.30 – 09.45: Networking reggeli\n09.45 – 10.10: Kumin Ferenc nagykövet úr köszöntése és a Hungarian-British Business Alliance bemutatása\n10.10 – 10.30: Az Egyesült Királyság üzleti környezetének bemutatása\n10.30 – 10.50: Nagyvállalati tapasztalatmegosztás zöld energia és smart city témakörben\n10.50 – 11.15: Céges bemutatkozó előadások – 7 magyar és brit cég prezentációja\n11.15 – 11.45: Networking kávészünet\n11.45 – 12.25: Panelbeszélgetés (zöld energia és smart city témakörben)\n12.25 – 12.45: Brit smart city területen elért jó gyakorlatok bemutatása\n13.00 – 14.30: Ebédszünet és networking\n14.30 – 15.50: Céges bemutatkozó előadások folytatása és kérdés-felelet\n15.50 – 16.00: Piacralépés az Egyesült Királyságban panelbeszélgetés\n19.55 – 21.20: Utazás London Getwick repülőteréről Dublinba a Ryanair FR121 járatával \nMÁJUS 29. SZERDA – DUBLIN TECH SUMMIT KIÁLLÍTÁS ÉS NAGYKÖVETSÉGI FOGADÁS\n08:15 – 09:45: Írországi piacismereti előadás és vállalati konzultáció a Magyar Nagykövetségen\n10.00 – 16.30: Dublin Tech Summit Expo meglátogatása (fakultatív)\n17.00 – 20:10: Üzleti Networking est a Magyar Nagykövetségen \n\nRegisztráció a követségi fogadás rendezvényre\nDr. Bánhegyi Gergely nagykövet Úr köszöntése\nAz Enterprise Ireland köszöntése és bemutatkozása\nPitch-Session – a magyar cégek bemutatkozása\nÜzleti fogadással egybekötött networking etap\nZáró gondolatok\n\nMÁJUS 30. CSÜTÖRTÖK – DUBLINI ÖNKORMÁNYZAT ÉS MICROSOFT KÖZPONT \n09.00 – 10.30: Dublini Önkormányzat – Smart Dublin koncepció megismerése\n11.30 – 13.00: Microsoft központ meglátogatása\n16.30: Indulás a repülőtérre\n19.30: Indulás Budapestre a Ryanair FR 1023 számú járatával \nAz Egyesült Királyságba belépni csak érvényes útlevéllel lehetséges.\nAz Ír Köztársaság területére belépni csak érvényes személyi igazolvánnyal vagy útlevéllel lehet. \nA szakmai rendezvényen való részvétel díjmentes\, az egyéb személyes kiadások önköltségesek. \nREGISZTRÁCIÓ az üzleti fórumra\nAz üzleti fórum részletes programterve ITT olvasható. \nTovábbi információ: \nHorváth Zsolt\nEnterprise Europe Network Vezető tanácsadó\nNemzetközi Üzletfejlesztési Osztály\n+36 (20) 422 5877\nhorvath.zsolt@hepa.hu\n1027 Budapest\, Kacsa utca 15-23.
URL:https://pbkik.hu/esemeny/london-dublin-smart-city-road-show-2024/
LOCATION:London UK\, Egyesült Királyság
CATEGORIES:EEN események
ATTACH;FMTTYPE=image/jpeg:https://pbkik.hu/wp-content/uploads/2024/05/london-dublin_1600x300.jpg
END:VEVENT
BEGIN:VEVENT
DTSTART;VALUE=DATE:20230510
DTEND;VALUE=DATE:20230512
DTSTAMP:20260425T185807
CREATED:20230327T081022Z
LAST-MODIFIED:20230327T082115Z
UID:10002770-1683676800-1683849599@pbkik.hu
SUMMARY:London Business Trip - Brit üzleti együttműködési lehetőségek
DESCRIPTION:Magyarország Londoni Nagykövetsége és a Hungarian British Business Alliance (HBBA) közös szervezésében 2023. május 10-11. között kerül megrendezésre a London Business Trip.\nA szakmai út célja a brit üzleti környezet megismertetése és együttműködési lehetőségek feltérképezése\, új üzleti kapcsolatok kialakítása\, amelyre több üzleti program keretében is lehetőség nyílik.  \n \nA kétnapos üzleti út programja:\nmájus 10: egész napos szeminárium és kapcsolatépítő esemény vezető brit szakértők részvételével Magyarország Londoni Nagykövetségén.\nmájus 11: üzleti program és kapcsolatépítő esemény a Londoni Kereskedelmi és Iparkamaránál.  \nCélcsoport: a brit piac iránt export vagy befektetési célból érdeklődő magyar vállalkozások képviselői. \nJelentkezési határidő: 2023. április 20 \nKöltségek: \nRegisztrációs díj: 56\,48 BP cca. 25 000 Ft \nA díj a teljes 2 napos csomagra vonatkozik\, mely a foglaláskor fizetendő. \nAz első napi szakmai program a résztvevő magyar cégek számára ingyenes. A helyszín és az étkeztetés költségeit teljes egészében Magyarország Londoni Nagykövetsége fedezi. \nA program szervezési költségeit a HBBA kezeli. Az utazás és szállás Londonba és Londonból\, illetve Londonban a résztvevők felelőssége. Amennyiben segítséget szeretne\, kérjük\, vegye fel a kapcsolatot a HBBA utazási partnerével\, aki szívesen segít minden igényben és szervezésben. \nLépjen kapcsolatba a B2Sky Travel céggel a B2Sky Kenderes Bálint balint.kenderes@b2sky.hu címen. \nTovábbi információk és regisztráció: https://www.eventbrite.co.uk/e/london-business-trip-tickets-571337033447?discount=MKIKcegek
URL:https://pbkik.hu/esemeny/london-business-trip-brit-uzleti-egyuttmukodesi-lehetosegek/
LOCATION:London UK\, Egyesült Királyság
END:VEVENT
END:VCALENDAR