BEGIN:VCALENDAR
VERSION:2.0
PRODID:-//Pécs-Baranyai Kereskedelmi és Iparkamara - ECPv6.15.20//NONSGML v1.0//EN
CALSCALE:GREGORIAN
METHOD:PUBLISH
X-WR-CALNAME:Pécs-Baranyai Kereskedelmi és Iparkamara
X-ORIGINAL-URL:https://pbkik.hu
X-WR-CALDESC:Események Pécs-Baranyai Kereskedelmi és Iparkamara
REFRESH-INTERVAL;VALUE=DURATION:PT1H
X-Robots-Tag:noindex
X-PUBLISHED-TTL:PT1H
BEGIN:VTIMEZONE
TZID:Europe/Helsinki
BEGIN:DAYLIGHT
TZOFFSETFROM:+0200
TZOFFSETTO:+0300
TZNAME:EEST
DTSTART:20180325T010000
END:DAYLIGHT
BEGIN:STANDARD
TZOFFSETFROM:+0300
TZOFFSETTO:+0200
TZNAME:EET
DTSTART:20181028T010000
END:STANDARD
BEGIN:DAYLIGHT
TZOFFSETFROM:+0200
TZOFFSETTO:+0300
TZNAME:EEST
DTSTART:20190331T010000
END:DAYLIGHT
BEGIN:STANDARD
TZOFFSETFROM:+0300
TZOFFSETTO:+0200
TZNAME:EET
DTSTART:20191027T010000
END:STANDARD
BEGIN:DAYLIGHT
TZOFFSETFROM:+0200
TZOFFSETTO:+0300
TZNAME:EEST
DTSTART:20200329T010000
END:DAYLIGHT
BEGIN:STANDARD
TZOFFSETFROM:+0300
TZOFFSETTO:+0200
TZNAME:EET
DTSTART:20201025T010000
END:STANDARD
END:VTIMEZONE
BEGIN:VEVENT
DTSTART;TZID=Europe/Helsinki:20190412T090000
DTEND;TZID=Europe/Helsinki:20190412T140000
DTSTAMP:20260425T182619
CREATED:20190404T122835Z
LAST-MODIFIED:20190416T121846Z
UID:10001578-1555059600-1555077600@pbkik.hu
SUMMARY:Szakmák Napja Szakmabemutató kiállítás Mohácson
DESCRIPTION:Újra várják az általános iskolásokat interaktív szakmabemutató kiállításra Mohácson a Marek Sportcsarnokba. \nA kamara Mohácsi Elnöksége valamint a Mohács és Vidéke Ipartestület\, a korábbi évekhez hasonlóan\, idén is megrendezi Mohács Város Önkormányzata\, valamint a Mohács Tornaegylet 1888 támogatásával Mohácson\, Szakmák Napja címmel\, a szakmabemutató kiállítást. \nA rendezvény az általános iskolák 6-7 osztályos tanulóinak érdeklődését szeretné felkelteni\, a  helyi vállalkozások által bemutatott szakmák/hiányszakmák iránt. \nA szakmák bemutatása ebben az évben is\, interaktív\, játékos módon történik\, mely segíthet abban\, hogy a gyerekek testközelből ismerkedhessenek meg gépekkel\, eszközökkel\, alapanyagokkal\, folyamatokkal.
URL:https://pbkik.hu/esemeny/szakmak-napja-szakmabemutato-kiallitas-mohacson/
LOCATION:Marek Sportcsarnok\, Deák tér 3.\, Mohács\, 7700\, Magyarország
END:VEVENT
END:VCALENDAR