BEGIN:VCALENDAR
VERSION:2.0
PRODID:-//Pécs-Baranyai Kereskedelmi és Iparkamara - ECPv6.15.20//NONSGML v1.0//EN
CALSCALE:GREGORIAN
METHOD:PUBLISH
X-WR-CALNAME:Pécs-Baranyai Kereskedelmi és Iparkamara
X-ORIGINAL-URL:https://pbkik.hu
X-WR-CALDESC:Események Pécs-Baranyai Kereskedelmi és Iparkamara
REFRESH-INTERVAL;VALUE=DURATION:PT1H
X-Robots-Tag:noindex
X-PUBLISHED-TTL:PT1H
BEGIN:VTIMEZONE
TZID:Europe/Helsinki
BEGIN:DAYLIGHT
TZOFFSETFROM:+0200
TZOFFSETTO:+0300
TZNAME:EEST
DTSTART:20190331T010000
END:DAYLIGHT
BEGIN:STANDARD
TZOFFSETFROM:+0300
TZOFFSETTO:+0200
TZNAME:EET
DTSTART:20191027T010000
END:STANDARD
BEGIN:DAYLIGHT
TZOFFSETFROM:+0200
TZOFFSETTO:+0300
TZNAME:EEST
DTSTART:20200329T010000
END:DAYLIGHT
BEGIN:STANDARD
TZOFFSETFROM:+0300
TZOFFSETTO:+0200
TZNAME:EET
DTSTART:20201025T010000
END:STANDARD
BEGIN:DAYLIGHT
TZOFFSETFROM:+0200
TZOFFSETTO:+0300
TZNAME:EEST
DTSTART:20210328T010000
END:DAYLIGHT
BEGIN:STANDARD
TZOFFSETFROM:+0300
TZOFFSETTO:+0200
TZNAME:EET
DTSTART:20211031T010000
END:STANDARD
END:VTIMEZONE
BEGIN:VEVENT
DTSTART;TZID=Europe/Helsinki:20200318T090000
DTEND;TZID=Europe/Helsinki:20200318T120000
DTSTAMP:20260420T034653
CREATED:20200305T150329Z
LAST-MODIFIED:20200316T151419Z
UID:10002035-1584522000-1584532800@pbkik.hu
SUMMARY:Európai kkv-k és startupok nemzetköziesítése\, az EU üzleti támogatása és a szellemi tulajdon szerepe India vonatkozásában
DESCRIPTION:Ezúton tájékoztatjuk Önöket\, hogy a COVID-19 terjedése miatt\, a 2020. március 18-i EU-India üzleti szeminárium egy interaktív online platformon keresztül kerül megrendezésre. \nAz esemény programja nem változik. A vizuális és audió kapcsolatot a résztvevők között a szervezők biztosítják. \nA virtuális közönség távolról élvezheti és be is kapcsolódhat az esemény különböző programpontjaiba\, mint:  \n\nKey note prezentációk (taps\, kérdések)\nNetworking (5 perces B2B találkozók minden résztvevő számára)\n\n  \nAz érdeklődők az esemény időpontjában az alábbi linken jelentkezhetnek be:   \nhttps://us04web.zoom.us/j/319473186 \n \n  \nAz Európai Üzleti és Technológiai Központ (EBTC)\, a Magyar Kereskedelmi és Iparkamara és a HEPA által működtetett Startup Campus közös szervezésében megvalósul az interaktív üzleti szeminárium „Európai kkv-k és startupok nemzetköziesítése\, az EU üzleti támogatása és a szellemi tulajdon szerepe India vonatkozásában” címmel. \n  \nIdőpont: 2020. március 18.\, szerda 09.00 -11.40 \nHelyszín: 1024 Budapest\, Millenáris Park\, Kis Rókus u.\, D épület  \nNyelv:  angol \n  \nA szeminárium témái: a szellemi tulajdon szerepe a kkv-k és az induló vállalkozások nemzetközivé válási stratégiájában\, az üzleti lehetőségek Indiában és az EU-támogatás\, valamint az indiai szabadalmi ökoszisztéma. \n  \nAz ülésen az indiai piacra való belépés iránt érdeklődő kkv-kat és start-up vállalkozásokat várják szervezők. \n  \nA regisztráció ingyenes\, az érdeklődő cégek a következő linken keresztül tudnak jelentkezni a rendezvényre: https://www.eventbrite.com/e/eu-business-support-and-the-role-of-ip-in-india-tickets-98076913689 \n 
URL:https://pbkik.hu/esemeny/europai-kkv-k-es-startupok-nemzetkoziesitese-az-eu-uzleti-tamogatasa-es-a-szellemi-tulajdon-szerepe-india-vonatkozasaban/
LOCATION:Millenáris Park\, Kis Rókus u.\, D épület\, Kis Rókus u\, Budapest\, 1024\, Magyarország
END:VEVENT
END:VCALENDAR