BEGIN:VCALENDAR
VERSION:2.0
PRODID:-//Pécs-Baranyai Kereskedelmi és Iparkamara - ECPv6.15.20//NONSGML v1.0//EN
CALSCALE:GREGORIAN
METHOD:PUBLISH
X-WR-CALNAME:Pécs-Baranyai Kereskedelmi és Iparkamara
X-ORIGINAL-URL:https://pbkik.hu
X-WR-CALDESC:Események Pécs-Baranyai Kereskedelmi és Iparkamara
REFRESH-INTERVAL;VALUE=DURATION:PT1H
X-Robots-Tag:noindex
X-PUBLISHED-TTL:PT1H
BEGIN:VTIMEZONE
TZID:Europe/Budapest
BEGIN:DAYLIGHT
TZOFFSETFROM:+0100
TZOFFSETTO:+0200
TZNAME:CEST
DTSTART:20230326T010000
END:DAYLIGHT
BEGIN:STANDARD
TZOFFSETFROM:+0200
TZOFFSETTO:+0100
TZNAME:CET
DTSTART:20231029T010000
END:STANDARD
BEGIN:DAYLIGHT
TZOFFSETFROM:+0100
TZOFFSETTO:+0200
TZNAME:CEST
DTSTART:20240331T010000
END:DAYLIGHT
BEGIN:STANDARD
TZOFFSETFROM:+0200
TZOFFSETTO:+0100
TZNAME:CET
DTSTART:20241027T010000
END:STANDARD
BEGIN:DAYLIGHT
TZOFFSETFROM:+0100
TZOFFSETTO:+0200
TZNAME:CEST
DTSTART:20250330T010000
END:DAYLIGHT
BEGIN:STANDARD
TZOFFSETFROM:+0200
TZOFFSETTO:+0100
TZNAME:CET
DTSTART:20251026T010000
END:STANDARD
END:VTIMEZONE
BEGIN:VTIMEZONE
TZID:Europe/Helsinki
BEGIN:DAYLIGHT
TZOFFSETFROM:+0200
TZOFFSETTO:+0300
TZNAME:EEST
DTSTART:20180325T010000
END:DAYLIGHT
BEGIN:STANDARD
TZOFFSETFROM:+0300
TZOFFSETTO:+0200
TZNAME:EET
DTSTART:20181028T010000
END:STANDARD
BEGIN:DAYLIGHT
TZOFFSETFROM:+0200
TZOFFSETTO:+0300
TZNAME:EEST
DTSTART:20190331T010000
END:DAYLIGHT
BEGIN:STANDARD
TZOFFSETFROM:+0300
TZOFFSETTO:+0200
TZNAME:EET
DTSTART:20191027T010000
END:STANDARD
BEGIN:DAYLIGHT
TZOFFSETFROM:+0200
TZOFFSETTO:+0300
TZNAME:EEST
DTSTART:20200329T010000
END:DAYLIGHT
BEGIN:STANDARD
TZOFFSETFROM:+0300
TZOFFSETTO:+0200
TZNAME:EET
DTSTART:20201025T010000
END:STANDARD
BEGIN:DAYLIGHT
TZOFFSETFROM:+0200
TZOFFSETTO:+0300
TZNAME:EEST
DTSTART:20210328T010000
END:DAYLIGHT
BEGIN:STANDARD
TZOFFSETFROM:+0300
TZOFFSETTO:+0200
TZNAME:EET
DTSTART:20211031T010000
END:STANDARD
BEGIN:DAYLIGHT
TZOFFSETFROM:+0200
TZOFFSETTO:+0300
TZNAME:EEST
DTSTART:20220327T010000
END:DAYLIGHT
BEGIN:STANDARD
TZOFFSETFROM:+0300
TZOFFSETTO:+0200
TZNAME:EET
DTSTART:20221030T010000
END:STANDARD
BEGIN:DAYLIGHT
TZOFFSETFROM:+0200
TZOFFSETTO:+0300
TZNAME:EEST
DTSTART:20230326T010000
END:DAYLIGHT
BEGIN:STANDARD
TZOFFSETFROM:+0300
TZOFFSETTO:+0200
TZNAME:EET
DTSTART:20231029T010000
END:STANDARD
END:VTIMEZONE
BEGIN:VEVENT
DTSTART;TZID=Europe/Budapest:20240503T100000
DTEND;TZID=Europe/Budapest:20240503T120000
DTSTAMP:20260419T171811
CREATED:20240416T063940Z
LAST-MODIFIED:20240429T060439Z
UID:10002465-1714730400-1714737600@pbkik.hu
SUMMARY:Merre tart Baranya? – Vállalkozói fórum Mohácson
DESCRIPTION:A Pécs-Baranyai Kereskedelmi és Iparkamara\, valamint Mohács önkormányzata vállalkozói fórumot szervez. \nAz önkormányzatok és vállalkozások együttműködése elengedhetetlen. Fenntartható\, egymásra épülő és illeszkedő fejlesztésekre van szükség a közeljövőben.  Fontos a helyi önkormányzat és a gazdaságfejlesztési zóna tervezett projektjeinek összehangolása. \nA célok megvalósulása érdekében szakmai térségi települési fórumot szervezünk\, amelyen a települési önkormányzat és a térségben működő vállalkozások egyeztetik fejlesztéspolitikai\, konkrét vállalkozói fejlesztési javaslataikat\, illetve szakértők adnak választ a felmerülő kérdésekre kötetlen beszélgetés formájában. \n  \nIdőpont: 2024. május 3. 10.00 \nHelyszín: Házasságkötő terem – Selyemház étterem – 7700 Mohács\, Szent János utca 3.\n \n  \nProgram: \n\nKöszöntő\nPávkovics Gábor polgármester\, Mohács\nDr. Síkfői Tamás elnök\, Pécs-Baranyai Kereskedelmi és Iparkamara\nRabb Szabolcs főtitkár\, Pécs-Baranyai Kereskedelmi és Iparkamara\nTémák\nGazdaságfejlesztési irányok és stratégiai fejlesztések\nA régió meghatározó cégeinek fejlesztései\nA kkv-k fejlesztési és üzletszerzési lehetőségei\, kapcsolódó kamarai szolgáltatások\nHR körkép – Viapan Group\n\n\nKérdezzen Ön is! – kötetlen beszélgetés a szakértőkkel\n\nSzámítunk részvételére\, hiszen mindannyiunk közös érdeke\, hogy együtt cselekedjünk. \nA rendezvényen való részvétel díjmentes\, de regisztrációhoz kötött. \nA rendezvény nem sajtó nyilvános. \nTovábbi információ: Katona Petra 20/9210-612 \nKérjük részvételi szándékát április 26-ig  az alábbi űrlap kitöltésével jelezze. \n\n\n\n\nVállalkozói fórum - Mohács\n\n\n\n\n\n\n\n\nRésztvevő adatai\n\n\n\n    Név\n        *\n    \n    \n    \n    \n\n\n    Résztvevő beosztása\n        *\n    \n    \n    \n    \n\n\n    E-mail\n        *\n    \n    \n    \n    \n\n\n    További résztvevők és beosztásuk\n        \n    \n    \n    \n    \n\n\n\nVállalkozás adatai\n\n\n\n    Cégnév\n        *\n    \n    \n    \n    \n\n\n    Adószám\n        *\n    \n    \n    \n    \n\n\n    Székhely\n        *\n    \n    \n    \n    \n\n\n\n    Kérdezzen Ön is!\n        \n    \n    \n    \n    \n\n\n    Adatkezelési tájékoztató\n        *\n    \n    					\n			 A tájékoztató tartalmát megismertem és elfogadom.\n\n     Adatkezelési tájékoztató \n    \n\n\n	\nBeküldés\n\n\n\n\n\n	\n	\n\n\n\n\n\n\nA projekt a Nemzetgazdasági Minisztérium támogatásával (VF/44/5/2023_PBKIK számú támogatási szerződés szerint) valósul meg.
URL:https://pbkik.hu/esemeny/merre-tart-baranya-vallalkozoi-forum-mohacson/
LOCATION:Mohács\, Magyarország
ATTACH;FMTTYPE=image/png:https://pbkik.hu/wp-content/uploads/2024/04/mohacs.png
END:VEVENT
BEGIN:VEVENT
DTSTART;VALUE=DATE:20220716
DTEND;VALUE=DATE:20220717
DTSTAMP:20260419T171812
CREATED:20220712T082949Z
LAST-MODIFIED:20220712T085801Z
UID:10002225-1657929600-1658015999@pbkik.hu
SUMMARY:IV. Dunamenti Halfesztivál Mohácson
DESCRIPTION:Idén több éves kényszerű kihagyást követően újra megrendezésre kerül a városban a Dunamenti Halfesztivál. 2019-ben a Mohács Idegenforgalmi díjjal kitüntetett szervező csapat\, három helyszínen változatos programokkal várja az érdeklődőket. \n \nBővebb információ: \nIV. Dunamenti Halfesztivál Mohács \nA rendezvényt a kamarai tag Gráf-Trans Bt. is támogatja. \n 
URL:https://pbkik.hu/esemeny/iv-dunamenti-halfesztival-mohacson/
LOCATION:Mohács\, Magyarország
END:VEVENT
BEGIN:VEVENT
DTSTART;TZID=Europe/Helsinki:20190930T100000
DTEND;TZID=Europe/Helsinki:20190930T120000
DTSTAMP:20260419T171812
CREATED:20190926T123454Z
LAST-MODIFIED:20191031T144025Z
UID:10001677-1569837600-1569844800@pbkik.hu
SUMMARY:Munkáltatói fórum Mohácson
DESCRIPTION:A minél hatékonyabb munkaerő utánpótlás érdekében szerveznek Munkáltatói – Vállalkozói Fórumot Mohácson. \n \nSzeptember 30-án\, a Mohácsi Járási Hivatal Foglalkoztatási Osztályának épületében 10.00 órakor kezdődő eseményt a Baranya Megyei Önkormányzat a TOP-5.1.1-15-BA1-2016-00001 kódszámú „Foglalkoztatási Szövetkezés Baranya Felzárkózásáért 2020” című projekt keretében szervezi. \nA fórumon résztvevők a paktum keretében kapható foglalkoztatás ösztönző támogatási lehetőségekről. kapnak majd tájékoztatást. Várják a szervezők\, a paktummal kapcsolatos vállalkozói ötleteket\, igényeket\, valamint a vállalkozókat segítő információkkal kerekasztal beszélgetést is terveznek.
URL:https://pbkik.hu/esemeny/munkaltatoi-forum-mohacson/
LOCATION:Mohács\, Magyarország
END:VEVENT
END:VCALENDAR