BEGIN:VCALENDAR
VERSION:2.0
PRODID:-//Pécs-Baranyai Kereskedelmi és Iparkamara - ECPv6.15.20//NONSGML v1.0//EN
CALSCALE:GREGORIAN
METHOD:PUBLISH
X-WR-CALNAME:Pécs-Baranyai Kereskedelmi és Iparkamara
X-ORIGINAL-URL:https://pbkik.hu
X-WR-CALDESC:Események Pécs-Baranyai Kereskedelmi és Iparkamara
REFRESH-INTERVAL;VALUE=DURATION:PT1H
X-Robots-Tag:noindex
X-PUBLISHED-TTL:PT1H
BEGIN:VTIMEZONE
TZID:Europe/Budapest
BEGIN:DAYLIGHT
TZOFFSETFROM:+0100
TZOFFSETTO:+0200
TZNAME:CEST
DTSTART:20230326T010000
END:DAYLIGHT
BEGIN:STANDARD
TZOFFSETFROM:+0200
TZOFFSETTO:+0100
TZNAME:CET
DTSTART:20231029T010000
END:STANDARD
BEGIN:DAYLIGHT
TZOFFSETFROM:+0100
TZOFFSETTO:+0200
TZNAME:CEST
DTSTART:20240331T010000
END:DAYLIGHT
BEGIN:STANDARD
TZOFFSETFROM:+0200
TZOFFSETTO:+0100
TZNAME:CET
DTSTART:20241027T010000
END:STANDARD
BEGIN:DAYLIGHT
TZOFFSETFROM:+0100
TZOFFSETTO:+0200
TZNAME:CEST
DTSTART:20250330T010000
END:DAYLIGHT
BEGIN:STANDARD
TZOFFSETFROM:+0200
TZOFFSETTO:+0100
TZNAME:CET
DTSTART:20251026T010000
END:STANDARD
BEGIN:DAYLIGHT
TZOFFSETFROM:+0100
TZOFFSETTO:+0200
TZNAME:CEST
DTSTART:20260329T010000
END:DAYLIGHT
BEGIN:STANDARD
TZOFFSETFROM:+0200
TZOFFSETTO:+0100
TZNAME:CET
DTSTART:20261025T010000
END:STANDARD
END:VTIMEZONE
BEGIN:VEVENT
DTSTART;TZID=Europe/Budapest:20250630T100000
DTEND;TZID=Europe/Budapest:20250630T113000
DTSTAMP:20260425T125116
CREATED:20250619T053350Z
LAST-MODIFIED:20250619T082007Z
UID:10003125-1751277600-1751283000@pbkik.hu
SUMMARY:Fedezze fel az építőipar jövőjét a Circular DigiBuild segítségével!
DESCRIPTION:Csatlakozzon az építőipart a fenntartható és körkörös gyakorlatok révén átalakító innovatív kezdeményezéshez. A Circular DigiBuild a digitális technológiákat használja ki az erőforrás-felhasználás optimalizálására\, a hulladék minimalizálására és a környezetbarát építési megoldások népszerűsítésére a Duna menti régiókban. \nEzen fejlesztések bemutatása és a politikai döntéshozók bevonása érdekében 2025. június 30-án online\, a Teams platformon tematikus nyílt webináriumot tartanak „Danube Policies for a Cleaner Construction”címmel. Ez a webinárium értékes lehetőséget kínál a politikai döntéshozók és az érdekelt felek számára\, hogy megismerjék a zöldebb építés innovatív stratégiáit. \nA részvétel ingyenes de előzetes regisztrációhoz kötött. \nRegisztráció: https://forms.office.com/Pages/ResponsePage.aspx?id=Atq4iaY5H0eRdj9dqk6Od0mG7b3RafVNnUc97wxJlWZUNjZZSko0Q00wTktXRkhGQ0xZVVhPVU1OWC4u \nIdőpont: 2025.06.30. 10.00-11.30 \nHelyszín: Online (Teams alkalmazás) \nA workshop nyelve\, angol! \nA „The review” címet viselő tanulmány a Duna-régió országaiban a tiszta építési gyakorlatok innovációjának előmozdításával kapcsolatos politikákat vizsgálja\, hangsúlyt fektetve a digitalizációra és a körforgásos gazdasági megközelítésekre. Elemzi a meglévő kutatási és innovációs stratégiákat az intelligens szakosodásért (RIS3) és a kiegészítő szakpolitikákat\, hogy azonosítsa a hiányosságokat\, a kihívásokat és az átvihető legjobb gyakorlatokat. \nLegyen részese a változásnak – járuljon hozzá az intelligensebb\, zöldebb építési gyakorlatokhoz\, amelyek a közösségek és a környezet javát szolgálják. \nBővebb információ a Circular DigiBuild projektről: https://interreg-danube.eu/projects/circular-digibuild \n\n 
URL:https://pbkik.hu/esemeny/fedezze-fel-az-epitoipar-jovojet-a-circular-digibuild-segitsegevel/
LOCATION:Online – Teams
ATTACH;FMTTYPE=image/png:https://pbkik.hu/wp-content/uploads/2024/11/logo_Circular-DigiBuild-RGB.png
END:VEVENT
BEGIN:VEVENT
DTSTART;TZID=Europe/Budapest:20240627T110000
DTEND;TZID=Europe/Budapest:20240627T120000
DTSTAMP:20260425T125116
CREATED:20240607T075859Z
LAST-MODIFIED:20240801T111652Z
UID:10002953-1719486000-1719489600@pbkik.hu
SUMMARY:Fenntarthatósági workshop
DESCRIPTION:Szeretnénk meghívni Önt a Budapesti Kereskedelmi és Iparkamara\, az Ifjúsági Vállalkozásélénkítő Egyesület és a BDO Magyarország ESG Tanácsadó Kft. által szervezett Fenntarthatósági workshopra. \n \nA Budapesti Kereskedelmi és Iparkamara és az Ifjúsági Vállalkozásélénkítő Egyesület együttműködésében\, valamint a BDO Magyarország ESG Tanácsadó Kft. közreműködésével megvalósuló program célja\, hogy a kis-és középvállalkozások vezetői számára a növekedésük szempontjából hasznos témákban rövid videós anyagokat állítsanak össze. \nIdőpont: 2024.06.27. 11:00-12:00 \nHelyszín: Online – Teams \nA program keretében 4 témakört járnak körbe (Fenntarthatóság\, Compliance\, Üzleti tudatosság\, Hálózatosodás)\, a június 27-én esedékes workshop a fenntarthatósággal foglalkozik. A témakörön belül körforgásos gazdaság\, zöld finanszírozás\, beszállítói megfelelés\, és az ESG felkészülés előnyei résztémák kidolgozását tervezik. \nA tananyag szakmai színvonala és gyakorlatiassága szempontjából számítanak az Ön észrevételeire\, javaslataira. A workshop keretében a témaköröket közösen vállalkozók\, szakértők\, kamarai tisztségviselők\, egyetemi oktatók dolgozzák fel\, a tanulságokat pedig a készülő videók forgatókönyveibe építik be. \nRészvétele kifejezetten fontos számunkra\, ezért kérjük szíveskedjen visszajelezni\, hogy számíthatunk-e Önre az online workshopon. Szakmai támogatását előre is köszönjük! \n\n\n\n\n2024.06.27. BKIK fenntarthatósági workshop\n\n\n\n\n\n\n\n\n	Cég / szervezet neve\n		*\n	\n	\n	\n	\n\n\n	Résztvevő neve\n		*\n	\n	\n	\n	\n\n\n	Résztvevő email címe\n		*\n	\n	\n	\n	\n\n\n	\nBeküldés
URL:https://pbkik.hu/esemeny/fenntarthatosagi-workshop/
LOCATION:Online – Teams
END:VEVENT
END:VCALENDAR