BEGIN:VCALENDAR
VERSION:2.0
PRODID:-//Pécs-Baranyai Kereskedelmi és Iparkamara - ECPv6.15.20//NONSGML v1.0//EN
CALSCALE:GREGORIAN
METHOD:PUBLISH
X-WR-CALNAME:Pécs-Baranyai Kereskedelmi és Iparkamara
X-ORIGINAL-URL:https://pbkik.hu
X-WR-CALDESC:Események Pécs-Baranyai Kereskedelmi és Iparkamara
REFRESH-INTERVAL;VALUE=DURATION:PT1H
X-Robots-Tag:noindex
X-PUBLISHED-TTL:PT1H
BEGIN:VTIMEZONE
TZID:Europe/Helsinki
BEGIN:DAYLIGHT
TZOFFSETFROM:+0200
TZOFFSETTO:+0300
TZNAME:EEST
DTSTART:20190331T010000
END:DAYLIGHT
BEGIN:STANDARD
TZOFFSETFROM:+0300
TZOFFSETTO:+0200
TZNAME:EET
DTSTART:20191027T010000
END:STANDARD
BEGIN:DAYLIGHT
TZOFFSETFROM:+0200
TZOFFSETTO:+0300
TZNAME:EEST
DTSTART:20200329T010000
END:DAYLIGHT
BEGIN:STANDARD
TZOFFSETFROM:+0300
TZOFFSETTO:+0200
TZNAME:EET
DTSTART:20201025T010000
END:STANDARD
BEGIN:DAYLIGHT
TZOFFSETFROM:+0200
TZOFFSETTO:+0300
TZNAME:EEST
DTSTART:20210328T010000
END:DAYLIGHT
BEGIN:STANDARD
TZOFFSETFROM:+0300
TZOFFSETTO:+0200
TZNAME:EET
DTSTART:20211031T010000
END:STANDARD
END:VTIMEZONE
BEGIN:VEVENT
DTSTART;VALUE=DATE:20200325
DTEND;VALUE=DATE:20200328
DTSTAMP:20260419T162817
CREATED:20200124T134037Z
LAST-MODIFIED:20200124T134743Z
UID:10002003-1585094400-1585353599@pbkik.hu
SUMMARY:Első Pakisztáni Magyar Üzleti Fórum és B2B találkozó
DESCRIPTION:A HEPA Magyar Exportfejlesztési Ügynökség Nonprofit Zrt. (HEPA) és a Pakisztáni Magyar Nagykövetség szervezésében kerül megrendezésre az első Pakisztáni Magyar Üzleti Fórum és B2B találkozómárcius 25-27-én Pakisztánban. \n \nAz exportorientált cégek részére a következő területeken kínálkoznak piaci lehetőségek: \n\nMezőgazdasági technológiák\nÉlelmiszer-feldolgozás\nHalgazdálkodás\, Állattenyésztés\nKörnyezetipar\, vízipar\, szennyvízkezelés\nEgészségipar\nITC\n\n  \nDokumentumok: \n\nMagyar és angol nyelvű meghívó banner\nMeghívó\nJelentkezési regisztrációs lap\, mely a vállalati online regisztráció során kerül kitöltésre.\nOrszágismertető\n\n  \nA cégek részvételi szándékukat a regisztrációs felület kitöltésén keresztül jelezhetik legkésőbb 2020. február 03-án éjfélig. \nA jelentkezéssel és a  rendezvénnyel kapcsolatosan\, az érdeklődők forduljanak a nagykövetség külgazdasági attaséjához\, Dr. Grafjódi Istvánhoz istvan.grafjodi@mfa.gov.hu vagy a HEPA-hoz a rendezveny@hepa.hu e-mail címen.
URL:https://pbkik.hu/esemeny/elso-pakisztani-magyar-uzleti-forum-es-b2b-talalkozo/
LOCATION:Pakisztán\, Pakisztán
ATTACH;FMTTYPE=image/jpeg:https://pbkik.hu/wp-content/uploads/2019/02/HEPA.jpg
END:VEVENT
END:VCALENDAR