BEGIN:VCALENDAR
VERSION:2.0
PRODID:-//Pécs-Baranyai Kereskedelmi és Iparkamara - ECPv6.15.20//NONSGML v1.0//EN
CALSCALE:GREGORIAN
METHOD:PUBLISH
X-WR-CALNAME:Pécs-Baranyai Kereskedelmi és Iparkamara
X-ORIGINAL-URL:https://pbkik.hu
X-WR-CALDESC:Események Pécs-Baranyai Kereskedelmi és Iparkamara
REFRESH-INTERVAL;VALUE=DURATION:PT1H
X-Robots-Tag:noindex
X-PUBLISHED-TTL:PT1H
BEGIN:VTIMEZONE
TZID:Europe/Budapest
BEGIN:DAYLIGHT
TZOFFSETFROM:+0100
TZOFFSETTO:+0200
TZNAME:CEST
DTSTART:20240331T010000
END:DAYLIGHT
BEGIN:STANDARD
TZOFFSETFROM:+0200
TZOFFSETTO:+0100
TZNAME:CET
DTSTART:20241027T010000
END:STANDARD
BEGIN:DAYLIGHT
TZOFFSETFROM:+0100
TZOFFSETTO:+0200
TZNAME:CEST
DTSTART:20250330T010000
END:DAYLIGHT
BEGIN:STANDARD
TZOFFSETFROM:+0200
TZOFFSETTO:+0100
TZNAME:CET
DTSTART:20251026T010000
END:STANDARD
BEGIN:DAYLIGHT
TZOFFSETFROM:+0100
TZOFFSETTO:+0200
TZNAME:CEST
DTSTART:20260329T010000
END:DAYLIGHT
BEGIN:STANDARD
TZOFFSETFROM:+0200
TZOFFSETTO:+0100
TZNAME:CET
DTSTART:20261025T010000
END:STANDARD
END:VTIMEZONE
BEGIN:VEVENT
DTSTART;VALUE=DATE:20250313
DTEND;VALUE=DATE:20250315
DTSTAMP:20260419T215806
CREATED:20250203T085628Z
LAST-MODIFIED:20250203T094519Z
UID:10003035-1741824000-1741996799@pbkik.hu
SUMMARY:MBM Tourism Prague 2025 – személyes és online üzletember találkozó
DESCRIPTION:Az MBM Tourism Prague immáron 6. alkalommal\, ebben az évben is online és személyes formában is megrendezésre kerül. Az Enterprise Europe Network által szervezett nemzetközi üzletember találkozó a turizmusban\, vendéglátásban dolgozó szereplők számára szól – a találkozó során előre lefoglalt személyes és virtuális üzleti tárgyalásokat bonyolíthatnak le a résztvevők. \n \nAz első nap on-line formában lesz lehetőség tárgyalásokat lebonyolítani\, a második nap pedig Prágában\, a helyszínen a Holiday World & Region World nemzetközi turisztikai vásár keretében\, mely Csehország legfontosabb turisztikai és utazási vására. \n\nProgram \n\n2025. március 13. 10:00 – 16:00 – Előre lefoglalt online tárgyalások\n2025. március 14. 10:15 – 15:30 – Előre lefoglalt személyes\, helyszíni tárgyalások (Helyszín: PVA Expo Praha – Prága\, Csehország)\n\nÉrintett szektorok: \n\nUtazási irodák és utazásszervezők\nSzállás és vendéglátás\nGyógyfürdők\, pihenő- és wellness-központok\, gyógyturizmus\nKözlekedés és fenntartható mobilitás\nDigitális megoldások a turizmus számára\nTurizmust támogató szolgáltatások\nÚj trendek\, projektpartnerség\nKulturális örökség\, felújítások és restaurálások\nA turizmus és a kulturális örökség területén tevékenykedő érdekeltek\n\nA regisztráció és a részvétel ingyenes. \nRegisztráció és további információk ezen a linken: \nREGISZTRÁCIÓ
URL:https://pbkik.hu/esemeny/mbm-tourism-prague-2025-szemelyes-es-online-uzletember-talalkozo/
LOCATION:PVA Expo Praha\, Prága\, Czech Republic
CATEGORIES:EEN események
ATTACH;FMTTYPE=image/jpeg:https://pbkik.hu/wp-content/uploads/2021/08/8372704553-cce85f0686.jpg
END:VEVENT
END:VCALENDAR