BEGIN:VCALENDAR
VERSION:2.0
PRODID:-//Pécs-Baranyai Kereskedelmi és Iparkamara - ECPv6.15.20//NONSGML v1.0//EN
CALSCALE:GREGORIAN
METHOD:PUBLISH
X-ORIGINAL-URL:https://pbkik.hu
X-WR-CALDESC:Események Pécs-Baranyai Kereskedelmi és Iparkamara
REFRESH-INTERVAL;VALUE=DURATION:PT1H
X-Robots-Tag:noindex
X-PUBLISHED-TTL:PT1H
BEGIN:VTIMEZONE
TZID:Europe/Budapest
BEGIN:DAYLIGHT
TZOFFSETFROM:+0100
TZOFFSETTO:+0200
TZNAME:CEST
DTSTART:20250330T010000
END:DAYLIGHT
BEGIN:STANDARD
TZOFFSETFROM:+0200
TZOFFSETTO:+0100
TZNAME:CET
DTSTART:20251026T010000
END:STANDARD
BEGIN:DAYLIGHT
TZOFFSETFROM:+0100
TZOFFSETTO:+0200
TZNAME:CEST
DTSTART:20260329T010000
END:DAYLIGHT
BEGIN:STANDARD
TZOFFSETFROM:+0200
TZOFFSETTO:+0100
TZNAME:CET
DTSTART:20261025T010000
END:STANDARD
BEGIN:DAYLIGHT
TZOFFSETFROM:+0100
TZOFFSETTO:+0200
TZNAME:CEST
DTSTART:20270328T010000
END:DAYLIGHT
BEGIN:STANDARD
TZOFFSETFROM:+0200
TZOFFSETTO:+0100
TZNAME:CET
DTSTART:20271031T010000
END:STANDARD
END:VTIMEZONE
BEGIN:VTIMEZONE
TZID:Europe/Helsinki
BEGIN:DAYLIGHT
TZOFFSETFROM:+0200
TZOFFSETTO:+0300
TZNAME:EEST
DTSTART:20200329T010000
END:DAYLIGHT
BEGIN:STANDARD
TZOFFSETFROM:+0300
TZOFFSETTO:+0200
TZNAME:EET
DTSTART:20201025T010000
END:STANDARD
BEGIN:DAYLIGHT
TZOFFSETFROM:+0200
TZOFFSETTO:+0300
TZNAME:EEST
DTSTART:20210328T010000
END:DAYLIGHT
BEGIN:STANDARD
TZOFFSETFROM:+0300
TZOFFSETTO:+0200
TZNAME:EET
DTSTART:20211031T010000
END:STANDARD
BEGIN:DAYLIGHT
TZOFFSETFROM:+0200
TZOFFSETTO:+0300
TZNAME:EEST
DTSTART:20220327T010000
END:DAYLIGHT
BEGIN:STANDARD
TZOFFSETFROM:+0300
TZOFFSETTO:+0200
TZNAME:EET
DTSTART:20221030T010000
END:STANDARD
END:VTIMEZONE
BEGIN:VEVENT
DTSTART;TZID=Europe/Budapest:20260325T130000
DTEND;TZID=Europe/Budapest:20260325T160000
DTSTAMP:20260419T200727
CREATED:20260203T150437Z
LAST-MODIFIED:20260316T134729Z
UID:10003287-1774443600-1774454400@pbkik.hu
SUMMARY:Női vezetők és fenntarthatóság - Filmvetítés és Üzletasszony klubtalálkozó
DESCRIPTION:A Pécs-Baranyai Kereskedelmi és Iparkamara hosszú szünet után új lendülettel újraindítja Üzletasszony Klubját. A 2026. március 25-i nyitóesemény két részből áll: az Apolló Klubmoziban a Women of Carbon című dokumentumfilm vetítésére kerül sor\, majd ezt követően klubtalálkozó várja az érdeklődőket a Reggeli Pécs különtermében. A program célja\, hogy közösséget építsen\, valamint kijelölje azokat a kérdésköröket\, amelyek a női vállalkozók számára a legfontosabbak. Az esemény egyben kapcsolódik a PBKIK nemzetközi WOMEX projektjéhez is\, amely új lehetőségeket nyit a női vállalkozások támogatásában. \n \n\nA Women of Carbon dokumentumfilm az építőiparban vezető szerepet betöltő női szakembereket mutatja be\, akik elkötelezettek a fenntarthatóság iránt. Innovatív megoldásaikkal – új anyagok\, biotechnológiák és gyártási módszerek alkalmazásával – a beépített környezet karbonlábnyomának csökkentésén dolgoznak.\nA film alkotója\, Basia Myszynski\, maga is nőként dolgozik egy férfiak által dominált iparágban. Kutatásai során olyan problémamegoldókat talált\, akik nyugodtan\, kreatívan és együttműködve keresnek megoldásokat az épített környezet karbonlábnyomának csökkentésére. \nA film kiemeli a nők meghatározó szerepét: személyes történeteik\, közös bölcsességük és kitartásuk révén új szemléletet hoznak a klímavédelembe. A nemi egyenlőséget és a környezeti igazságosságot összekapcsolva mutatnak utat egy fenntarthatóbb jövő felé. A Women of Carbon nem csupán technológiai és iparági megoldásokat mutat be\, hanem a női vezetők erejét is\, akik képesek átalakítani az építőipart és utat nyitni egy fenntarthatóbb jövő felé. \nA film előzetese: \nTovábbi információ a fimlről és a szereplőkről elérhető a film hivatalos oldalán. \nRegisztráció\nKöszönjük a rendezvény iránti nagy érdeklődést. A filmvetítésre és az Üzletasszony Klub eseményére a rendelkezésre álló férőhelyek beteltek\, ezért további jelentkezéseket nem tudunk fogadni. \nAmennyiben szeretne értesülni a Klub tevékenységéről és a jövőbeni programokról\, kérjük jelezze érdeklődését az uzletasszonyklub@pbkik.hu e-mail címen. \n\nA vetítésben közreműködik:
URL:https://pbkik.hu/esemeny/noi-vezetok-es-fenntarthatosag-filmvetites-es-uzletasszony-klubtalalkozo/
LOCATION:Apolló Mozi\, Perczel Miklós u. 22.\, Pécs\, 7621\, Magyarország
CATEGORIES:Ajánló,Kamarai rendezvény,Üzletasszony Klub rendezvény
ATTACH;FMTTYPE=image/jpeg:https://pbkik.hu/wp-content/uploads/2026/02/Women-of-carbon-poster.jpg
END:VEVENT
BEGIN:VEVENT
DTSTART;TZID=Europe/Helsinki:20211013T150000
DTEND;TZID=Europe/Helsinki:20211013T170000
DTSTAMP:20260419T200727
CREATED:20211005T064742Z
LAST-MODIFIED:20211012T112439Z
UID:10002106-1634137200-1634144400@pbkik.hu
SUMMARY:Először a szemeddel eszel - snassz tálalás helyett ételdizájn "Vállalkozói pódium"
DESCRIPTION:Helyszín: Reggeli (7621 Pécs\, Király u. 23-25.) \nAki kérdez:  \nKis Tünde újságíró \nAki válaszol:  \nKántor Éva\, csokimester\, Heaven Chocolate and More \nMiseta Zoltán\, étteremtulajdonos\, Blöff Bisztró \nA szakmai beszélgetésre a Pécs-Baranyai Kereskedelmi és Iparkamara Kis- és Középvállalkozás Fejlesztési Bizottsága szervezésében a DesignPécs keretein belül kerül sor. \nA rendezvényen való részvétel díjmentes\, de regisztrációhoz kötött. Jelentkezési határidő: 2021. október 12. \nTovábbi információ és jelentkezés: Katona Petra katona.petra@pbkik.hu \n  \n 
URL:https://pbkik.hu/esemeny/eloszor-a-szemeddel-eszel-snassz-talalas-helyett-eteldizajn-vallalkozoi-podium/
LOCATION:Reggeli\, Király u. 23-25.\, Pécs\, Baranya\, 7621\, Magyarország
END:VEVENT
END:VCALENDAR