BEGIN:VCALENDAR
VERSION:2.0
PRODID:-//Pécs-Baranyai Kereskedelmi és Iparkamara - ECPv6.15.20//NONSGML v1.0//EN
CALSCALE:GREGORIAN
METHOD:PUBLISH
X-WR-CALNAME:Pécs-Baranyai Kereskedelmi és Iparkamara
X-ORIGINAL-URL:https://pbkik.hu
X-WR-CALDESC:Események Pécs-Baranyai Kereskedelmi és Iparkamara
REFRESH-INTERVAL;VALUE=DURATION:PT1H
X-Robots-Tag:noindex
X-PUBLISHED-TTL:PT1H
BEGIN:VTIMEZONE
TZID:Europe/Budapest
BEGIN:DAYLIGHT
TZOFFSETFROM:+0100
TZOFFSETTO:+0200
TZNAME:CEST
DTSTART:20240331T010000
END:DAYLIGHT
BEGIN:STANDARD
TZOFFSETFROM:+0200
TZOFFSETTO:+0100
TZNAME:CET
DTSTART:20241027T010000
END:STANDARD
BEGIN:DAYLIGHT
TZOFFSETFROM:+0100
TZOFFSETTO:+0200
TZNAME:CEST
DTSTART:20250330T010000
END:DAYLIGHT
BEGIN:STANDARD
TZOFFSETFROM:+0200
TZOFFSETTO:+0100
TZNAME:CET
DTSTART:20251026T010000
END:STANDARD
BEGIN:DAYLIGHT
TZOFFSETFROM:+0100
TZOFFSETTO:+0200
TZNAME:CEST
DTSTART:20260329T010000
END:DAYLIGHT
BEGIN:STANDARD
TZOFFSETFROM:+0200
TZOFFSETTO:+0100
TZNAME:CET
DTSTART:20261025T010000
END:STANDARD
END:VTIMEZONE
BEGIN:VEVENT
DTSTART;TZID=Europe/Budapest:20251014T150000
DTEND;TZID=Europe/Budapest:20251014T180000
DTSTAMP:20260420T042333
CREATED:20250805T134157Z
LAST-MODIFIED:20250922T085230Z
UID:10003159-1760454000-1760464800@pbkik.hu
SUMMARY:Új alkotótárs vagy versenytárs? Az AI jövője a kreatív iparban - Kreatív Ipari Klaszter minikonferencia
DESCRIPTION:A Kulturális Kreatív Ipari Klaszter szervezésében került megrendezésre a minikonferencia\, melynek témája: az AI használata a kreatív iparban. \n  \n \nKreatív Ipari Klaszter\nIdőpont: 2025. október 14. 15:00\nHelyszín: Salone Medici @ Ciao Ristorante (7622 Pécs\, Verseny utca 1 | salonemedici.hu) \n  \n\n\n\nIdőpont\nElőadás\nElőadó\n\n\n15:00\nMegnyitó\nKeresnyei János a Kreatív Ipari Klaszter elnöke\n\n\n15:10\nKreatív vállalkozások sajátosságai és kihívásai\nDr. Kovács Éva egyetemi docens\, PTE MIK\n\n\n15:20\n„Sziasztok emberek!” – Köszöntő az AI-tól\nBíró Ada a Duna Televízió AI műsorvezetője\n\n\n15:25\nÚj alkotótárs vagy versenytárs? Az AI jövője a kreatív iparban\nUrbán Ernő a Bíró Ada team vezetője\n\n\n15:55\nMit mond a szakma? – A CREMEL 2.0 kutatás eredményei a kreatív ipari szereplők hozzáállásáról az AI-hoz\nSára Barnabás a KIKK Egyesület projektmenedzsere\n\n\n16:10\nMi lesz a szerzői jogainkkal az AI használatakor?\nDr. Csősz Gergely SZTNH – Szerzői Jogi Főosztály osztályvezetője\n\n\n16:40\nPanelbeszélgetés és Q&A\nNyitott párbeszéd: lehetséges irányok\, kihívások és lehetőségek az AI-kreatívipari együttműködés területén\n\n\n17:40\nZárás – Networking\, kötetlen beszélgetés\n\n\n18:15\nKlasztertalálkozó\nA találkozóra szeretettel várjuk klaszterünk jelenlegi és jövőbeli tagjait\, valamint minden érdeklődőt!\n\n\n\nA rendezvényen való részvétel díjmentes de regisztrációhoz kötött: https://www.kikk.hu/designpecs \nTovábbi információ a szervezőről: \n\n\n\n\n\n\n\n\nVárjuk a DesignPécs további eseményeire is!
URL:https://pbkik.hu/esemeny/kreativaipariklaszter/
LOCATION:Salone Medici @ Ciao Ristorante\, Verseny utca 1\, Pécs\, 7622
CATEGORIES:DesignPécs
ATTACH;FMTTYPE=image/png:https://pbkik.hu/wp-content/uploads/2025/08/alkototars-vagy-versenytars_designpecs.png
END:VEVENT
END:VCALENDAR