BEGIN:VCALENDAR
VERSION:2.0
PRODID:-//Pécs-Baranyai Kereskedelmi és Iparkamara - ECPv6.15.20//NONSGML v1.0//EN
CALSCALE:GREGORIAN
METHOD:PUBLISH
X-WR-CALNAME:Pécs-Baranyai Kereskedelmi és Iparkamara
X-ORIGINAL-URL:https://pbkik.hu
X-WR-CALDESC:Események Pécs-Baranyai Kereskedelmi és Iparkamara
REFRESH-INTERVAL;VALUE=DURATION:PT1H
X-Robots-Tag:noindex
X-PUBLISHED-TTL:PT1H
BEGIN:VTIMEZONE
TZID:Europe/Helsinki
BEGIN:DAYLIGHT
TZOFFSETFROM:+0200
TZOFFSETTO:+0300
TZNAME:EEST
DTSTART:20180325T010000
END:DAYLIGHT
BEGIN:STANDARD
TZOFFSETFROM:+0300
TZOFFSETTO:+0200
TZNAME:EET
DTSTART:20181028T010000
END:STANDARD
BEGIN:DAYLIGHT
TZOFFSETFROM:+0200
TZOFFSETTO:+0300
TZNAME:EEST
DTSTART:20190331T010000
END:DAYLIGHT
BEGIN:STANDARD
TZOFFSETFROM:+0300
TZOFFSETTO:+0200
TZNAME:EET
DTSTART:20191027T010000
END:STANDARD
BEGIN:DAYLIGHT
TZOFFSETFROM:+0200
TZOFFSETTO:+0300
TZNAME:EEST
DTSTART:20200329T010000
END:DAYLIGHT
BEGIN:STANDARD
TZOFFSETFROM:+0300
TZOFFSETTO:+0200
TZNAME:EET
DTSTART:20201025T010000
END:STANDARD
END:VTIMEZONE
BEGIN:VEVENT
DTSTART;TZID=Europe/Helsinki:20190516T163000
DTEND;TZID=Europe/Helsinki:20190516T183000
DTSTAMP:20260420T011843
CREATED:20190513T132549Z
LAST-MODIFIED:20190919T132408Z
UID:10001627-1558024200-1558031400@pbkik.hu
SUMMARY:Helyi pályázati lehetőségek Szigetváron
DESCRIPTION:A Szigetvári Helyi Közösség munkaszervezete szakmai fórumot szervez az érdeklődő leendő pályázóknak\, az aktuális helyi pályázati felhívások bemutatására valamint a pályázók körében felmerült kérdések megválaszolására. \nA fórum helyszíne és időpontja: Szigetvár\, Vigadó Kulturális Központ\, 2019. május 16. (csütörtök) 16.30 óra. \nAmennyiben előzetesen bármilyen kérdés felmerül\, a clldszigetvar@gmail.com címen állnak rendelkezésre.\nA felhívások elérhetők az alábbi linken: \nhttp://www.clldszigetvar.hu/aktualis_felhivasok
URL:https://pbkik.hu/esemeny/helyi-palyazati-lehetosegek-szigetvaron/
LOCATION:Szigetvár\, Magyarország
END:VEVENT
BEGIN:VEVENT
DTSTART;TZID=Europe/Helsinki:20190507T080000
DTEND;TZID=Europe/Helsinki:20190507T163000
DTSTAMP:20260420T011843
CREATED:20190426T065607Z
LAST-MODIFIED:20190426T065607Z
UID:10001768-1557216000-1557246600@pbkik.hu
SUMMARY:Szakmák VR szemüvegen keresztül Szigetváron
DESCRIPTION:Cserélj kereket egy autószerelő műhelyben és önts olajat az autóba! \nTervezz ruhát egy divatszalonban! \nTörd össze a tányérokat az étteremben \nTeleportálj téglát egymásra az építkezésen! \n  \nSzakmavilág Roadshow elnevezésű országos rendezvény állomása lesz Szigetvár 2019. május 7-én. A rendezvény elsődleges célcsoportja a pályaválasztás előtt álló hetedik és nyolcadik osztályos diákok. A programsorozat a Magyar Kereskedelmi és Iparkamara szervezésében az ország területét körbejárva 20 városban segíti a pályaválasztás előtt állókat információszerzésben. A résztvevők a kamionban VR szemüvegen keresztül kapnak ízelítőt a munka világából és 4 különböző területen (építőipar\, vendéglátás\, divatipar és gépjárműipar) próbálhatják ki magukat. Ütemezéssel 8 fős csoportokban\, 8 perc VR játékra van lehetőségük.
URL:https://pbkik.hu/esemeny/szakmak-vr-szemuvegen-keresztul-szigetvaron/
LOCATION:Szigetvár\, Magyarország
ATTACH;FMTTYPE=image/jpeg:https://pbkik.hu/wp-content/uploads/2019/04/vr_plakat_szigetvar_1.jpg
ORGANIZER;CN="Purger Val%C3%A9ria%2C p%C3%A1lyaorient%C3%A1ci%C3%B3s tan%C3%A1csad%C3%B3":MAILTO:purger.valeria@pbkik.hu
END:VEVENT
END:VCALENDAR