BEGIN:VCALENDAR
VERSION:2.0
PRODID:-//Pécs-Baranyai Kereskedelmi és Iparkamara - ECPv6.15.20//NONSGML v1.0//EN
CALSCALE:GREGORIAN
METHOD:PUBLISH
X-WR-CALNAME:Pécs-Baranyai Kereskedelmi és Iparkamara
X-ORIGINAL-URL:https://pbkik.hu
X-WR-CALDESC:Események Pécs-Baranyai Kereskedelmi és Iparkamara
REFRESH-INTERVAL;VALUE=DURATION:PT1H
X-Robots-Tag:noindex
X-PUBLISHED-TTL:PT1H
BEGIN:VTIMEZONE
TZID:Europe/Budapest
BEGIN:DAYLIGHT
TZOFFSETFROM:+0100
TZOFFSETTO:+0200
TZNAME:CEST
DTSTART:20230326T010000
END:DAYLIGHT
BEGIN:STANDARD
TZOFFSETFROM:+0200
TZOFFSETTO:+0100
TZNAME:CET
DTSTART:20231029T010000
END:STANDARD
BEGIN:DAYLIGHT
TZOFFSETFROM:+0100
TZOFFSETTO:+0200
TZNAME:CEST
DTSTART:20240331T010000
END:DAYLIGHT
BEGIN:STANDARD
TZOFFSETFROM:+0200
TZOFFSETTO:+0100
TZNAME:CET
DTSTART:20241027T010000
END:STANDARD
BEGIN:DAYLIGHT
TZOFFSETFROM:+0100
TZOFFSETTO:+0200
TZNAME:CEST
DTSTART:20250330T010000
END:DAYLIGHT
BEGIN:STANDARD
TZOFFSETFROM:+0200
TZOFFSETTO:+0100
TZNAME:CET
DTSTART:20251026T010000
END:STANDARD
END:VTIMEZONE
BEGIN:VEVENT
DTSTART;VALUE=DATE:20241011
DTEND;VALUE=DATE:20241012
DTSTAMP:20260419T155433
CREATED:20240731T065023Z
LAST-MODIFIED:20240807T082922Z
UID:10002508-1728604800-1728691199@pbkik.hu
SUMMARY:B2B találkozók a KOSICT - Technology Festival 2024 keretein belül
DESCRIPTION:A Prishtina REA és az Enterprise Europe Network Kosovó – a STIKK-kal együttműködve – B2B partnerkereső eseményt szervez\, amely összehozza a nemzetközi és helyi IKT-üzletágak támogatóit 2024. október 11-én a KOSICT – Technology Festival 2024 keretében\, a különböző innovációs létesítmények fejlesztésének és irányításának sikertényezőire és kihívásaira\, a vállalkozások\, a start-upok és a digitális nomádok közösségi felhasználóinak tanulságaira\, valamint az innovációs kapacitás kihasználására összpontosítva a Nyugat-Balkán digitális és zöld törekvéseinek megvalósítása érdekében. \nEz a speciálisan kialakított B2B lehetővé teszi a regisztrált résztvevők számára\, hogy azonosítsák az őket érdeklő termékeket és szolgáltatásokat\, miközben kéréseket küldenek az érintett vállalatoknak az előre tervezett találkozók megszervezésére. \nIdőpont: 2024. október 11.\nHelyszín: Koszovó\, Tech Park Prishtina\, Bërnicë eEpërme\, 10000 Prishtinë \nA rendezvény weboldala \nCélágazatok: \n\nIKT és digitális ágazat\nElektronikus szolgáltatások\nGyártás\nTiszta energia\nEgészségügy\nKreatív iparágak\n\nREGISZTRÁCIÓ \nTovábbi információ
URL:https://pbkik.hu/esemeny/b2b-talalkozok-a-kosict-technology-festival-2024-keretein-belul-2/
LOCATION:Tech Park Prishtina\, Bërnicë eEpërme\, Prishtinë\, 10000
ATTACH;FMTTYPE=image/jpeg:https://pbkik.hu/wp-content/uploads/2024/07/kosict-scaled.jpg
END:VEVENT
END:VCALENDAR