BEGIN:VCALENDAR
VERSION:2.0
PRODID:-//Pécs-Baranyai Kereskedelmi és Iparkamara - ECPv6.15.20//NONSGML v1.0//EN
CALSCALE:GREGORIAN
METHOD:PUBLISH
X-ORIGINAL-URL:https://pbkik.hu
X-WR-CALDESC:Események Pécs-Baranyai Kereskedelmi és Iparkamara
REFRESH-INTERVAL;VALUE=DURATION:PT1H
X-Robots-Tag:noindex
X-PUBLISHED-TTL:PT1H
BEGIN:VTIMEZONE
TZID:Europe/Budapest
BEGIN:DAYLIGHT
TZOFFSETFROM:+0100
TZOFFSETTO:+0200
TZNAME:CEST
DTSTART:20240331T010000
END:DAYLIGHT
BEGIN:STANDARD
TZOFFSETFROM:+0200
TZOFFSETTO:+0100
TZNAME:CET
DTSTART:20241027T010000
END:STANDARD
BEGIN:DAYLIGHT
TZOFFSETFROM:+0100
TZOFFSETTO:+0200
TZNAME:CEST
DTSTART:20250330T010000
END:DAYLIGHT
BEGIN:STANDARD
TZOFFSETFROM:+0200
TZOFFSETTO:+0100
TZNAME:CET
DTSTART:20251026T010000
END:STANDARD
BEGIN:DAYLIGHT
TZOFFSETFROM:+0100
TZOFFSETTO:+0200
TZNAME:CEST
DTSTART:20260329T010000
END:DAYLIGHT
BEGIN:STANDARD
TZOFFSETFROM:+0200
TZOFFSETTO:+0100
TZNAME:CET
DTSTART:20261025T010000
END:STANDARD
END:VTIMEZONE
BEGIN:VEVENT
DTSTART;TZID=Europe/Budapest:20250521T130000
DTEND;TZID=Europe/Budapest:20250521T160000
DTSTAMP:20260420T134821
CREATED:20250506T063201Z
LAST-MODIFIED:20250506T083656Z
UID:10003108-1747832400-1747843200@pbkik.hu
SUMMARY:Zöld jövő a tetőn – vállalatlátogatás és workshop a Terránnál
DESCRIPTION:Hogyan válhat egy hagyományos gyártócég a fenntarthatóság mintapéldájává? A Terránnál személyesen nézhetjük meg\, hogyan valósul meg a zöld transzformáció – a napenergiától a napelemes tetőcserépig. \n \nA több mint 110 éves\, hazai tulajdonú vállalat nemcsak Magyarország piacvezető tetőcserépgyártója\, hanem saját fejlesztésű megoldásaival az iparági innováció élén jár. A pécsi vállalatlátogatáson a résztvevők bepillantást nyerhetnek a gyártás kulisszái mögé\, találkozhatnak a cég vezetőjével\, és kerekasztal-beszélgetésen vehetnek részt az energiaátmenet lehetőségeiről. \nKinek szól: kkv-döntéshozóknak\, energetikai és fenntarthatósági szakembereknek \nIdőpont: 2025. május 21. 13:00-16:00 \nHelyszín: Terrán Tetőcserép Gyártó Kft.\, 7630 Pécs Engel János József u. 8. \nA részvétel díjmentes\, de regisztrációhoz kötött. \nRészletes program és regisztráció:  https://formacio.hu/zold-jovo-a-teton
URL:https://pbkik.hu/esemeny/zold-jovo-a-teton-vallalatlatogatas-es-workshop-a-terrannal/
LOCATION:Terrán Tetőcserépgyártó Kft.\, Engel János József u. 8.\, Pécs\, 7630\, Magyarország
END:VEVENT
END:VCALENDAR