BEGIN:VCALENDAR
VERSION:2.0
PRODID:-//Pécs-Baranyai Kereskedelmi és Iparkamara - ECPv6.15.20//NONSGML v1.0//EN
CALSCALE:GREGORIAN
METHOD:PUBLISH
X-ORIGINAL-URL:https://pbkik.hu
X-WR-CALDESC:Események Pécs-Baranyai Kereskedelmi és Iparkamara
REFRESH-INTERVAL;VALUE=DURATION:PT1H
X-Robots-Tag:noindex
X-PUBLISHED-TTL:PT1H
BEGIN:VTIMEZONE
TZID:Europe/Helsinki
BEGIN:DAYLIGHT
TZOFFSETFROM:+0200
TZOFFSETTO:+0300
TZNAME:EEST
DTSTART:20170326T010000
END:DAYLIGHT
BEGIN:STANDARD
TZOFFSETFROM:+0300
TZOFFSETTO:+0200
TZNAME:EET
DTSTART:20171029T010000
END:STANDARD
BEGIN:DAYLIGHT
TZOFFSETFROM:+0200
TZOFFSETTO:+0300
TZNAME:EEST
DTSTART:20180325T010000
END:DAYLIGHT
BEGIN:STANDARD
TZOFFSETFROM:+0300
TZOFFSETTO:+0200
TZNAME:EET
DTSTART:20181028T010000
END:STANDARD
BEGIN:DAYLIGHT
TZOFFSETFROM:+0200
TZOFFSETTO:+0300
TZNAME:EEST
DTSTART:20190331T010000
END:DAYLIGHT
BEGIN:STANDARD
TZOFFSETFROM:+0300
TZOFFSETTO:+0200
TZNAME:EET
DTSTART:20191027T010000
END:STANDARD
END:VTIMEZONE
BEGIN:VEVENT
DTSTART;TZID=Europe/Helsinki:20181108T093000
DTEND;TZID=Europe/Helsinki:20181108T133000
DTSTAMP:20260420T114655
CREATED:20181112T104611Z
LAST-MODIFIED:20190826T103310Z
UID:10001563-1541669400-1541683800@pbkik.hu
SUMMARY:B-Light projekt tájékoztató Szigetváron
DESCRIPTION:A Baranya Megyei Fejlesztési Ügynökség az INTERREG V-A\, B-Light projekt kapcsán\ntájékoztató céllal roadshowt tart\, melynek szigetvári időpontja 2018. november 8 (csütörtök). \n \n\n09.30 – 10.00 Regisztráció\n\n10.00 – 10.10 Elnöki Köszöntő – Befektetés ösztönzési programok Baranyában\, valamint a baranyai vállalkozások lehetőségei a térségben: Madaras Zoltán\, a Baranya Megyei Közgyűlés Elnöke\n\n10.10 – 10.20 Ipari parkok fejlesztése és egyéb befektetés ösztönző beruházások a megyében: Sebestyén Attila\, Baranya Megyei Önkormányzat Területfejlesztési Osztályának osztályvezetője\n\n10.20 – 10.35 Baranyai vállalkozások múltja és jövője az Európai Unióban (nemzetköziesedés\, finanszírozási lehetőségek\, határon átnyúló lehetőségek): dr. Göndöcs István\, B-Light vállalkozói tanácsadó\n\n10.35 – 10.50 Baranyai vállalkozások lehetőségei az Interreg V -A\, B Light projekt\nkeretén belül\, valamint a 3. felhívás bemutatása: Göndöcsné Agócs Dóra\, B-Light vállalkozói tanácsadó\n\n10.50 – 11.00 Baranyai vállalkozói bemutatkozások\n\n11.00 – 12.00 Kérdések és válaszok\, személyes konzultáció\, tapasztalatcsere.\n\nA meghívó ITT tekinthető meg.\n\nA részvétel ingyenes\, de regisztrációhoz kötött. Regisztrálni ITT lehet.
URL:https://pbkik.hu/esemeny/b-light-projekt-roadshow-szigetvaron/
LOCATION:Városháza Szigetvár\, Zrínyi tér 1.\, Szigetvár\, Baranya\, 7900\, Magyarország
END:VEVENT
END:VCALENDAR