BEGIN:VCALENDAR
VERSION:2.0
PRODID:-//Pécs-Baranyai Kereskedelmi és Iparkamara - ECPv6.15.20//NONSGML v1.0//EN
CALSCALE:GREGORIAN
METHOD:PUBLISH
X-ORIGINAL-URL:https://pbkik.hu
X-WR-CALDESC:Események Pécs-Baranyai Kereskedelmi és Iparkamara
REFRESH-INTERVAL;VALUE=DURATION:PT1H
X-Robots-Tag:noindex
X-PUBLISHED-TTL:PT1H
BEGIN:VTIMEZONE
TZID:Europe/Helsinki
BEGIN:DAYLIGHT
TZOFFSETFROM:+0200
TZOFFSETTO:+0300
TZNAME:EEST
DTSTART:20190331T010000
END:DAYLIGHT
BEGIN:STANDARD
TZOFFSETFROM:+0300
TZOFFSETTO:+0200
TZNAME:EET
DTSTART:20191027T010000
END:STANDARD
BEGIN:DAYLIGHT
TZOFFSETFROM:+0200
TZOFFSETTO:+0300
TZNAME:EEST
DTSTART:20200329T010000
END:DAYLIGHT
BEGIN:STANDARD
TZOFFSETFROM:+0300
TZOFFSETTO:+0200
TZNAME:EET
DTSTART:20201025T010000
END:STANDARD
BEGIN:DAYLIGHT
TZOFFSETFROM:+0200
TZOFFSETTO:+0300
TZNAME:EEST
DTSTART:20210328T010000
END:DAYLIGHT
BEGIN:STANDARD
TZOFFSETFROM:+0300
TZOFFSETTO:+0200
TZNAME:EET
DTSTART:20211031T010000
END:STANDARD
END:VTIMEZONE
BEGIN:VEVENT
DTSTART;TZID=Europe/Helsinki:20200304T140000
DTEND;TZID=Europe/Helsinki:20200304T140000
DTSTAMP:20260419T164314
CREATED:20200226T132440Z
LAST-MODIFIED:20200227T091438Z
UID:10001736-1583330400-1583330400@pbkik.hu
SUMMARY:Knowledge to Money Club - 2020. március 4.
DESCRIPTION:Az Enterprise Europe Network partnereként tisztelettel meghívjuk Önt a következő Knowledge To Money Club napra\, melynek főszervezői a CE-Connector és a k2m.club. \nA klubnap társszervezője a Nemzeti Kutatási\, Fejlesztési és Innovációs Hivatal\, a HEPA Magyar Exportfejlesztési Ügynökség Nonprofit Zrt.\, Enterprise Europe Network\, és a MOSOLY.live. \nDátum: 2020. március 4. (szerda) 14.00 óra\n \nHelyszín: Nemzeti Kutatás Fejlesztési és Innovációs Hivatal (NKFIH)\, Budapest\, Kéthly Anna tér 1. II. emelet\, 231 sz. \nA hazai üzleti coach-okkal közösen szervezett rendezvénysorozat célja a magyar pályázók sikerességének javítása az EIC Accelerator programon belül. \nA rendezvényen való részvétel térítésmentes\, azonban előzetes regisztrációhoz kötött\, mely ide kattintva megtehető. \n  \nTervezett program: \n13:30 – 14:00 Érkezés\, regisztráció \n14.00 – 14:05 Rövid köszöntő\, a K2M Club célja\, eredmények\, tervek Dervalics Ákos – K2M Club \n14:05 – 14:10 Köszöntő\, Kardos Levente osztályvezető – HEPA Magyar Exportfejlesztési Ügynökség Nonprofit Zrt. \n14:10 – 14:25 Horizont 2020 KKV eszköz program változásai\, Divinyi Ágnes – Nemzeti Kutatási\, Fejlesztési és Innovációs Hivatal \n14:25 – 14:45 Út a nyeréshez 1. – Hetyey Gábor (CERC) Fast Track to Innovation nyertes  (prezentáció és kérdés-felelet) \n14:45 – 15:05 Co and Co – design a pályázat és piacra vitel folyamatához illesztve \n15:05 – 15:20 Kávészünet\, Networking \n15:20 – 15:30 CE-Connector bemutatkozik – Pesti István (alapító\, KKV partner) P-INVENT – (prezentáció és kérdés-felelet) \n15:30 – 15.40 CE-Connector és hazai innovációs alapok – TBD (alapító\, állami partner) MVA – (prezentáció és kérdés-felelet) \n15.40 – 15:50 Pályázatok egy bíráló szemével: Balogh András (Semmelweis Egyetem)\, (prezentáció és kérdés-felelet) \n15.50 Networking \n  \nA Pécs-Baranyai Kereskedelmi és Iparkamara – hivatalos Enterprise Europe Network partnerként – híradással\, és megfelelő számú dél-dunántúli jelentkező esetén közös utazással támogatja a rendezvényre való eljutást. \nDél-dunántúli érdeklődők számára: kérjük\, a részletek egyeztetése érdekében keresse Császár Gergely innovációs és iparfejlesztési osztályvezetőt az alábbi e-mail címen:\ncsaszar.gergely@pbkik.hu
URL:https://pbkik.hu/esemeny/knowledge-to-money-club-2020-marcius-4/
LOCATION:Nemzeti Kutatás Fejlesztési és Innovációs Hivatal (NKFIH)\, Kéthly Anna tér 1. II. emelet\, 230 sz.\, Budapest\, 1077\, Magyarország
END:VEVENT
END:VCALENDAR