BEGIN:VCALENDAR
VERSION:2.0
PRODID:-//Pécs-Baranyai Kereskedelmi és Iparkamara - ECPv6.15.20//NONSGML v1.0//EN
CALSCALE:GREGORIAN
METHOD:PUBLISH
X-ORIGINAL-URL:https://pbkik.hu
X-WR-CALDESC:Események Pécs-Baranyai Kereskedelmi és Iparkamara
REFRESH-INTERVAL;VALUE=DURATION:PT1H
X-Robots-Tag:noindex
X-PUBLISHED-TTL:PT1H
BEGIN:VTIMEZONE
TZID:Europe/Budapest
BEGIN:DAYLIGHT
TZOFFSETFROM:+0100
TZOFFSETTO:+0200
TZNAME:CEST
DTSTART:20250330T010000
END:DAYLIGHT
BEGIN:STANDARD
TZOFFSETFROM:+0200
TZOFFSETTO:+0100
TZNAME:CET
DTSTART:20251026T010000
END:STANDARD
BEGIN:DAYLIGHT
TZOFFSETFROM:+0100
TZOFFSETTO:+0200
TZNAME:CEST
DTSTART:20260329T010000
END:DAYLIGHT
BEGIN:STANDARD
TZOFFSETFROM:+0200
TZOFFSETTO:+0100
TZNAME:CET
DTSTART:20261025T010000
END:STANDARD
BEGIN:DAYLIGHT
TZOFFSETFROM:+0100
TZOFFSETTO:+0200
TZNAME:CEST
DTSTART:20270328T010000
END:DAYLIGHT
BEGIN:STANDARD
TZOFFSETFROM:+0200
TZOFFSETTO:+0100
TZNAME:CET
DTSTART:20271031T010000
END:STANDARD
END:VTIMEZONE
BEGIN:VTIMEZONE
TZID:Europe/Helsinki
BEGIN:DAYLIGHT
TZOFFSETFROM:+0200
TZOFFSETTO:+0300
TZNAME:EEST
DTSTART:20210328T010000
END:DAYLIGHT
BEGIN:STANDARD
TZOFFSETFROM:+0300
TZOFFSETTO:+0200
TZNAME:EET
DTSTART:20211031T010000
END:STANDARD
BEGIN:DAYLIGHT
TZOFFSETFROM:+0200
TZOFFSETTO:+0300
TZNAME:EEST
DTSTART:20220327T010000
END:DAYLIGHT
BEGIN:STANDARD
TZOFFSETFROM:+0300
TZOFFSETTO:+0200
TZNAME:EET
DTSTART:20221030T010000
END:STANDARD
BEGIN:DAYLIGHT
TZOFFSETFROM:+0200
TZOFFSETTO:+0300
TZNAME:EEST
DTSTART:20230326T010000
END:DAYLIGHT
BEGIN:STANDARD
TZOFFSETFROM:+0300
TZOFFSETTO:+0200
TZNAME:EET
DTSTART:20231029T010000
END:STANDARD
END:VTIMEZONE
BEGIN:VEVENT
DTSTART;TZID=Europe/Budapest:20260303T090000
DTEND;TZID=Europe/Budapest:20260303T150000
DTSTAMP:20260421T002713
CREATED:20260223T065035Z
LAST-MODIFIED:20260226T085242Z
UID:10003296-1772528400-1772550000@pbkik.hu
SUMMARY:Kreatív Ipari Kompetencia Program - nyitó konferencia
DESCRIPTION:A magyar kreatív ipar új korszak küszöbén áll. A technológiai fejlődés és a globalizáció soha nem látott lehetőségeket nyit meg\, ugyanakkor a hazai kis- és középvállalkozások előtt komoly kihívások is állnak: finanszírozási nehézségek\, tehetségmegtartás\, piaci pozicionálás. \n \nA Kreatív Ipari Klaszter 2026 elején indítja útjára a Kreatív Ipari Kompetencia Programot\, amely a Nemzetgazdasági Minisztérium által támogatott Üzleti Környezet Fejlesztési Program (ÜKFP) keretében valósul meg. Az egyéves program célja\, hogy a dél-dunántúli és hazai kreatív vállalkozások számára stratégiai támogatást\, kompetenciafejlesztést és nemzetközi perspektívát biztosítson. \n\nMiért érdemes részt vennie? \nA március 3-i nyitókonferencia az egy éves program hivatalos megnyitója. Keynote előadások\, panelbeszélgetések és szakmai programok keretében választ kaphat 2026 legégetőbb kérdéseire: \n\nFinanszírozás a kreatív iparban – hogyan navigálhat a pályázati és finanszírozási lehetőségek útvesztőjében?\nAI és digitalizáció – milyen szerepet játszik a mesterséges intelligencia a kreatív munkában?\nVállalkozói reziliencia – hogyan építhet stabil vállalkozást a bizonytalanságban?\nEgyüttműködések – hogyan teremthet ökoszisztémát\, amely versenyelőnyt biztosít?\nSzakértők és előadók\n\nA konferencia nem csupán előadásokból áll: teret kap a párbeszéd\, a kapcsolatépítés és a közösségi tanulás. A szakértők – vállalkozásfejlesztők\, pályázati tanácsadók\, AI-specialisták és üzleti mentorok – megosztják tudásukat és gyakorlati tapasztalataikat. \nKreatív Ipari Klaszter\nA teljesség igénye nélkül: \n\nRabb Szabolcs – A PBKIK főtitkára\nKeresnyei János – A Klaszter elnöke\, üzleti mentor\nEgry Dóra – Baranya Vármegyei Fejlesztési Ügynökség ügyvezetője\nUrbán Ernő – Az ERLA Film ügyvezetője\nMorvai Levente – A Charter Informatika ügyvezetője\nSchmidt Enikő – Az Enterprise Europe Network\, Kreatív ipari Szektorcsoport\n\nKinek ajánlják a szervezők? \n\nKreatív ipari vállalkozóknak\nStartUp alapítóknak\nKKV-k vezetőinek\nKreatív szakembereknek\nNetworking és kapcsolatépítés\n\nA networking szünetek és a közös ebéd lehetőséget teremt a személyes kapcsolatok kiépítésére és a későbbi együttműködések megalapozására. \nHelyszín: Pécs-Baranyai Kereskedelmi és Iparkamara (Pécs\, Dr. Majorossy Imre u. 36) \nIdőpont: 2026. március 3. (kedd)\, 09:00–15:00 \nA részvétel ingyenes\, de regisztrációhoz kötött! \nRegisztráció: www.kikk.hu/ukfp \nA programváltozás jogát fenntartják.
URL:https://pbkik.hu/esemeny/kreativ-ipari-kompetencia-program-nyito-konferencia/
LOCATION:Pécs-Baranyai Kereskedelmi és Iparkamara
ATTACH;FMTTYPE=image/avif:https://pbkik.hu/wp-content/uploads/2026/02/Kreativ-Ipari-Konferencia-nyito.avif
END:VEVENT
BEGIN:VEVENT
DTSTART;TZID=Europe/Helsinki:20220902T100000
DTEND;TZID=Europe/Helsinki:20220902T130000
DTSTAMP:20260421T002713
CREATED:20220706T075759Z
LAST-MODIFIED:20221122T092545Z
UID:10002223-1662112800-1662123600@pbkik.hu
SUMMARY:Workshop és személyes konzultációs lehetőség a 2022. őszén induló WORTH II. Projektről
DESCRIPTION:Szeptember végétől ismét várja a pályázatokat a WORTH Partnership Project! Az Európai Bizottság által finanszírozott\, vállalatok és KKV-k versenyképességét fejlesztő program (COSME) keretein belül meghirdetett partnerségi pályázat textil-\, ruha-\, bőr- és cipőipari pályázók mellett lakberendezés\, bútor\, ékszer és kiegészítő területekről is várják a jelentkezőket. Közel 200 projekt részesülhet 10-20 ezer eurós támogatásban! \nA Magyar Exportfejlesztési Ügynökség az Enterprise Europe Network konzorcium-vezető partnereként\, a Pécs-Baranyai Kereskedelmi- és Iparkamara és a Magyar Divat- és Design Ügynökség az alábbi pályázati felhívást és ehhez kapcsolódóan egy szeptemberre tervezett rendezvényt (személyes konzultációval egybekötött workshop) ajánl szíves figyelmükbe! \nWorkshop és személyes konzultációs lehetőség a 2022. őszén induló WORTH II. Projektről  \nHa EU finanszírozási lehetőséget és EU-s partnert is keres a kreatív és innovatív ötlete megvalósításához\, akkor várjuk szeretettel egy inspiratív workshopra\, ahol első kézből kaphat információkat és gyakorlati tanácsokat a részétel feltételeiről\, a pályázás menetéről és a korábbi tapasztalatokról! \nAz esemény a Budapest Central European Fashion Week kísérőrendezvénye. \nHelyszín:           HEPA Magyar Exportfejlesztési Ügynökség\, Budapest\, Kacsa utca 15-23.\, földszinti előadó \nTervezett időpont:         2022. szeptember 2.\, 10:00-13:00 \nElőadók: \n\nMányiné dr.Walek Gabriella\, WORTH nagykövet\nKeresnyei János\, WORTH projekt mentor\, Kreatív Ipari Klaszter elnök\nMegyesi Zsuzsa\, CEO és kreatív igazgató\, DosGolpes – WORTH projekt nyertes\n\nAz előadásokat követően a résztvevők személyesen konzultálhatnak az előadókkal! \nRegisztrálni a rendezvényre az alábbi oldalon keresztül lehet. A részvétel díjmentes\, de előzetes regisztrációhoz kötött\, melyet érkezési sorrendben 30 főig tudunk fogadni. \nRöviden a projektről:  \nA WORTH az egyetlen olyan európai projekt\, amelyben a dizájnerek\, a kis- és középvállalkozók\, a gyártók és a tech szféra szolgáltatói egymással nemzetközi szinten együttműködve fejlesztenek ki innovatív\, dizájnközpontú üzleti ötleteket. A program fókuszában olyan\, az életmódhoz kapcsolódó iparágak állnak\, mint például a divatipar\, a lakberendezés vagy belsőépítészet. \nA COSME a 2017 és 2021 között futó WORTH I. program népszerűsége (152 együttműködés 34 országból) és sikerei után – melynek első pályázati körében magyar részvétellel zajló projektek is kiválasztásra kerültek – 2022. őszén elindítja a WORTH II. második felhívását. A WORTH II. három felhívása keretében összesen 202 nemzetközi együttműködés támogatására kerül sor. \nA projekt inkubációs programot is magában foglal\, így segítve a KKV-kat új üzleti lehetőségekhez jutni. Ennek keretében a program résztvevői akár 10 000-20 000 eurós anyagi támogatásban\, valamint üzletstratégiai és technológiafejlesztési mentorálasban is részesülhetnek\, de igénybe vehetnek jogi tanácsadást is a szellemi tulajdonjoggal és annak védelmével kapcsolatos kérdésekben. A WORTH ezen felül részvételi lehetőséget biztosít szakmai kiállításokon\, és segít a KKV-knak fontos szakmai kapcsolati hálók kialakításában is. \nMár most érdemes a nemzetközi projekt partner keresésére időt szánni\, melyben díjmentes segítséget nyújtanak az Enterprise Europe Network hazai irodái! \nVárjuk jelentkezését: czagany.melinda@hepa.hu\, schmidt.eniko@pbkik.hu
URL:https://pbkik.hu/esemeny/workshop-es-szemelyes-konzultacios-lehetoseg-a-2022-oszen-indulo-worth-ii-projektrol/
LOCATION:HEPA Magyar Exportfejlesztési Ügynökség székháza\, 1027 Budapest\, Kacsa utca 15.\, Budapest\, 1027
END:VEVENT
END:VCALENDAR