BEGIN:VCALENDAR
VERSION:2.0
PRODID:-//Pécs-Baranyai Kereskedelmi és Iparkamara - ECPv6.15.20//NONSGML v1.0//EN
CALSCALE:GREGORIAN
METHOD:PUBLISH
X-WR-CALNAME:Pécs-Baranyai Kereskedelmi és Iparkamara
X-ORIGINAL-URL:https://pbkik.hu
X-WR-CALDESC:Események Pécs-Baranyai Kereskedelmi és Iparkamara
REFRESH-INTERVAL;VALUE=DURATION:PT1H
X-Robots-Tag:noindex
X-PUBLISHED-TTL:PT1H
BEGIN:VTIMEZONE
TZID:Europe/Helsinki
BEGIN:DAYLIGHT
TZOFFSETFROM:+0200
TZOFFSETTO:+0300
TZNAME:EEST
DTSTART:20180325T010000
END:DAYLIGHT
BEGIN:STANDARD
TZOFFSETFROM:+0300
TZOFFSETTO:+0200
TZNAME:EET
DTSTART:20181028T010000
END:STANDARD
BEGIN:DAYLIGHT
TZOFFSETFROM:+0200
TZOFFSETTO:+0300
TZNAME:EEST
DTSTART:20190331T010000
END:DAYLIGHT
BEGIN:STANDARD
TZOFFSETFROM:+0300
TZOFFSETTO:+0200
TZNAME:EET
DTSTART:20191027T010000
END:STANDARD
BEGIN:DAYLIGHT
TZOFFSETFROM:+0200
TZOFFSETTO:+0300
TZNAME:EEST
DTSTART:20200329T010000
END:DAYLIGHT
BEGIN:STANDARD
TZOFFSETFROM:+0300
TZOFFSETTO:+0200
TZNAME:EET
DTSTART:20201025T010000
END:STANDARD
END:VTIMEZONE
BEGIN:VEVENT
DTSTART;TZID=Europe/Helsinki:20191127T140000
DTEND;TZID=Europe/Helsinki:20191127T160000
DTSTAMP:20260420T032259
CREATED:20191120T074247Z
LAST-MODIFIED:20200204T161044Z
UID:10001984-1574863200-1574870400@pbkik.hu
SUMMARY:Kötelező NTAK a kereskedelmi szálláshelyeken a fizető vendéglátástól a szállodáig
DESCRIPTION:2019. december 1-től a regisztrációra kötelesek lesznek az egyéb szálláshelyek is pl. kempingek\, üdülőházak\, közösségi szálláshelyek\, falusi szálláshelyek. 2020. január 1-től minden szálláshelynek kötelező lesz az adatszolgáltatás. \nA Pécs-Baranyai Kereskedelmi és Iparkamara Siklós Városi Elnöksége szervezésében 2019. november 27-én 14.00 órakor tájékoztató rendezvény lesz a „Kötelező NTAK a kereskedelmi szálláshelyeken a fizető vendéglátástól a szállodáig” címmel a Siklósi Városi Könyvtár nagytermében. \nA rendezvényen az érintettek minden információt megkaphatnak\,  hogy a kötelező regisztráció és az azt követő adatszolgáltatás akadály nélkül megtörténhessen a felületen. \nProgram: \n  \n\n\n\n \n\n\n14.00-14.10\nKöszöntő  \ndr. Kovács Tibor\, PBKIK Siklós Városi Elnöke\n\n\n14.10-14.30\nAz adatközléshez szükséges regisztráció a gyakorlatban \nElőadó: Máltesics Norbert\, Tourinform Iroda-vezető Pécs\n\n\n14.35-14.55\nHa már muszáj\, miért ne hozhatna hasznot Önnek? \nElőadó: Tukora Gábor\, r3server.com KFT ügyvezetője\n\n\n15.00-15.20\nSiklós turisztikai szerepe a régióban \nElőadó: Mojzes Tamás\, Siklós alpolgármestere\n\n\n15.25-15.45\n180 fokos fordulat a szakképzésben \nElőadó: Piacsek László\, PBKIK HEF osztályvezető\n\n\n\n  \nA rendezvény ingyenes\, de regisztrációhoz kötött. Jelentkezni az alábbi űrlap kitöltésével lehet: \nA regisztráció lezárult. \n  \nJelentkezési határidő: 2019. 11. 26.
URL:https://pbkik.hu/esemeny/kotelezo-ntak-a-kereskedelmi-szallashelyeken-a-fizeto-vendeglatastol-a-szallodaig/
LOCATION:Siklós városi könyvtár\, Köztársaság tér 8.\, Siklós\, Baranya\, 7800\, Magyarország
ORGANIZER;CN="Sikl%C3%B3s V%C3%A1rosi Eln%C3%B6ks%C3%A9g":MAILTO:ebako@pbkik.hu
END:VEVENT
BEGIN:VEVENT
DTSTART;TZID=Europe/Helsinki:20190529T100000
DTEND;TZID=Europe/Helsinki:20190529T140000
DTSTAMP:20260420T032259
CREATED:20190510T143743Z
LAST-MODIFIED:20190604T142332Z
UID:10001614-1559124000-1559138400@pbkik.hu
SUMMARY:Határtalan Baranya
DESCRIPTION:A konferencia témája a helyi kiemelt turisztikai helyek által kínált lehetőségek és a vállalkozások kapcsolódási pontjai a baranyai turizmushoz. Az előadások vállalkozókat\, turisztikai szakembereket szólítanak meg. Kiemelt célunk az együttműködések kialakítása\, fejlesztése. A konferencia címe jelzi\, hogy az együttműködéseket szeretnénk kiterjeszteni a déli határra is. \nKonferenciánk kísérőjeként borkóstolót és kézműves vásárt szervezünk. \nA rendezvény ingyenes\, de a korlátozott férőhelyek miatt regisztrációhoz kötött. \n  \nIdőpont: 2019. május 29. \nHelszín: Siklósi Vár \n  \n\n\n\nProgram:\n\n\n\n\n\n\n\n10.00-10.10\nKöszöntő\n\n\n\n\n\n\n10.10-10.30\nAz Eszéki vár-turisztikai és gazdasági szerepe a régióban\n\n\n\nElőadó: szervezés alatt\n\n\n\n\n\n\n10.30-10.50\nA Siklósi vár helye a helyi vállalkozások és emberek életében\n\n\n\nElőadó: Szentgyörgyváry Péter\, Várkapitány\n\n\n\n\n\n\n10.50-11.10\n A Máriagyűdi bazilika helye és szerepe a régió gazdaságában\, idegenforgalmában\n\n\n\nElőadó: Bozóky Anita turisztikai osztályvezető\n\n\n\n\n\n\n11.10-12.00\n Kávészünet\n\n\n\n(A szünetben lehetőség van a Vár megtekintésére tárlatvezetővel.)\n\n\n\n\n\n\n12.00-12.20\n A Duna-Dráva Nemzeti Park-turisztikai kapcsolódási pontjai\n\n\n\nElőadó: Komlós Attila marketing menedzser\n\n\n\n\n\n\n12.20-12.40\nA Kopácsi rét-Együttműködési lehetőségek Baranyával\n\n\n\nElőadó: Forjan Renáta Idegenforgalmi osztályvezető\n\n\n\n\n\n\n12.40\nÁllófogadás\n\n\n\nA konferencián Horvátországból is hívunk vendégeket\, így lehetőség nyílik határon túli kapcsolatok kialakítására is. \nKöszönjük érdeklődését\, a regisztráció lezárult.
URL:https://pbkik.hu/esemeny/hatartalan-baranya/
LOCATION:Siklósi Vár\, Vajda János tér 8.\, Siklós\, Baranya\, 7800\, Magyarország
ORGANIZER;CN="Sikl%C3%B3s V%C3%A1rosi Eln%C3%B6ks%C3%A9g":MAILTO:ebako@pbkik.hu
END:VEVENT
END:VCALENDAR